BEGIN:VCALENDAR
VERSION:2.0
PRODID:-//Tabiano terme - ECPv6.15.11//NONSGML v1.0//EN
CALSCALE:GREGORIAN
METHOD:PUBLISH
X-WR-CALNAME:Tabiano terme
X-ORIGINAL-URL:https://tabianoterme.it
X-WR-CALDESC:Eventi per Tabiano terme
REFRESH-INTERVAL;VALUE=DURATION:PT1H
X-Robots-Tag:noindex
X-PUBLISHED-TTL:PT1H
BEGIN:VTIMEZONE
TZID:Europe/Rome
BEGIN:DAYLIGHT
TZOFFSETFROM:+0100
TZOFFSETTO:+0200
TZNAME:CEST
DTSTART:20210328T010000
END:DAYLIGHT
BEGIN:STANDARD
TZOFFSETFROM:+0200
TZOFFSETTO:+0100
TZNAME:CET
DTSTART:20211031T010000
END:STANDARD
BEGIN:DAYLIGHT
TZOFFSETFROM:+0100
TZOFFSETTO:+0200
TZNAME:CEST
DTSTART:20220327T010000
END:DAYLIGHT
BEGIN:STANDARD
TZOFFSETFROM:+0200
TZOFFSETTO:+0100
TZNAME:CET
DTSTART:20221030T010000
END:STANDARD
BEGIN:DAYLIGHT
TZOFFSETFROM:+0100
TZOFFSETTO:+0200
TZNAME:CEST
DTSTART:20230326T010000
END:DAYLIGHT
BEGIN:STANDARD
TZOFFSETFROM:+0200
TZOFFSETTO:+0100
TZNAME:CET
DTSTART:20231029T010000
END:STANDARD
END:VTIMEZONE
BEGIN:VEVENT
DTSTART;TZID=Europe/Rome:20220706T210000
DTEND;TZID=Europe/Rome:20220706T210000
DTSTAMP:20260423T110754
CREATED:20220628T102124Z
LAST-MODIFIED:20220630T090540Z
UID:10514-1657141200-1657141200@tabianoterme.it
SUMMARY:AcciDenti che collezione pazzesca al MuMab
DESCRIPTION:mercoledì 6 luglio alle ore 21:00 \nE se uno squalo avesse perso un dente proprio qui? Ma quanti altri denti possiamo trovare? \n10 milioni di anni fa i denti erano uguali a quelli di oggi? Molte domande a cui daremo risposta accompagnati da un’esperta che ci accompagnerà nel buio tra le sale del museo. \ncosa portare: \n1. torcia frontale o a mano per la visita\n2. Una buona dose di coraggio \ncosto: \n€ 8 ragazzi dai 5 ai 18 anni \n€ 6 adulti \ngratis bambini sotto i 5 anni \nPrenotazione obbligatoria \nFonte testo: millepioppi.it
URL:https://tabianoterme.it/event/accidenti-che-collezione-pazzesca/
LOCATION:MuMAB- Museo Mare Antico e Biodiversità\, Podere Millepioppi\, Salsomaggiore Terme\, PR\, 43039\, Italia
CATEGORIES:Camminata,Outdoor
ATTACH;FMTTYPE=image/jpeg:https://tabianoterme.it/wp-content/uploads/2022/06/IMG_20200822_205547-1-1536x1152-1.jpg
ORGANIZER;CN="MuMAB - Museo Mare Antico e Biodiversit%C3%A0":MAILTO:mumab@millepioppi.it
END:VEVENT
BEGIN:VEVENT
DTSTART;VALUE=DATE:20220629
DTEND;VALUE=DATE:20220630
DTSTAMP:20260423T110754
CREATED:20220628T095638Z
LAST-MODIFIED:20220628T102255Z
UID:10508-1656460800-1656547199@tabianoterme.it
SUMMARY:Sul monte Combu all'ascolto del succiacapre con Renato
DESCRIPTION:mercoledì 29 giugno alle ore 20:45 \nChe cos’è un Succiacapre? Questo uccello dalle piccole dimensioni è un cacciatore notturno: il suo piccolo corpo dotato di una testa importante e un becco largo\, lo rende molto abile nella cattura della preda\, che di solito è un insetto. \nUn’uscita notturna alla ricerca del cosiddetto fantasma della notte. \nAd accompagnarci l’esperto dell’Ente Parchi Renato Carini e le esperte guide del MuMAB \ncosa portare: \n1. torcia frontale o a mano per la passeggiata nel buio\n2. Una buona dose di coraggio \nPunto di partenza\nParcheggio del Lago Salmerino\, Località Pietra Nera di Salsomaggiore Terme \nDurata dell’escursione\n2\,5 ore circa \ncosto: \n€ 8 adulti \n€ 6 ragazzi dai 13 ai 18 anni \n€5 ragazzi dai 5 ai 12 anni \ngratis bambini sotto i 5 anni \nPrenotazione obbligatoria  \nFonte testo: millepioppi.it
URL:https://tabianoterme.it/event/sul-monte-combu-allascolto-del-succiacapre-con-renato/
LOCATION:Parcheggio lago Salmerino\, Località pietra Nera\, Salsomaggiore Terme\, PR\, 43039\, Italia
CATEGORIES:Camminata,Cultura,Outdoor
ATTACH;FMTTYPE=image/jpeg:https://tabianoterme.it/wp-content/uploads/2022/06/27017410413_dc5cc2c6ec_b-succiacapre.jpg
ORGANIZER;CN="MuMAB - Museo Mare Antico e Biodiversit%C3%A0":MAILTO:mumab@millepioppi.it
END:VEVENT
BEGIN:VEVENT
DTSTART;TZID=Europe/Rome:20220626T100000
DTEND;TZID=Europe/Rome:20220626T100000
DTSTAMP:20260423T110754
CREATED:20220620T142809Z
LAST-MODIFIED:20220620T142809Z
UID:10373-1656237600-1656237600@tabianoterme.it
SUMMARY:Merenda sotto i ciliegi con Lele al MuMAB
DESCRIPTION:Domenica 26 giugno 2022 ore 10.00 – al MuMAB\nLele\, esploratore di mondi antichi e moderni\, maestro di venture archeologiche\, botaniche e vagabonde ci accompagnerà in una serata magica. \nAneddoti\, curiosità sul mondo naturale e quello dei fossili\, raccontati in modo coinvolgente da Lele\, esploratore che tanto assomiglia a Raffaele Quarantelli\, il paleontofilo grazie al quale possiamo ammirare Giorgia\, Beatrice e tutti gli altri reperti custoditi al MuMAB. Attività ludica di avvicinamento alla lettura\, in cui non mancheranno sorprese e risate. \nPer i bimbi ci sarà anche una gustosa merenda da consumare nel prato ascoltando i racconti di Lele. \nPrenotazione obbligatoria \nIngresso: 8 euro per i ragazzi\, 6 euro dal secondo fratello\, adulti gratis \nFonte testo e foto: MuMAB
URL:https://tabianoterme.it/event/merenda-sotto-i-ciliegi-con-lele-al-mumab/
LOCATION:MuMAB- Museo Mare Antico e Biodiversità\, Podere Millepioppi\, Salsomaggiore Terme\, PR\, 43039\, Italia
CATEGORIES:Bambini e famiglie
ATTACH;FMTTYPE=image/jpeg:https://tabianoterme.it/wp-content/uploads/2022/06/IMG_20210905_175703-1-1-1024x473-1.jpeg
ORGANIZER;CN="MuMAB - Museo Mare Antico e Biodiversit%C3%A0":MAILTO:mumab@millepioppi.it
END:VEVENT
BEGIN:VEVENT
DTSTART;VALUE=DATE:20220521
DTEND;VALUE=DATE:20220523
DTSTAMP:20260423T110754
CREATED:20220426T135850Z
LAST-MODIFIED:20220426T135850Z
UID:10255-1653091200-1653263999@tabianoterme.it
SUMMARY:La Valigia del Viaggiatore - laboratorio al MuMAB
DESCRIPTION:Sabato 21 e domenica 22 maggio 2022 ore 16.30\nDopo un lungo viaggio sono finalmente arrivati gli Uccelli migratori! \nPer quale motivo questi viaggiatori piumati compiono viaggi così lunghi e pericolosi? Quali sono i migratori simbolo del Parco? Come possiamo osservarli senza dare loro fastidio? Scopriamolo insieme! \nI bambini partecipano senza la presenza dei genitori. La durata del laboratorio è di circa 1 ora e mezza.\nPrenotazione obbligatoria – massimo 12 partecipanti\nIngresso: 10 euro per i ragazzi\, 6 euro dal secondo fratello (laboratorio per bambini dai 6 ai 12 anni) \nFonte testo e foto: MuMAB
URL:https://tabianoterme.it/event/la-valigia-del-viaggiatore-laboratorio-al-mumab/
LOCATION:MuMAB- Museo Mare Antico e Biodiversità\, Podere Millepioppi\, Salsomaggiore Terme\, PR\, 43039\, Italia
CATEGORIES:Bambini e famiglie,Outdoor
ATTACH;FMTTYPE=image/png:https://tabianoterme.it/wp-content/uploads/2022/04/valigia-viaggiatori.png
ORGANIZER;CN="MuMAB - Museo Mare Antico e Biodiversit%C3%A0":MAILTO:mumab@millepioppi.it
END:VEVENT
BEGIN:VEVENT
DTSTART;VALUE=DATE:20220514
DTEND;VALUE=DATE:20220516
DTSTAMP:20260423T110754
CREATED:20220426T132915Z
LAST-MODIFIED:20220511T132408Z
UID:10250-1652486400-1652659199@tabianoterme.it
SUMMARY:"Stampa foglie" Laboratorio per bambini al MuMAB
DESCRIPTION:Sabato 14 e domenica 15 maggio 2022 ore 15.00 \nFoglie e fiori colorati mettono sempre allegria e danno un tocco di colore all’ambiente \nCon questo laboratorio i più piccoli osserveranno le specie di fiori più diffuse all’interno del Podere e le imprimeranno in medaglioni di terracotta da appendere per decorare le loro camerette. \nI bambini partecipano senza la presenza dei genitori\, la durata del laboratorio è di circa 1 ora e mezza.\nPrenotazione obbligatoria – massimo 12 partecipanti\nIngresso: 10 euro per i ragazzi\, 6 euro dal secondo fratello (laboratorio per bambini dai 6 ai 12 anni) \nFonte testo e foto: MuMAB
URL:https://tabianoterme.it/event/stampa-foglie-laboratorio-per-bambini-al-mumab/
LOCATION:MuMAB- Museo Mare Antico e Biodiversità\, Podere Millepioppi\, Salsomaggiore Terme\, PR\, 43039\, Italia
CATEGORIES:Bambini e famiglie,Outdoor
ATTACH;FMTTYPE=image/jpeg:https://tabianoterme.it/wp-content/uploads/2022/04/stampa-foglie-2-1-1024x576-1.jpeg
ORGANIZER;CN="MuMAB - Museo Mare Antico e Biodiversit%C3%A0":MAILTO:mumab@millepioppi.it
END:VEVENT
BEGIN:VEVENT
DTSTART;VALUE=DATE:20220416
DTEND;VALUE=DATE:20220419
DTSTAMP:20260423T110754
CREATED:20220411T132754Z
LAST-MODIFIED:20220411T132754Z
UID:10124-1650067200-1650326399@tabianoterme.it
SUMMARY:Visite guidate al MuMAB - Museo Mare Antico e Biodiversità
DESCRIPTION:Dal 5 settembre 2020 il MuMAB ha sede nel Podere Millepioppi all’interno del Parco Regionale dello Stirone e Piacenziano che fa parte dell’Ente Parchi del Ducato. La struttura è nata nel comune di Salsomaggiore Terme in provincia di Parma. Podere Millepioppi è un’area rurale confiscata alla criminalità e il Comune l’ha affidata al Parco con lo scopo di realizzare una nuova sede per gli uffici e progettare spazi naturali e culturali aperti al pubblico. \nOltre alla collezione di fossili del mare padano antico\, il museo rappresenta anche uno sguardo sulla biodiversità della nostra terra. Perché c’è una connessione molto stretta tra ciò che è stato\, ciò che è e ciò che sarà. Intorno a noi tutto cambia: la vita si evolve come si evolvono ambienti\, habitat e le specie viventi. \nNel weekend dal 16 aprile al18 aprile 2022 sono tante le esperienze che si possono vivere al Museo e nel Parco: \nMuMAB experience\nVisita tematica al museo e laboratorio didattico\nUna visita guidata dedicata a grandi e piccoli alla scoperta della storia del mare antico e della biodiversità custodita dal Parco dello Stirone e del Piacenziano. Le stagioni dettano la scansione dei contenuti di questo appuntamento pensato per coinvolgere i ragazzi insieme alle loro famiglie. \nSemplicemente MuMAB\nVisita guidata al museo\nAccompagnati da un’esperta guida partirete per un viaggio a ritroso nel tempo alla scoperta del mare antico che ricopriva la pianura padana \nMuMAB a cielo aperto\nVisita guidata al museo ed escursione nel Parco\nUna passeggiata nel Parco dello Stirone e Piacenziano partendo dal MuMAB \nFonte testo e foto: www.millepioppi.it
URL:https://tabianoterme.it/event/visite-guidate-al-mumab-museo-mare-antico-e-biodiversita/
LOCATION:MuMAB- Museo Mare Antico e Biodiversità\, Podere Millepioppi\, Salsomaggiore Terme\, PR\, 43039\, Italia
CATEGORIES:Bambini e famiglie,Museo,Outdoor
ATTACH;FMTTYPE=image/jpeg:https://tabianoterme.it/wp-content/uploads/2022/04/Museo_Mumab_interni_1-min-1-1024x684-1.jpeg
ORGANIZER;CN="MuMAB - Museo Mare Antico e Biodiversit%C3%A0":MAILTO:mumab@millepioppi.it
END:VEVENT
BEGIN:VEVENT
DTSTART;VALUE=DATE:20220409
DTEND;VALUE=DATE:20220411
DTSTAMP:20260423T110754
CREATED:20220328T134838Z
LAST-MODIFIED:20220328T134838Z
UID:10000-1649462400-1649635199@tabianoterme.it
SUMMARY:Quando le balene avevano le zampe - laboratorio al MuMAB
DESCRIPTION:Sabato 9\, Domenica 10 aprile 2022 ore 16:30\nChi era Charles Darwin? Come può ad aiutarci a capire da dove provengono le balene? \nCamminando nei corridoi del museo\, accompagnati da un’esperta guida potremo scoprire chi era Charles Darwin e capire come sia possibile che le balene\, prima\, avessero le zampe! \nI bambini partecipano senza la presenza dei genitori. \nLa durata del laboratorio è di circa 1 ora e mezza. \n10 euro per i ragazzi\, 6 euro dal secondo fratello\nPrenotazione obbligatoria cliccando qui \nFonte testo e foto: www.millepioppi.it
URL:https://tabianoterme.it/event/quando-le-balene-avevano-le-zampe-laboratorio-al-mumab/
LOCATION:MuMAB- Museo Mare Antico e Biodiversità\, Podere Millepioppi\, Salsomaggiore Terme\, PR\, 43039\, Italia
CATEGORIES:Bambini e famiglie
ATTACH;FMTTYPE=image/jpeg:https://tabianoterme.it/wp-content/uploads/2022/03/mumab-darwin-day.jpeg
ORGANIZER;CN="MuMAB - Museo Mare Antico e Biodiversit%C3%A0":MAILTO:mumab@millepioppi.it
END:VEVENT
BEGIN:VEVENT
DTSTART;VALUE=DATE:20220402
DTEND;VALUE=DATE:20220404
DTSTAMP:20260423T110754
CREATED:20220328T105649Z
LAST-MODIFIED:20220328T105649Z
UID:9995-1648857600-1649030399@tabianoterme.it
SUMMARY:Primavera al Podere Millepioppi
DESCRIPTION:Le prime fioriture al Podere Millepioppi – sabato 2 e domenica 3 aprile 2022 ore 9:00 \nLe temperature si alzano\, la natura si risveglia\, il Podere Millepioppi si colora.\nUna passeggiata in compagnia di un’esperta guida per osservare l’arrivo della primavera nel parco. \nIngresso:\nadulti 10 €\, ragazzi dai 13 ai 18 anni e over 65 9 €\, ragazzi dai 5 ai 12 anni 8 €\, sotto i 5 anni gratis\nPrenotazione obbligatoria sul sito www.millepioppi.it \nFonte testo e foto: www.millepioppi.it
URL:https://tabianoterme.it/event/primavera-al-podere-millepioppi/
LOCATION:MuMAB- Museo Mare Antico e Biodiversità\, Podere Millepioppi\, Salsomaggiore Terme\, PR\, 43039\, Italia
CATEGORIES:Outdoor,Visita guidata
ATTACH;FMTTYPE=image/jpeg:https://tabianoterme.it/wp-content/uploads/2022/03/primavera-fiori-scaled-1.jpeg
ORGANIZER;CN="MuMAB - Museo Mare Antico e Biodiversit%C3%A0":MAILTO:mumab@millepioppi.it
END:VEVENT
END:VCALENDAR