BEGIN:VCALENDAR
VERSION:2.0
PRODID:-//Tabiano terme - ECPv6.15.11//NONSGML v1.0//EN
CALSCALE:GREGORIAN
METHOD:PUBLISH
X-WR-CALNAME:Tabiano terme
X-ORIGINAL-URL:https://tabianoterme.it
X-WR-CALDESC:Eventi per Tabiano terme
REFRESH-INTERVAL;VALUE=DURATION:PT1H
X-Robots-Tag:noindex
X-PUBLISHED-TTL:PT1H
BEGIN:VTIMEZONE
TZID:Europe/Rome
BEGIN:DAYLIGHT
TZOFFSETFROM:+0100
TZOFFSETTO:+0200
TZNAME:CEST
DTSTART:20200329T010000
END:DAYLIGHT
BEGIN:STANDARD
TZOFFSETFROM:+0200
TZOFFSETTO:+0100
TZNAME:CET
DTSTART:20201025T010000
END:STANDARD
BEGIN:DAYLIGHT
TZOFFSETFROM:+0100
TZOFFSETTO:+0200
TZNAME:CEST
DTSTART:20210328T010000
END:DAYLIGHT
BEGIN:STANDARD
TZOFFSETFROM:+0200
TZOFFSETTO:+0100
TZNAME:CET
DTSTART:20211031T010000
END:STANDARD
BEGIN:DAYLIGHT
TZOFFSETFROM:+0100
TZOFFSETTO:+0200
TZNAME:CEST
DTSTART:20220327T010000
END:DAYLIGHT
BEGIN:STANDARD
TZOFFSETFROM:+0200
TZOFFSETTO:+0100
TZNAME:CET
DTSTART:20221030T010000
END:STANDARD
END:VTIMEZONE
BEGIN:VEVENT
DTSTART;VALUE=DATE:20211008
DTEND;VALUE=DATE:20211010
DTSTAMP:20260424T201135
CREATED:20211007T095711Z
LAST-MODIFIED:20211007T095711Z
UID:9854-1633651200-1633823999@tabianoterme.it
SUMMARY:Visite guidate a Palazzo Orsoline di Fidenza – Fiera di San Donnino 2021
DESCRIPTION:Anche quest’anno in occasione della festa per il patrono\, il personale della biblioteca effettuerà aperture straordinarie e visite guidate gratuite al Palazzo Orsoline e alle sue collezioni. \nVisite a Palazzo Orsoline:\nvenerdì 8 ottobre ore 15.30 e ore 17.00\nsabato 9 ottobre ore 15.30 e ore 17.00\nPrenotazione obbligatoria al numero 0524 517390\nGreen pass obbligatorio. \nSabato 9 ottobre dalle ore 10 alle ore 13 sarà possibile visitare il Museo Civico del Risorgimento Luigi Musini.\nAlle ore 10.30 verrà fatta una visita guidata alla scoperta delle collezioni sia ottocentesche\, sia novecentesche del museo. \nPrenotazione obbligatoria al numero 0524 517390\nGreen pass obbligatorio.
URL:https://tabianoterme.it/event/visite-guidate-a-palazzo-orsoline-di-fidenza-fiera-di-san-donnino-2021/
LOCATION:Palazzo delle Orsoline\, via Berenini\, 133\, Fidenza\, 43036\, Italia
CATEGORIES:Visita guidata
ATTACH;FMTTYPE=image/jpeg:https://tabianoterme.it/wp-content/uploads/2021/10/visite-guidate-orsoline-fidenza-san-donnino-2021-1920x1440-1.jpeg
END:VEVENT
END:VCALENDAR