BEGIN:VCALENDAR
VERSION:2.0
PRODID:-//Tabiano terme - ECPv6.15.11//NONSGML v1.0//EN
CALSCALE:GREGORIAN
METHOD:PUBLISH
X-WR-CALNAME:Tabiano terme
X-ORIGINAL-URL:https://tabianoterme.it
X-WR-CALDESC:Eventi per Tabiano terme
REFRESH-INTERVAL;VALUE=DURATION:PT1H
X-Robots-Tag:noindex
X-PUBLISHED-TTL:PT1H
BEGIN:VTIMEZONE
TZID:Europe/Rome
BEGIN:DAYLIGHT
TZOFFSETFROM:+0100
TZOFFSETTO:+0200
TZNAME:CEST
DTSTART:20240331T010000
END:DAYLIGHT
BEGIN:STANDARD
TZOFFSETFROM:+0200
TZOFFSETTO:+0100
TZNAME:CET
DTSTART:20241027T010000
END:STANDARD
BEGIN:DAYLIGHT
TZOFFSETFROM:+0100
TZOFFSETTO:+0200
TZNAME:CEST
DTSTART:20250330T010000
END:DAYLIGHT
BEGIN:STANDARD
TZOFFSETFROM:+0200
TZOFFSETTO:+0100
TZNAME:CET
DTSTART:20251026T010000
END:STANDARD
BEGIN:DAYLIGHT
TZOFFSETFROM:+0100
TZOFFSETTO:+0200
TZNAME:CEST
DTSTART:20260329T010000
END:DAYLIGHT
BEGIN:STANDARD
TZOFFSETFROM:+0200
TZOFFSETTO:+0100
TZNAME:CET
DTSTART:20261025T010000
END:STANDARD
END:VTIMEZONE
BEGIN:VEVENT
DTSTART;VALUE=DATE:20250301
DTEND;VALUE=DATE:20250302
DTSTAMP:20260424T185424
CREATED:20250115T103222Z
LAST-MODIFIED:20250203T104428Z
UID:12695-1740787200-1740873599@tabianoterme.it
SUMMARY:Alla Scoperta del Vino di Parma: Visita il Museo del Vino di Sala Baganza
DESCRIPTION:Scopri la storia e la cultura del vino della provincia di Parma al Museo del Vino\, situato nelle affascinanti cantine della Rocca di Sala Baganza. Immerso in una zona tradizionalmente vocata alla viticoltura\, il museo offre un percorso sensoriale e educativo attraverso sei sezioni che esplorano l’evoluzione del vino dal periodo preistorico fino ai giorni nostri\, con un focus particolare sul territorio parmense. \nIl museo racconta la storia della viticoltura locale\, dalle origini celtiche della produzione del vino\, fino all’influenza delle tecniche francesi introdotte dai Borbone\, con un richiamo particolare alla passione di Garibaldi per la Malvasia e all’amore per la viticoltura di Giuseppe Verdi. Tra le diverse esperienze\, i visitatori possono percorrere una suggestiva ghiacciaia rinascimentale\, esplorare le tradizioni vinicole\, scoprire la storia delle botti e dei contenitori per il vino\, e conoscere i pionieri e le varietà della viticultura parmense. \nIl percorso si conclude con una degustazione nella suggestiva enoteca sotterranea della Rocca\, dove poter assaporare i vini locali abbinati ai formaggi e salumi del territorio. \nDove: Rocca di Sala Baganza\, Parma\nQuando: Sabato\, Domenica e Festivi dalle ore 10.00 alle 18.00 \nE-mail: prenotazioni.vino@museidelcibo.it
URL:https://tabianoterme.it/event/alla-scoperta-del-vino-di-parma-visita-al-museo-del-vino-di-sala-baganza/
LOCATION:Rocca di Sala Baganza\, Piazza Antonio Gramsci\, 1\, Sala Baganza PR\, 43038\, Italia
CATEGORIES:Bambini e famiglie,Enogastronomia,Food
ATTACH;FMTTYPE=image/jpeg:https://tabianoterme.it/wp-content/uploads/2025/01/BLOG-4-19.jpg
ORGANIZER;CN="Musei del Cibo della Provincia di Parma":MAILTO:info@museidelcibo.it
END:VEVENT
END:VCALENDAR