BEGIN:VCALENDAR
VERSION:2.0
PRODID:-//Tabiano terme - ECPv6.15.11//NONSGML v1.0//EN
CALSCALE:GREGORIAN
METHOD:PUBLISH
X-ORIGINAL-URL:https://tabianoterme.it/en/
X-WR-CALDESC:Events for Tabiano terme
REFRESH-INTERVAL;VALUE=DURATION:PT1H
X-Robots-Tag:noindex
X-PUBLISHED-TTL:PT1H
BEGIN:VTIMEZONE
TZID:Europe/Rome
BEGIN:DAYLIGHT
TZOFFSETFROM:+0100
TZOFFSETTO:+0200
TZNAME:CEST
DTSTART:20200329T010000
END:DAYLIGHT
BEGIN:STANDARD
TZOFFSETFROM:+0200
TZOFFSETTO:+0100
TZNAME:CET
DTSTART:20201025T010000
END:STANDARD
BEGIN:DAYLIGHT
TZOFFSETFROM:+0100
TZOFFSETTO:+0200
TZNAME:CEST
DTSTART:20210328T010000
END:DAYLIGHT
BEGIN:STANDARD
TZOFFSETFROM:+0200
TZOFFSETTO:+0100
TZNAME:CET
DTSTART:20211031T010000
END:STANDARD
BEGIN:DAYLIGHT
TZOFFSETFROM:+0100
TZOFFSETTO:+0200
TZNAME:CEST
DTSTART:20220327T010000
END:DAYLIGHT
BEGIN:STANDARD
TZOFFSETFROM:+0200
TZOFFSETTO:+0100
TZNAME:CET
DTSTART:20221030T010000
END:STANDARD
END:VTIMEZONE
BEGIN:VEVENT
DTSTART;TZID=Europe/Rome:20210715T203000
DTEND;TZID=Europe/Rome:20210715T223000
DTSTAMP:20260422T003431
CREATED:20210708T131807Z
LAST-MODIFIED:20210708T131807Z
UID:9228-1626381000-1626388200@tabianoterme.it
SUMMARY:Camminata sotto le stelle partendo da Tabiano Terme
DESCRIPTION:Una piacevole passeggiata sotto le stelle nella natura tra le colline di Tabiano Terme \nUn percorso facile\, con leggeri sali scendi\, meravigliose vedute panoramiche e sentieri ricchi di storia\nCamminata in compagnia delle Guide della Val d’Arda \nPercorso con difficoltà turistica\, tipo di fondo: sentiero\, strada bianca e asfalto. Torce in dotazione\nDislivello in salita circa 250 m \nRitrovo ore 20.30 a Tabiano Terme – rientro previsto per le ore 22.30\nCosto 5\,00 € a persona \nPrenotazione obbligatoria in hotel oppure info@tabianoterme.it \nFonte foto: photos.visitsalsomaggiore.it
URL:https://tabianoterme.it/en/event/camminata-sotto-le-stelle-partendo-da-tabiano-terme/
LOCATION:Tabiano Terme
CATEGORIES:Camminata
ATTACH;FMTTYPE=image/jpeg:https://tabianoterme.it/wp-content/uploads/2021/07/Tabiano-parco.jpg
ORGANIZER;CN="Consorzio Abitabiano":MAILTO:info@tabianoterme.it
END:VEVENT
END:VCALENDAR