BEGIN:VCALENDAR
VERSION:2.0
PRODID:-//Tabiano terme - ECPv6.15.11//NONSGML v1.0//EN
CALSCALE:GREGORIAN
METHOD:PUBLISH
X-WR-CALNAME:Tabiano terme
X-ORIGINAL-URL:https://tabianoterme.it
X-WR-CALDESC:Eventi per Tabiano terme
REFRESH-INTERVAL;VALUE=DURATION:PT1H
X-Robots-Tag:noindex
X-PUBLISHED-TTL:PT1H
BEGIN:VTIMEZONE
TZID:Europe/Rome
BEGIN:DAYLIGHT
TZOFFSETFROM:+0100
TZOFFSETTO:+0200
TZNAME:CEST
DTSTART:20250330T010000
END:DAYLIGHT
BEGIN:STANDARD
TZOFFSETFROM:+0200
TZOFFSETTO:+0100
TZNAME:CET
DTSTART:20251026T010000
END:STANDARD
BEGIN:DAYLIGHT
TZOFFSETFROM:+0100
TZOFFSETTO:+0200
TZNAME:CEST
DTSTART:20260329T010000
END:DAYLIGHT
BEGIN:STANDARD
TZOFFSETFROM:+0200
TZOFFSETTO:+0100
TZNAME:CET
DTSTART:20261025T010000
END:STANDARD
BEGIN:DAYLIGHT
TZOFFSETFROM:+0100
TZOFFSETTO:+0200
TZNAME:CEST
DTSTART:20270328T010000
END:DAYLIGHT
BEGIN:STANDARD
TZOFFSETFROM:+0200
TZOFFSETTO:+0100
TZNAME:CET
DTSTART:20271031T010000
END:STANDARD
END:VTIMEZONE
BEGIN:VEVENT
DTSTART;TZID=Europe/Rome:20260118T160000
DTEND;TZID=Europe/Rome:20260118T170000
DTSTAMP:20260421T075632
CREATED:20260108T091817Z
LAST-MODIFIED:20260108T091817Z
UID:14154-1768752000-1768755600@tabianoterme.it
SUMMARY:Sciroppo di Teatro – Racconto alla rovescia
DESCRIPTION:Domenica 18 gennaio 2026\, ore 16:00 – Teatro G. Magnani \nSciroppo di Teatro – Racconto alla rovescia \nArturo riceve 7 doni dalla Morte. Ogni dono è un conto alla rovescia\, ogni attesa una scoperta. Inizia così un viaggio delicato e potente\, dove crescere significa imparare a contare il tempo non più alla rovescia\, ma verso la meraviglia. \nEtà consigliata: dai 3 anni \nGenere spettacolo: teatro di narrazione \nproduzione Compagnia MOMOM\ntesto e regia Claudio Milani\nmusiche originali Andrea Bernasconi\, Emanuele Lo Porto\, Debora Chiantella\nscenografie Elisabetta Viganò\, Armando Milani\nprogettazione Elettronica Marco Trapanese\nluci Fulvio Melli\nfotografie di scena Paolo Luppino\ntelo Monica Molteni\norganizzazione Simona Cattaneo \nL’edizione 2026 di 𝐒𝐜𝐢𝐫𝐨𝐩𝐩𝐨 𝐝𝐢 𝐓𝐞𝐚𝐭𝐫𝐨® è sostenuta da Fondazione di Modena\, Fondazione Marchesini ACT\, Coop Alleanza 3.0 ed Emilbanca. \n\n\nSarà possibile acquistare i biglietti in biglietteria presso il teatro e online sul circuito Vivaticket \nPer ulteriori informazioni sulle modalità di acquisto e prenotazioni potete contattare la biglietteria ai seguenti riferimenti:\nWhatsapp 3459374728\nTel. 0524517508 \nORARI BIGLIETTERIA\nmercoledì e sabato dalle 10 alle 13\nvenerdì dalle 17 alle 19 \n  \nFonte testo e foto: ATER
URL:https://tabianoterme.it/event/sciroppo-di-teatro-racconto-alla-rovescia/
LOCATION:Teatro Magnani di Fidenza\, Piazza Verdi 1\, Fidenza
CATEGORIES:Bambini e famiglie,Intrattenimento,Teatro
ATTACH;FMTTYPE=image/webp:https://tabianoterme.it/wp-content/uploads/2026/01/Sciroppo_di_teatro_Racconto_alla_rovescia_gennaio26.webp
END:VEVENT
END:VCALENDAR