BEGIN:VCALENDAR
VERSION:2.0
PRODID:-//Tabiano terme - ECPv6.15.11//NONSGML v1.0//EN
CALSCALE:GREGORIAN
METHOD:PUBLISH
X-ORIGINAL-URL:https://tabianoterme.it
X-WR-CALDESC:Eventi per Tabiano terme
REFRESH-INTERVAL;VALUE=DURATION:PT1H
X-Robots-Tag:noindex
X-PUBLISHED-TTL:PT1H
BEGIN:VTIMEZONE
TZID:Europe/Rome
BEGIN:DAYLIGHT
TZOFFSETFROM:+0100
TZOFFSETTO:+0200
TZNAME:CEST
DTSTART:20250330T010000
END:DAYLIGHT
BEGIN:STANDARD
TZOFFSETFROM:+0200
TZOFFSETTO:+0100
TZNAME:CET
DTSTART:20251026T010000
END:STANDARD
BEGIN:DAYLIGHT
TZOFFSETFROM:+0100
TZOFFSETTO:+0200
TZNAME:CEST
DTSTART:20260329T010000
END:DAYLIGHT
BEGIN:STANDARD
TZOFFSETFROM:+0200
TZOFFSETTO:+0100
TZNAME:CET
DTSTART:20261025T010000
END:STANDARD
BEGIN:DAYLIGHT
TZOFFSETFROM:+0100
TZOFFSETTO:+0200
TZNAME:CEST
DTSTART:20270328T010000
END:DAYLIGHT
BEGIN:STANDARD
TZOFFSETFROM:+0200
TZOFFSETTO:+0100
TZNAME:CET
DTSTART:20271031T010000
END:STANDARD
END:VTIMEZONE
BEGIN:VEVENT
DTSTART;TZID=Europe/Rome:20260131T210000
DTEND;TZID=Europe/Rome:20260131T230000
DTSTAMP:20260421T054749
CREATED:20260108T093401Z
LAST-MODIFIED:20260108T093401Z
UID:14176-1769893200-1769900400@tabianoterme.it
SUMMARY:“Le volpi” al Teatro di Ragazzola
DESCRIPTION:Stagione teatrale 2025-2026\nEtica ed estetica \nSabato 31 gennaio 2026\, ore 21:15 \nLE VOLPI\ncon Giorgio Colangeli\, Manuela Mandracchia\, Federica Ombrato\nuno spettacolo di Compagnia CapoTrave\, Lucia Franchi\, Luca Ricci\nscena e regia Luca Ricci\nproduzione Infinito \nNell’ombra di una sala da pranzo\, all’ora del caffè\, in un’assolata domenica di agosto\, si incontrano due piccoli notabili della politica locale e la figlia di uno di loro. Davanti a un vassoio di biscotti vegani si confessano legittimi appetiti e interessi naturali\, si stringono e si sciolgono accordi\, si regola la maniera migliore di distribuire favori e concessioni. La corruzione è proprio il concedere a se stessi lo spazio di una impercettibile eccezione. \n  \nFonte testo e foto: https://www.teatrodiragazzola.it
URL:https://tabianoterme.it/event/le-volpi-al-teatro-di-ragazzola/
LOCATION:Teatro di Ragazzola\, Strada Provinciale\, 78\, Ragazzola\, Parma\, 43010\, Italia
CATEGORIES:Bambini e famiglie,Intrattenimento,Teatro
ATTACH;FMTTYPE=image/webp:https://tabianoterme.it/wp-content/uploads/2026/01/Le-Volpi_Ragazzola_310126.webp
ORGANIZER;CN="Teatro di Ragazzola":MAILTO:teatrodiragazzola@aruba.it
END:VEVENT
END:VCALENDAR