BEGIN:VCALENDAR
VERSION:2.0
PRODID:-//Tabiano terme - ECPv6.15.11//NONSGML v1.0//EN
CALSCALE:GREGORIAN
METHOD:PUBLISH
X-ORIGINAL-URL:https://tabianoterme.it
X-WR-CALDESC:Eventi per Tabiano terme
REFRESH-INTERVAL;VALUE=DURATION:PT1H
X-Robots-Tag:noindex
X-PUBLISHED-TTL:PT1H
BEGIN:VTIMEZONE
TZID:Europe/Rome
BEGIN:DAYLIGHT
TZOFFSETFROM:+0100
TZOFFSETTO:+0200
TZNAME:CEST
DTSTART:20250330T010000
END:DAYLIGHT
BEGIN:STANDARD
TZOFFSETFROM:+0200
TZOFFSETTO:+0100
TZNAME:CET
DTSTART:20251026T010000
END:STANDARD
BEGIN:DAYLIGHT
TZOFFSETFROM:+0100
TZOFFSETTO:+0200
TZNAME:CEST
DTSTART:20260329T010000
END:DAYLIGHT
BEGIN:STANDARD
TZOFFSETFROM:+0200
TZOFFSETTO:+0100
TZNAME:CET
DTSTART:20261025T010000
END:STANDARD
BEGIN:DAYLIGHT
TZOFFSETFROM:+0100
TZOFFSETTO:+0200
TZNAME:CEST
DTSTART:20270328T010000
END:DAYLIGHT
BEGIN:STANDARD
TZOFFSETFROM:+0200
TZOFFSETTO:+0100
TZNAME:CET
DTSTART:20271031T010000
END:STANDARD
END:VTIMEZONE
BEGIN:VEVENT
DTSTART;TZID=Europe/Rome:20260111T163000
DTEND;TZID=Europe/Rome:20260111T183000
DTSTAMP:20260424T221544
CREATED:20260108T084940Z
LAST-MODIFIED:20260108T084940Z
UID:14139-1768149000-1768156200@tabianoterme.it
SUMMARY:“Il più furbo. Disavventure di un incorreggibile lupo” a Busseto
DESCRIPTION:Sciroppo di Teatro\nDomenica 11 Gennaio 2026\nIl più furbo. Disavventure di un incorreggibile lupo \nTeatro Gioco Vita Busseto (PR) Teatro Giuseppe Verdi Ore 16:30 \nIl Lupo ha un piano: mangiare Cappuccetto Rosso e la nonna. Ma qualcosa va storto… chiuso fuori casa e scambiato per una vecchietta\, incontra i personaggi delle fiabe! Una storia divertente e sorprendente\, dove il più furbo scopre che forse… non lo è poi così tanto. \nEtà consigliata: dai 3 anni \nGenere spettacolo: teatro d’ombre \ncon Andrea Coppone / Andrea Lopez Nunes\nadattamento teatrale Enrica Carini\, Fabrizio Montecchi\nregia e scene Fabrizio Montecchi\nsagome Nicoletta Garioni\, Federica Ferrari (dai disegni di Mario Ramos)\nmusiche Paolo Codognola\ncoreografie Andrea Coppone\ncostumi Tania Fedeli\ndisegno luci Anna Adorno\nluci e fonica Anna Adorno / Alberto Marvisi\nassistente alla regia Enrica Carini\, Katja Gorečan\nrealizzazione sagome Nicoletta Garioni\, Federica Ferrari\nrealizzazione scene Sergio Bernasani \nLo spettacolo è tratto dai libri di Mario Ramos Le plus malin\, C’est moi le plus beau e C’est moi le plus fort editi da l’école des loisirs\, Parigi \nTeatro Giuseppe Verdi Piazza Giuseppe Verdi\, 10 43011 Busseto (PR)\nbussetolive.com/it/\nBiglietteria\nTel 0524 92487\nEmail info@bussetolive.com \nFonte testo e foto: https://www.ater.emr.it
URL:https://tabianoterme.it/event/il-piu-furbo-disavventure-di-un-incorreggibile-lupo-a-busseto/
LOCATION:teatro busseto
CATEGORIES:Bambini e famiglie,Teatro
ATTACH;FMTTYPE=image/webp:https://tabianoterme.it/wp-content/uploads/2026/01/sciroppo-di-teatro-busseto-gennaio-2026.webp
END:VEVENT
END:VCALENDAR