BEGIN:VCALENDAR
VERSION:2.0
PRODID:-//Tabiano terme - ECPv6.15.11//NONSGML v1.0//EN
CALSCALE:GREGORIAN
METHOD:PUBLISH
X-ORIGINAL-URL:https://tabianoterme.it
X-WR-CALDESC:Eventi per Tabiano terme
REFRESH-INTERVAL;VALUE=DURATION:PT1H
X-Robots-Tag:noindex
X-PUBLISHED-TTL:PT1H
BEGIN:VTIMEZONE
TZID:Europe/Rome
BEGIN:DAYLIGHT
TZOFFSETFROM:+0100
TZOFFSETTO:+0200
TZNAME:CEST
DTSTART:20220327T010000
END:DAYLIGHT
BEGIN:STANDARD
TZOFFSETFROM:+0200
TZOFFSETTO:+0100
TZNAME:CET
DTSTART:20221030T010000
END:STANDARD
BEGIN:DAYLIGHT
TZOFFSETFROM:+0100
TZOFFSETTO:+0200
TZNAME:CEST
DTSTART:20230326T010000
END:DAYLIGHT
BEGIN:STANDARD
TZOFFSETFROM:+0200
TZOFFSETTO:+0100
TZNAME:CET
DTSTART:20231029T010000
END:STANDARD
BEGIN:DAYLIGHT
TZOFFSETFROM:+0100
TZOFFSETTO:+0200
TZNAME:CEST
DTSTART:20240331T010000
END:DAYLIGHT
BEGIN:STANDARD
TZOFFSETFROM:+0200
TZOFFSETTO:+0100
TZNAME:CET
DTSTART:20241027T010000
END:STANDARD
END:VTIMEZONE
BEGIN:VEVENT
DTSTART;TZID=Europe/Rome:20230602T210000
DTEND;TZID=Europe/Rome:20230602T230000
DTSTAMP:20260424T153511
CREATED:20230601T122652Z
LAST-MODIFIED:20230601T122652Z
UID:11049-1685739600-1685746800@tabianoterme.it
SUMMARY:Una serata con la Banda in piazza a Tabiano Terme
DESCRIPTION:Venerdì 2 giugno 2023  – Una serata in musica insieme al Complesso Bandistico “Città di Salsomaggiore Terme” per godere della buona musica e dell’aria fresca che solo Tabiano Terme può regalare in una notte di mezza estate. \nLa banda si esibirà in Piazza Verdi\, Tabiano Terme \n  \nFoto: Complesso Bandistico “Città di Salsomaggiore Terme”
URL:https://tabianoterme.it/event/una-serata-con-la-banda-in-piazza-a-tabiano-terme-3/
LOCATION:Tabiano Terme
CATEGORIES:Musica
ATTACH;FMTTYPE=image/jpeg:https://tabianoterme.it/wp-content/uploads/2021/07/banda-salso.jpg
ORGANIZER;CN="Consorzio Abitabiano":MAILTO:info@tabianoterme.it
END:VEVENT
END:VCALENDAR