BEGIN:VCALENDAR
VERSION:2.0
PRODID:-//Tabiano terme - ECPv6.15.11//NONSGML v1.0//EN
CALSCALE:GREGORIAN
METHOD:PUBLISH
X-WR-CALNAME:Tabiano terme
X-ORIGINAL-URL:https://tabianoterme.it
X-WR-CALDESC:Eventi per Tabiano terme
REFRESH-INTERVAL;VALUE=DURATION:PT1H
X-Robots-Tag:noindex
X-PUBLISHED-TTL:PT1H
BEGIN:VTIMEZONE
TZID:Europe/Rome
BEGIN:DAYLIGHT
TZOFFSETFROM:+0100
TZOFFSETTO:+0200
TZNAME:CEST
DTSTART:20240331T010000
END:DAYLIGHT
BEGIN:STANDARD
TZOFFSETFROM:+0200
TZOFFSETTO:+0100
TZNAME:CET
DTSTART:20241027T010000
END:STANDARD
BEGIN:DAYLIGHT
TZOFFSETFROM:+0100
TZOFFSETTO:+0200
TZNAME:CEST
DTSTART:20250330T010000
END:DAYLIGHT
BEGIN:STANDARD
TZOFFSETFROM:+0200
TZOFFSETTO:+0100
TZNAME:CET
DTSTART:20251026T010000
END:STANDARD
BEGIN:DAYLIGHT
TZOFFSETFROM:+0100
TZOFFSETTO:+0200
TZNAME:CEST
DTSTART:20260329T010000
END:DAYLIGHT
BEGIN:STANDARD
TZOFFSETFROM:+0200
TZOFFSETTO:+0100
TZNAME:CET
DTSTART:20261025T010000
END:STANDARD
END:VTIMEZONE
BEGIN:VEVENT
DTSTART;TZID=Europe/Rome:20251118T080000
DTEND;TZID=Europe/Rome:20251127T180000
DTSTAMP:20260424T172147
CREATED:20251113T094455Z
LAST-MODIFIED:20251113T100238Z
UID:13864-1763452800-1764266400@tabianoterme.it
SUMMARY:Novembre in Rosso – Voci\, volti\, azioni contro la violenza sulle donne
DESCRIPTION:Dal 18 al 25 novembre al Palazzo dei Congressi\, alla Corte Civica Tommasini e per le strade di Salsomaggiore \nProgramma\nTutte dormon sulla collina\nMartedì 18 novembre ore 18.00 – Corte Civica Tommasini\nSpettacolo della Compagnia Teatrale The Butterflies del CRAL AUSL PARMA. Con la regia di Franca Tragni \nIspirato all’Antologia di Spoon River di Edgar Lee Masters\, Tutte dormon sulla collina è uno spettacolo che dà voce a chi non può più parlare. Attraverso monologhi e frammenti di memoria\, la Compagnia Teatrale The Butterflies del CRAL AUSL Parma\, diretta da Franca Tragni\, intreccia storie di vita\, sogni interrotti\, amori e rimpianti.\nIn questo coro di voci sospese affiora anche il dolore della violenza sulle donne\, trasformando il teatro in luogo di memoria\, denuncia e consapevolezza. \nDurante la serata saranno esposte opere pittoriche sul tema della violenza di genere\, a cura di Arte&Cultura di Parma.\nUn invito a fermarsi\, ascoltare\, ricordare. \nSe tu avessi parlato\nDomenica 23 novembre ore 16.00 – Corte Civica Tommasini \nReading poetico musicale a cura delle associazioni Lilt\, 365 volte donna\, Arte&Cultura di Parma.\nTesti di Franca Tragni\, musica all’arpa di Carla They \nC’è un’energia sacra nella rabbia delle donne: una forza antica fatta di coraggio\, resistenza e verità. In questo reading evocativo\, le voci di Circe\, Maria Maddalena\, Desdemona\, Artemisia Gentileschi\, Anna Göldi\, Camille Claudel e di molte altre donne che hanno lottato contro l’ingiustizia tornano a farsi sentire\, accompagnate dalla magia dell’arpa di Carla They.\nUn omaggio alla forza femminile e alla ribellione contro il silenzio imposto\, tra parole\, musica e memoria.\nNella sala saranno esposte opere pittoriche sul tema della violenza contro le donne\, a cura di Arte&Cultura di Parma. \nCamminiamo insieme contro la violenza: parole passi\, presenza\nMartedì 25 novembre ore 20.30 \nA cura di un gruppo di donne salsesi coordinate da Anna Giordano\, Associazione 365 volte donna e Arte&Cultura di Parma; con la partecipazione dell’attrice Paola Ferrari e Brunella Bardi alla fisarmonica. \nIl 25 novembre le vie della città si trasformano in un percorso di consapevolezza\, memoria e impegno.\nUna camminata simbolica per dare voce alle donne che hanno subito violenza\, a chi lotta ogni giorno per la propria libertà e a chi non può più farlo.\nOgni passo è un gesto di solidarietà e speranza\, ogni parola una luce accesa contro il silenzio.\nCamminiamo insieme per affermare che la violenza non è mai giustificabile e che solo con rispetto\, dignità e comunità possiamo costruire un futuro più giusto e umano. \nPercorso da definire. In caso di maltempo la manifestazione si svolgerà presso la Sala Civica Mainardi – Palazzo dei Congressi. \nIncontri per le scuole\nIn rete con consapevolezza: l’impatto dei social sulle relazioni e la violenza di genere\nMartedì 18 novembre ore 9.00 – Sala Cariatidi – Palazzo dei Congressi \nPer gli allievi dell’Istituto Magnaghi Solari \nLike\, foto\, rispetto: quando i social diventano violenza\nGiovedì 27 novembre ore 9.00 – Corte Civica Tommasini \nPer gli allievi dell’Istituto Comprensivo di Salsomaggiore
URL:https://tabianoterme.it/event/novembre-in-rosso-voci-volti-azioni-contro-la-violenza-sulle-donne/
LOCATION:Corte Civica Tommasini\, Viale Filippo Corridoni 1\, Salsomaggiore Terme\, Italia\, 43039\, Italia
CATEGORIES:Arte e Cultura,Camminata,Incontro
ATTACH;FMTTYPE=image/jpeg:https://tabianoterme.it/wp-content/uploads/2025/11/scarpe-rosse-25-nov.jpg
END:VEVENT
BEGIN:VEVENT
DTSTART;TZID=Europe/Rome:20251120T080000
DTEND;TZID=Europe/Rome:20251123T233000
DTSTAMP:20260424T172147
CREATED:20251113T095510Z
LAST-MODIFIED:20251113T095510Z
UID:13891-1763625600-1763940600@tabianoterme.it
SUMMARY:Campionato di Catch’n Serve Ball: in mille a Salsomaggiore con il sostegno del Ministro dello Sport e della Regione Emilia Romagna
DESCRIPTION:Le gare rientrano nel maxi evento Donne e sport che AiCS e la Federazione Catch’n Serve Ball promuovono per celebrare la parità alla vigilia della Giornata contro la violenza di genere – dal 20 al 23 novembre prossimi \nAiCS si prepara a celebrare la parità di genere e la lotta a ogni forma di violenza attraverso lo sport. Alla vigilia della Giornata internazionale contro la violenza di genere\, dal 20 al 23 novembre prossimi torna il Campionato nazionale di Catch’n Serve Ball: questa volta sarà Salsomaggiore Terme (nel Parmense) a ospitare le gare che rientrano nel maxi evento Donne e Sport – Contro ogni violenza di genere. La manifestazione – promossa dalla Direzione nazionale AiCS (con l’ufficio sport e la commissione tecnica di Catch’n Serve Ball) e dalla Federazione di Catch ‘n Serve Ball\, in collaborazione con AiCS Emilia Romagna e AiCS Parma – gode del sostegno della Regione Emilia Romagna e del contributo del Ministro dello Sport e dei Giovani. \nDonne e sport. Oltre le gare c’è di più \nNon si tratterà infatti solo di sport ma sarà occasione di formazione internazionale e confronto: oltre 350 tra atlete e atleti sono già iscritti alle gare dello sport che mischia la pallavolo alla palla rilanciata e che è aperta a uomini e donne in modo del tutto inclusivo\, ma gli eventi collaterali porteranno a Salsomaggiore oltre mille persone tra formatori\, dirigenti sportivi\, accompagnatori e istituzioni.\nLa manifestazione prevede infatti una masterclass (sui temi della tecnica sportiva e della salute femminile) condotta da Tatjana Gerber\, formatrice della Federazione Internazionale del Catch’n Serve Ball\, e un panel contro ogni forma di violenza e per lo sport come leva di empowerment femminile e dal titolo “Donne e sport”: l’incontro pubblico si terrà venerdì sera e coinvolgerà esperti di salute\, atlete e istituzioni (il programma sarà reso noto a breve). \nIl programma prevede anche gli esami finali del corso di formazione per 30 arbitri (iniziato un mese prima) di Catch’n Serve Ball: gli arbitri costituiranno una risorsa importante soprattutto per i Comitati Regionali e Provinciali che intendono organizzare eventi e gare (nazionali e internazionali) di Catch’n Serve Ball a livello locale in autonomia. \nNon mancherà poi lo spazio per il terzo tempo con la serata ricreativa\, sabato 22 – quando atlete e atleti si raduneranno per partecipare alla trasmissione televisiva SportivaMente\, talk prodotto da AiCS in onda su Canale 62 del Digitale terrestre (DonnaTv) e la cui puntata del 22 novembre sarà dedicata al tema del contrasto alla violenza di genere e ospiterà diverse buone pratiche di sport quale leva di lotta a ogni forma di discriminazione\, tra cui lo stesso Campionato di Catch’n Serve Ball. \nIl Campionato: atleti e categorie \nPoiché il Catch’n Serve Ball è una disciplina sportiva inclusiva\, nata per favorire la partecipazione attiva di donne di tutte le età e livelli\, con particolare attenzione all’accessibilità per mamme\, donne sopra i 30 anni\, over 70\, persone con disabilità e categorie a rischio di esclusione sportiva\, l’evento nazionale ha l’obiettivo di sviluppare una comunità sportiva di base aperta e partecipativa\, dove lo sport ha il ruolo di strumento inclusivo per le donne e per tutta la famiglia. Per questo\, le gare – che si svolgeranno al PalaCotonella e nella palestra “Gerini” di Salsomaggiore – saranno totalmente gratuite al pubblico. In totale gli iscritti alla competizione sportiva sono oltre 350: 20 le squadre femminili\, 5 quelle maschili. L’organizzazione sportiva è affidata alla commissione tecnica di Catch’n Serve Ball\, guidata da Monica Zibellini.  
URL:https://tabianoterme.it/event/campionato-di-catchn-serve-ball-in-mille-a-salsomaggiore-con-il-sostegno-del-ministro-dello-sport-e-della-regione-emilia-romagna/
LOCATION:Salsomaggiore Terme\, Parma\, 43039\, Italia
CATEGORIES:Salute e benessere,Sport
ATTACH;FMTTYPE=image/jpeg:https://tabianoterme.it/wp-content/uploads/2025/11/Campionato-di-Catchn-Serve-Ball-in-mille-a-Salsomaggiore-con-il-sostegno-del-Ministro-dello-Sport-e-della-Regione-Emilia-Romagna-1-300x225-1.jpg
END:VEVENT
END:VCALENDAR