BEGIN:VCALENDAR
VERSION:2.0
PRODID:-//Tabiano terme - ECPv6.15.11//NONSGML v1.0//EN
CALSCALE:GREGORIAN
METHOD:PUBLISH
X-ORIGINAL-URL:https://tabianoterme.it
X-WR-CALDESC:Eventi per Tabiano terme
REFRESH-INTERVAL;VALUE=DURATION:PT1H
X-Robots-Tag:noindex
X-PUBLISHED-TTL:PT1H
BEGIN:VTIMEZONE
TZID:Europe/Rome
BEGIN:DAYLIGHT
TZOFFSETFROM:+0100
TZOFFSETTO:+0200
TZNAME:CEST
DTSTART:20240331T010000
END:DAYLIGHT
BEGIN:STANDARD
TZOFFSETFROM:+0200
TZOFFSETTO:+0100
TZNAME:CET
DTSTART:20241027T010000
END:STANDARD
BEGIN:DAYLIGHT
TZOFFSETFROM:+0100
TZOFFSETTO:+0200
TZNAME:CEST
DTSTART:20250330T010000
END:DAYLIGHT
BEGIN:STANDARD
TZOFFSETFROM:+0200
TZOFFSETTO:+0100
TZNAME:CET
DTSTART:20251026T010000
END:STANDARD
BEGIN:DAYLIGHT
TZOFFSETFROM:+0100
TZOFFSETTO:+0200
TZNAME:CEST
DTSTART:20260329T010000
END:DAYLIGHT
BEGIN:STANDARD
TZOFFSETFROM:+0200
TZOFFSETTO:+0100
TZNAME:CET
DTSTART:20261025T010000
END:STANDARD
END:VTIMEZONE
BEGIN:VEVENT
DTSTART;VALUE=DATE:20250616
DTEND;VALUE=DATE:20251001
DTSTAMP:20260425T174858
CREATED:20250704T074718Z
LAST-MODIFIED:20250704T074718Z
UID:13354-1750032000-1759276799@tabianoterme.it
SUMMARY:Mostra Fotografica “Il Corso dei Fiori: una festa per tutta la città”
DESCRIPTION:Mostra fotografica alle Terme Zoja – Salsomaggiore Terme\n“Il Corso dei Fiori: una festa per tutta la città”\n \nIn occasione della 15ª edizione del concorso “Salso in fiore – Balconi e giardini fioriti”\, le Associazioni 365 Volte Donna e Circolo Fotografico Zoom presentano la mostra fotografica “Il Corso dei Fiori: una festa per tutta la città”\, allestita al 2° piano delle Terme Zoja e visitabile fino a settembre. \nAttraverso 80 pannelli fotografici\, la mostra racconta la magia del Corso dei Fiori\, l’evento floreale che ha reso unici gli anni ’50 e ’60 a Salsomaggiore Terme. Un’iniziativa nata dalla passione e dalla creatività dei cittadini\, che ha saputo unire la comunità e dare colore alla città. \nOgni anno\, la terza domenica di giugno\, viale Berenini e l’anello del Parco Mazzini si trasformavano in un tripudio di colori e profumi\, grazie a una spettacolare sfilata di carri fioriti\, accompagnati da bande musicali e gruppi folcloristici. Migliaia di garofani di Sanremo decoravano i carri\, su cui sfilavano con orgoglio le ragazze salsesi\, pronte a lanciare fiori al pubblico festante. \nIl Corso dei Fiori era anche un evento glamour\, con una giuria d’eccezione composta da attrici\, cantanti e volti noti della televisione e dello spettacolo. \nUn viaggio nella storia e nelle emozioni di un’intera comunità\, da rivivere attraverso immagini suggestive e ricordi indimenticabili. \n👉 Non perdere questa occasione unica per riscoprire un pezzo prezioso della tradizione di Salsomaggiore Terme!
URL:https://tabianoterme.it/event/mostra-fotografica-il-corso-dei-fiori-una-festa-per-tutta-la-citta/
LOCATION:Salsomaggiore e Tabiano Terme\, Parchi\, Salsomaggiore e Tabiano Terme\, Parma\, 43039\, Italia
CATEGORIES:Mostra
ATTACH;FMTTYPE=image/jpeg:https://tabianoterme.it/wp-content/uploads/2025/07/Corso-dei-Fiori.jpg
END:VEVENT
BEGIN:VEVENT
DTSTART;TZID=Europe/Rome:20250802T210000
DTEND;TZID=Europe/Rome:20250802T230000
DTSTAMP:20260425T174858
CREATED:20250724T101505Z
LAST-MODIFIED:20250724T101505Z
UID:13424-1754168400-1754175600@tabianoterme.it
SUMMARY:“Flauti all’opera” – Salso Summer Class & Festival
DESCRIPTION:All’Opera! \nA Salsomaggiore Terme prende il via la 16° edizione del Salso Summer Class & Festival\, festival a cura della Fondazione I Musici di Parma\, che anche quest’anno anima l’estate salsese e parmense con la più bella musica classica\, unendo grandi interpreti internazionali a giovani talenti. Firma la direzione artistica Carlo D’Alessandro Caprice.\nIl festival\, che si inserisce nel progetto Il Suono della Bellezza\, si svolge tra Salsomaggiore Terme e i suggestivi territori circostanti\, in location particolarmente ricche di fascino e arte\, come la Sala delle Cariatidi del Palazzo dei Congressi e\, per i concerti “fuori porta”\, la caratteristica Pieve Romanica di San Giovanni\, in località Contignaco. \n“Opera” è una parola che oggi usiamo spesso per indicare uno dei generi teatrali e musicali più rappresentati al mondo. Tuttavia\, il suo significato originario – dal latino opera – rimanda al lavoro consapevole\, alla fatica creativa\, al valore dell’impegno e della conoscenza. \nAll’Opera! è il titolo scelto per la programmazione 2025\, e rappresenta\, prima di tutto\, un invito a non dimenticare la dedizione instancabile con cui I Musici di Parma e la loro Accademia lavorano da anni sul territorio. Un impegno che ha dato vita a un polo culturale d’eccellenza\, favorendo la crescita di giovani talenti e stimolando un vivace scambio artistico tra musicisti italiani e internazionali\, molti dei quali oggi calcano i palcoscenici più prestigiosi d’Europa. \nIl cuore della stagione sarà la musica d’opera\, italiana e internazionale: arie\, sinfonie e trascrizioni strumentali renderanno omaggio a una delle forme artistiche più complete e affascinanti\, nella terra di Giuseppe Verdi\, tra le meraviglie naturali e architettoniche del nostro territorio. \nFlauti all’opera\nSabato 2 agosto 2025\, ore 21:15\nSalsomaggiore Terme (PR) | Nuova Corte Civica Tommasini\, Viale Filippo Corridoni\, 1\nI Musici di Parma\, orchestra\nCon gli allievi delle classi di flauto e ottavino\, solisti\nMusiche di W. A. Mozart\, F. Born\, F. Doppler\nIl fascino aereo del flauto nei teatri dell’opera e oltre: virtuosismo e incanto \nIngresso gratuito \n  \nFonte testo: https://visitsalsomaggiore.it\nFonte foto: https://imusicidiparma.it
URL:https://tabianoterme.it/event/flauti-allopera-salso-summer-class-festival/
LOCATION:Nuova corta civica Tommasini Salsomaggiore Terme\, Viale Filippo Corridoni\, 1\, Salsomaggiore Terme\, PR\, 43039\, Italia
CATEGORIES:Concerto,Intrattenimento,Musica
ATTACH;FMTTYPE=image/webp:https://tabianoterme.it/wp-content/uploads/2025/07/I-Musici-di-Parma-Salso-Summer-Class-e-Festival-2.webp
ORGANIZER;CN="I Musici di Parma":MAILTO:info@imusicidiparma.it
END:VEVENT
END:VCALENDAR