BEGIN:VCALENDAR
VERSION:2.0
PRODID:-//Tabiano terme - ECPv6.15.11//NONSGML v1.0//EN
CALSCALE:GREGORIAN
METHOD:PUBLISH
X-ORIGINAL-URL:https://tabianoterme.it
X-WR-CALDESC:Eventi per Tabiano terme
REFRESH-INTERVAL;VALUE=DURATION:PT1H
X-Robots-Tag:noindex
X-PUBLISHED-TTL:PT1H
BEGIN:VTIMEZONE
TZID:Europe/Rome
BEGIN:DAYLIGHT
TZOFFSETFROM:+0100
TZOFFSETTO:+0200
TZNAME:CEST
DTSTART:20250330T010000
END:DAYLIGHT
BEGIN:STANDARD
TZOFFSETFROM:+0200
TZOFFSETTO:+0100
TZNAME:CET
DTSTART:20251026T010000
END:STANDARD
BEGIN:DAYLIGHT
TZOFFSETFROM:+0100
TZOFFSETTO:+0200
TZNAME:CEST
DTSTART:20260329T010000
END:DAYLIGHT
BEGIN:STANDARD
TZOFFSETFROM:+0200
TZOFFSETTO:+0100
TZNAME:CET
DTSTART:20261025T010000
END:STANDARD
BEGIN:DAYLIGHT
TZOFFSETFROM:+0100
TZOFFSETTO:+0200
TZNAME:CEST
DTSTART:20270328T010000
END:DAYLIGHT
BEGIN:STANDARD
TZOFFSETFROM:+0200
TZOFFSETTO:+0100
TZNAME:CET
DTSTART:20271031T010000
END:STANDARD
END:VTIMEZONE
BEGIN:VEVENT
DTSTART;TZID=Europe/Rome:20260322T160000
DTEND;TZID=Europe/Rome:20260322T190000
DTSTAMP:20260422T215924
CREATED:20260220T084526Z
LAST-MODIFIED:20260220T084526Z
UID:14390-1774195200-1774206000@tabianoterme.it
SUMMARY:Visita guidata e laboratorio di pittura con spezie alla Rocca dei Terzi
DESCRIPTION:Domenica 22 marzo 2026\, ore 16:00 – Rocca dei Terzi di Sissa-Trecasali \nL’osservazione degli affreschi della Rocca sarà occasione per ispirare le proprie opere che saranno realizzate in compagnia di un maestro d’arte che insegnerà ad utilizzare le spezie come pigmenti per opere ad acquerello. \nLa manifestazione si svolge anche in caso di maltempo. \nCosto della manifestazione: € 10.00 \nPer informazioni e prenotazioni: 347 4485947\, turismo@comune.sissatrecasali.pr.it \n  \nFonte testo: Castelli del Ducato
URL:https://tabianoterme.it/event/visita-guidata-e-laboratorio-di-pittura-con-spezie-alla-rocca-dei-terzi/
LOCATION:rocca dei terzi
CATEGORIES:Arte e Cultura,Intrattenimento
ATTACH;FMTTYPE=image/webp:https://tabianoterme.it/wp-content/uploads/2026/02/Visite-e-pittura-con-spezie_Rocca-dei-Terzi_Sissa_Trecasali.webp
END:VEVENT
END:VCALENDAR