BEGIN:VCALENDAR
VERSION:2.0
PRODID:-//Tabiano terme - ECPv6.15.11//NONSGML v1.0//EN
CALSCALE:GREGORIAN
METHOD:PUBLISH
X-WR-CALNAME:Tabiano terme
X-ORIGINAL-URL:https://tabianoterme.it
X-WR-CALDESC:Eventi per Tabiano terme
REFRESH-INTERVAL;VALUE=DURATION:PT1H
X-Robots-Tag:noindex
X-PUBLISHED-TTL:PT1H
BEGIN:VTIMEZONE
TZID:Europe/Rome
BEGIN:DAYLIGHT
TZOFFSETFROM:+0100
TZOFFSETTO:+0200
TZNAME:CEST
DTSTART:20250330T010000
END:DAYLIGHT
BEGIN:STANDARD
TZOFFSETFROM:+0200
TZOFFSETTO:+0100
TZNAME:CET
DTSTART:20251026T010000
END:STANDARD
BEGIN:DAYLIGHT
TZOFFSETFROM:+0100
TZOFFSETTO:+0200
TZNAME:CEST
DTSTART:20260329T010000
END:DAYLIGHT
BEGIN:STANDARD
TZOFFSETFROM:+0200
TZOFFSETTO:+0100
TZNAME:CET
DTSTART:20261025T010000
END:STANDARD
BEGIN:DAYLIGHT
TZOFFSETFROM:+0100
TZOFFSETTO:+0200
TZNAME:CEST
DTSTART:20270328T010000
END:DAYLIGHT
BEGIN:STANDARD
TZOFFSETFROM:+0200
TZOFFSETTO:+0100
TZNAME:CET
DTSTART:20271031T010000
END:STANDARD
END:VTIMEZONE
BEGIN:VEVENT
DTSTART;TZID=Europe/Rome:20260208T150000
DTEND;TZID=Europe/Rome:20260208T170000
DTSTAMP:20260423T093834
CREATED:20260121T103934Z
LAST-MODIFIED:20260121T103934Z
UID:14211-1770562800-1770570000@tabianoterme.it
SUMMARY:Al ritmo della natura - 4 - La pozione magica!
DESCRIPTION:Passeggiata nel Parco a tema evoluzione\nDurante l’escursione partiremo per una missione speciale: raccogliere gli ingredienti fondamentali per preparare una pozione magica capace di donarci un potere straordinario… la CONOSCENZA!\nMa attenzione: questa non è una pozione qualunque. Per funzionare richiede curiosità\, spirito di osservazione e voglia di scoprire. \nOgni ingrediente rappresenta una tappa della storia dell’evoluzione della vita sulla Terra e dovrà essere aggiunto seguendo il giusto ordine evolutivo.\nSe sbagliamo ordine… la pozione perderà ogni potere!\nDa dove si comincia? Una ghianda di quercia o una piuma d’uccello? Una squama di serpente o il pelo di un tasso? \nAccompagnati da una guida esperta\, impareremo a osservare il bosco con occhi nuovi\, a porci domande e a scoprire come piante e animali sono cambiati nel tempo.\nPasso dopo passo\, ingrediente dopo ingrediente\, costruiremo la nostra pozione… e con essa una nuova consapevolezza della natura che ci circonda. \nL’ attività si svolge all’interno dell’iniziativa Domeniche Detox della Regione Emilia Romagna
URL:https://tabianoterme.it/event/al-ritmo-della-natura-4-la-pozione-magica/
LOCATION:MuMAB- Museo Mare Antico e Biodiversità\, Podere Millepioppi\, Salsomaggiore Terme\, PR\, 43039\, Italia
CATEGORIES:Bambini e famiglie,Camminata,Outdoor,Salute e benessere,Visita guidata
ATTACH;FMTTYPE=image/webp:https://tabianoterme.it/wp-content/uploads/2026/01/Al-ritmo-della-natura-4-Mumab-Salsomaggiore.webp
ORGANIZER;CN="MuMAB - Museo Mare Antico e Biodiversit%C3%A0":MAILTO:mumab@millepioppi.it
END:VEVENT
END:VCALENDAR