BEGIN:VCALENDAR
VERSION:2.0
PRODID:-//Tabiano terme - ECPv6.15.11//NONSGML v1.0//EN
CALSCALE:GREGORIAN
METHOD:PUBLISH
X-WR-CALNAME:Tabiano terme
X-ORIGINAL-URL:https://tabianoterme.it
X-WR-CALDESC:Eventi per Tabiano terme
REFRESH-INTERVAL;VALUE=DURATION:PT1H
X-Robots-Tag:noindex
X-PUBLISHED-TTL:PT1H
BEGIN:VTIMEZONE
TZID:Europe/Rome
BEGIN:DAYLIGHT
TZOFFSETFROM:+0100
TZOFFSETTO:+0200
TZNAME:CEST
DTSTART:20220327T010000
END:DAYLIGHT
BEGIN:STANDARD
TZOFFSETFROM:+0200
TZOFFSETTO:+0100
TZNAME:CET
DTSTART:20221030T010000
END:STANDARD
BEGIN:DAYLIGHT
TZOFFSETFROM:+0100
TZOFFSETTO:+0200
TZNAME:CEST
DTSTART:20230326T010000
END:DAYLIGHT
BEGIN:STANDARD
TZOFFSETFROM:+0200
TZOFFSETTO:+0100
TZNAME:CET
DTSTART:20231029T010000
END:STANDARD
BEGIN:DAYLIGHT
TZOFFSETFROM:+0100
TZOFFSETTO:+0200
TZNAME:CEST
DTSTART:20240331T010000
END:DAYLIGHT
BEGIN:STANDARD
TZOFFSETFROM:+0200
TZOFFSETTO:+0100
TZNAME:CET
DTSTART:20241027T010000
END:STANDARD
END:VTIMEZONE
BEGIN:VEVENT
DTSTART;VALUE=DATE:20230610
DTEND;VALUE=DATE:20230612
DTSTAMP:20260422T143205
CREATED:20230606T135804Z
LAST-MODIFIED:20230606T135804Z
UID:11054-1686355200-1686527999@tabianoterme.it
SUMMARY:La valigia del viaggiatore al MuMAB
DESCRIPTION:Dopo un lungo viaggio sono finalmente arrivati gli Uccelli migratori! \nSabato 10 e domenica 11 giugno 2023 alle ore 16.30 \nPer quale motivo questi viaggiatori piumati compiono viaggi così lunghi e pericolosi? Quali sono i migratori simbolo del Parco? Come possiamo osservarli senza dare loro fastidio? Scopriamolo insieme! \nUn laboratorio e un’escursione nel parco ad osservare i gruccioni per bambini e famiglie \nLa durata del laboratorio è di circa 2 ore \nPrenotazione obbligatoria – www.millepioppi.it\nCosti: adulti 6 €\, ragazzi dai 13 ai 18 anni 10 €\, bambini dai 5 ai 12 anni 9 €\, fino a 4 anni e over 65 5 €
URL:https://tabianoterme.it/event/la-valigia-del-viaggiatore-al-mumab/
LOCATION:MuMAB- Museo Mare Antico e Biodiversità\, Podere Millepioppi\, Salsomaggiore Terme\, PR\, 43039\, Italia
CATEGORIES:Bambini e famiglie
ATTACH;FMTTYPE=image/jpeg:https://tabianoterme.it/wp-content/uploads/2023/06/FEC178C8-C4F7-4CFA-A6C0-39F418EDFBE9.jpeg
ORGANIZER;CN="MuMAB - Museo Mare Antico e Biodiversit%C3%A0":MAILTO:mumab@millepioppi.it
END:VEVENT
END:VCALENDAR