BEGIN:VCALENDAR
VERSION:2.0
PRODID:-//Tabiano terme - ECPv6.15.11//NONSGML v1.0//EN
CALSCALE:GREGORIAN
METHOD:PUBLISH
X-ORIGINAL-URL:https://tabianoterme.it
X-WR-CALDESC:Eventi per Tabiano terme
REFRESH-INTERVAL;VALUE=DURATION:PT1H
X-Robots-Tag:noindex
X-PUBLISHED-TTL:PT1H
BEGIN:VTIMEZONE
TZID:Europe/Rome
BEGIN:DAYLIGHT
TZOFFSETFROM:+0100
TZOFFSETTO:+0200
TZNAME:CEST
DTSTART:20200329T010000
END:DAYLIGHT
BEGIN:STANDARD
TZOFFSETFROM:+0200
TZOFFSETTO:+0100
TZNAME:CET
DTSTART:20201025T010000
END:STANDARD
BEGIN:DAYLIGHT
TZOFFSETFROM:+0100
TZOFFSETTO:+0200
TZNAME:CEST
DTSTART:20210328T010000
END:DAYLIGHT
BEGIN:STANDARD
TZOFFSETFROM:+0200
TZOFFSETTO:+0100
TZNAME:CET
DTSTART:20211031T010000
END:STANDARD
BEGIN:DAYLIGHT
TZOFFSETFROM:+0100
TZOFFSETTO:+0200
TZNAME:CEST
DTSTART:20220327T010000
END:DAYLIGHT
BEGIN:STANDARD
TZOFFSETFROM:+0200
TZOFFSETTO:+0100
TZNAME:CET
DTSTART:20221030T010000
END:STANDARD
END:VTIMEZONE
BEGIN:VEVENT
DTSTART;TZID=Europe/Rome:20210911T210000
DTEND;TZID=Europe/Rome:20210911T233000
DTSTAMP:20260421T214438
CREATED:20210830T095115Z
LAST-MODIFIED:20210830T095115Z
UID:9638-1631394000-1631403000@tabianoterme.it
SUMMARY:“Che occhi grandi che hai!” – Il lupo e l’uomo\, alla ricerca di una convivenza possibile
DESCRIPTION:Sabato 11 settembre\, alle 21\, nella sede del Parco dello Stirone a San Nicomede\, grazie alla sua competenza ed esperienza pluridecennale\, scioglierà ogni dubbio Luigi Molinari\, tecnico del Wolf Apennine Center del Parco Nazionale dell’Appennino Tosco Emiliano. Il suo intervento sarà focalizzato sulla presenza dei lupi in pianura con un titolo davvero suggestivo: “Lupi in pianura: l’ultima frontiera”. \nGli incontri sono ad ingresso gratuito su PRENOTAZIONE. \nPrenotazioni: Prenota il tuo evento – IT – Visit Salsomaggiore \nIn osservanza al nuovo decreto del Governo italiano\, dal 6 agosto per accedere a tutti gli eventi organizzati nel Comune di Salsomaggiore Terme tutti gli Ospiti con più di 12 anni di età avranno l’obbligo di presentare la Certificazione Verde (Green Pass) ai sensi del DECRETO-LEGGE 23 luglio 2021\, n. 105 “Misure urgenti per fronteggiare l’emergenza epidemiologica da COVID-19 e per l’esercizio in sicurezza di attività sociali ed economiche” \nInfo: +39 0524.580211 oppure su info@portalesalsomaggiore.it
URL:https://tabianoterme.it/event/che-occhi-grandi-che-hai-il-lupo-e-luomo-alla-ricerca-di-una-convivenza-possibile-3/
LOCATION:Parco dello Stirone\, Località Scipione Ponte\, Salsomaggiore Terme
CATEGORIES:Cultura
ATTACH;FMTTYPE=image/jpeg:https://tabianoterme.it/wp-content/uploads/2021/08/240790062_1911367509032704_4914594024742193010_n-e1630316705116.jpg
ORGANIZER;CN="IAT Salsomaggiore e Tabiano Terme":MAILTO:info@portalesalsomaggiore.it
END:VEVENT
END:VCALENDAR