BEGIN:VCALENDAR
VERSION:2.0
PRODID:-//Tabiano terme - ECPv6.15.11//NONSGML v1.0//EN
CALSCALE:GREGORIAN
METHOD:PUBLISH
X-ORIGINAL-URL:https://tabianoterme.it
X-WR-CALDESC:Eventi per Tabiano terme
REFRESH-INTERVAL;VALUE=DURATION:PT1H
X-Robots-Tag:noindex
X-PUBLISHED-TTL:PT1H
BEGIN:VTIMEZONE
TZID:Europe/Rome
BEGIN:DAYLIGHT
TZOFFSETFROM:+0100
TZOFFSETTO:+0200
TZNAME:CEST
DTSTART:20200329T010000
END:DAYLIGHT
BEGIN:STANDARD
TZOFFSETFROM:+0200
TZOFFSETTO:+0100
TZNAME:CET
DTSTART:20201025T010000
END:STANDARD
BEGIN:DAYLIGHT
TZOFFSETFROM:+0100
TZOFFSETTO:+0200
TZNAME:CEST
DTSTART:20210328T010000
END:DAYLIGHT
BEGIN:STANDARD
TZOFFSETFROM:+0200
TZOFFSETTO:+0100
TZNAME:CET
DTSTART:20211031T010000
END:STANDARD
BEGIN:DAYLIGHT
TZOFFSETFROM:+0100
TZOFFSETTO:+0200
TZNAME:CEST
DTSTART:20220327T010000
END:DAYLIGHT
BEGIN:STANDARD
TZOFFSETFROM:+0200
TZOFFSETTO:+0100
TZNAME:CET
DTSTART:20221030T010000
END:STANDARD
END:VTIMEZONE
BEGIN:VEVENT
DTSTART;TZID=Europe/Rome:20210824T210000
DTEND;TZID=Europe/Rome:20210824T210000
DTSTAMP:20260426T052353
CREATED:20210819T142857Z
LAST-MODIFIED:20210819T142857Z
UID:9431-1629838800-1629838800@tabianoterme.it
SUMMARY:Spettacolo acrobatico a Tabiano - La Corda di GeraCircus
DESCRIPTION:Martedì 24 agosto in Piazza Verdi a Tabiano Terme una serata per stupirsi e divertirsi in compagnia di GeraCircus \nLa Corda è uno spettacolo di circo\, in strada\, in cui Sandro Sassi\, grazie alla sua sfrenata energia\, fatta di fischi e grammelot da commedia dell’arte\, coinvolgerà grandi e piccini\, in una miscela di virtuosismi tra giocoleria con palline e cerchi\, aprendo e chiudendo le danze con una corda: dopo aver scelto otto spettatori\, scaldandoli con il gioco del tiro alla fune\, camminerà su questa\, tenuta in tensione dai volontari\, facendo giocoleria con oggetti infuocati! \nAll’apice della performance\, la combinazione di equilibrio su una grossa sfera\, giocoleria con le clave e una scopa sul mento. \nIngresso gratuito con prenotazione obbligatoria al numero 0524 565742 – Green pass richiesto \nFote foto: GeraCircus
URL:https://tabianoterme.it/event/spettacolo-acrobatico-a-tabiano-la-corda-di-geracircus/
LOCATION:Piazza Verdi\, Piazza Verdi\, Tabiano Terme\, 43039
CATEGORIES:Bambini e famiglie,Intrattenimento
ATTACH;FMTTYPE=image/jpeg:https://tabianoterme.it/wp-content/uploads/2021/08/La-Corda-Gera-Circus.jpg
ORGANIZER;CN="Consorzio Abitabiano":MAILTO:info@tabianoterme.it
END:VEVENT
END:VCALENDAR