BEGIN:VCALENDAR
VERSION:2.0
PRODID:-//Tabiano terme - ECPv6.15.11//NONSGML v1.0//EN
CALSCALE:GREGORIAN
METHOD:PUBLISH
X-WR-CALNAME:Tabiano terme
X-ORIGINAL-URL:https://tabianoterme.it
X-WR-CALDESC:Eventi per Tabiano terme
REFRESH-INTERVAL;VALUE=DURATION:PT1H
X-Robots-Tag:noindex
X-PUBLISHED-TTL:PT1H
BEGIN:VTIMEZONE
TZID:Europe/Rome
BEGIN:DAYLIGHT
TZOFFSETFROM:+0100
TZOFFSETTO:+0200
TZNAME:CEST
DTSTART:20230326T010000
END:DAYLIGHT
BEGIN:STANDARD
TZOFFSETFROM:+0200
TZOFFSETTO:+0100
TZNAME:CET
DTSTART:20231029T010000
END:STANDARD
BEGIN:DAYLIGHT
TZOFFSETFROM:+0100
TZOFFSETTO:+0200
TZNAME:CEST
DTSTART:20240331T010000
END:DAYLIGHT
BEGIN:STANDARD
TZOFFSETFROM:+0200
TZOFFSETTO:+0100
TZNAME:CET
DTSTART:20241027T010000
END:STANDARD
BEGIN:DAYLIGHT
TZOFFSETFROM:+0100
TZOFFSETTO:+0200
TZNAME:CEST
DTSTART:20250330T010000
END:DAYLIGHT
BEGIN:STANDARD
TZOFFSETFROM:+0200
TZOFFSETTO:+0100
TZNAME:CET
DTSTART:20251026T010000
END:STANDARD
BEGIN:DAYLIGHT
TZOFFSETFROM:+0100
TZOFFSETTO:+0200
TZNAME:CEST
DTSTART:20260329T010000
END:DAYLIGHT
BEGIN:STANDARD
TZOFFSETFROM:+0200
TZOFFSETTO:+0100
TZNAME:CET
DTSTART:20261025T010000
END:STANDARD
END:VTIMEZONE
BEGIN:VEVENT
DTSTART;VALUE=DATE:20241027
DTEND;VALUE=DATE:20250331
DTSTAMP:20260425T155144
CREATED:20250117T152850Z
LAST-MODIFIED:20250117T152850Z
UID:12749-1729987200-1743379199@tabianoterme.it
SUMMARY:Alla Corte della Principessa: Max Ernst – Une semaine de bonté
DESCRIPTION:Dal 27 ottobre 2024 al 30 marzo 2025\, non perdere l’occasione di visitare la mostra\, che rappresenta un viaggio alla scoperta della mente di Max Ernst\, simbolo del surrealismo e pioniere dell’arte del collage. In occasione del centenario della nascita del surrealismo\, il Mastio e Borgo di Vigoleno ospitano la mostra “Une semaine de bonté”\, una delle opere più enigmatiche e misteriose realizzate dall’artista all’inizio del Novecento. \nAttraverso il progetto espositivo\, si potrà scoprire il modo in cui l’artista\, tramite il collage\, ha saputo dare forma ai suoi sogni e alle sue visioni più inquietanti. Video didattici accompagneranno il visitatore in un viaggio alla scoperta della tecnica del collage\, esplorando la simbologia nascosta nelle opere di Max Ernst e il suo legame con il cubismo e il surrealismo. \nPer chi desidera un’esperienza più interattiva\, sono previsti laboratori su prenotazione\, dove sarà possibile immergersi nella tecnica del collage\, creando opere proprie ispirate al cubismo e al surrealismo\, guidati da esperti del settore. \nDove:\nMastio e Borgo di Vigoleno\, Comune di Vernasca (PC). \nQuando:\nDal 27 ottobre 2024 al 30 marzo 2025. \nEmail: info@visitvigoleno.it
URL:https://tabianoterme.it/event/alla-corte-della-principessa-max-ernst-une-semaine-de-bonte/
LOCATION:Mastio e Borgo di Vigoleno\, via Libertà s.n.\, Vigoleno PC\, 29010\, Italia
CATEGORIES:Arte e Cultura,Mostra,Visita guidata
ATTACH;FMTTYPE=image/jpeg:https://tabianoterme.it/wp-content/uploads/2025/01/BLOG-4-6-1.jpg
ORGANIZER;CN="Castelli del Ducato":MAILTO:info@castellidelducato.it
END:VEVENT
END:VCALENDAR