BEGIN:VCALENDAR
VERSION:2.0
PRODID:-//Tabiano terme - ECPv6.15.11//NONSGML v1.0//EN
CALSCALE:GREGORIAN
METHOD:PUBLISH
X-WR-CALNAME:Tabiano terme
X-ORIGINAL-URL:https://tabianoterme.it
X-WR-CALDESC:Eventi per Tabiano terme
REFRESH-INTERVAL;VALUE=DURATION:PT1H
X-Robots-Tag:noindex
X-PUBLISHED-TTL:PT1H
BEGIN:VTIMEZONE
TZID:Europe/Rome
BEGIN:DAYLIGHT
TZOFFSETFROM:+0100
TZOFFSETTO:+0200
TZNAME:CEST
DTSTART:20240331T010000
END:DAYLIGHT
BEGIN:STANDARD
TZOFFSETFROM:+0200
TZOFFSETTO:+0100
TZNAME:CET
DTSTART:20241027T010000
END:STANDARD
BEGIN:DAYLIGHT
TZOFFSETFROM:+0100
TZOFFSETTO:+0200
TZNAME:CEST
DTSTART:20250330T010000
END:DAYLIGHT
BEGIN:STANDARD
TZOFFSETFROM:+0200
TZOFFSETTO:+0100
TZNAME:CET
DTSTART:20251026T010000
END:STANDARD
BEGIN:DAYLIGHT
TZOFFSETFROM:+0100
TZOFFSETTO:+0200
TZNAME:CEST
DTSTART:20260329T010000
END:DAYLIGHT
BEGIN:STANDARD
TZOFFSETFROM:+0200
TZOFFSETTO:+0100
TZNAME:CET
DTSTART:20261025T010000
END:STANDARD
END:VTIMEZONE
BEGIN:VEVENT
DTSTART;TZID=Europe/Rome:20250810T210000
DTEND;TZID=Europe/Rome:20250810T230000
DTSTAMP:20260426T040659
CREATED:20250724T103353Z
LAST-MODIFIED:20250724T103353Z
UID:13443-1754859600-1754866800@tabianoterme.it
SUMMARY:Spegni le luci\, accendi le stelle – Reggia di Colorno
DESCRIPTION:Domenica 10 agosto 2025\nOre 21.00 \n“SPEGNI LE LUCI\, ACCENDI LE STELLE”\nNella notte di San Lorenzo una visita guidata al piano nobile della Reggia di Colorno e al settecentesco Osservatorio Astronomico del Duca Ferdinando di Borbone. \nPrenotazione obbligatoria entro l’8 agosto.  \nBiglietti:\nIntero:  € 12\nRidotto: € 11 \nPer info: tel. 0521312545 – reggiadicolorno@provincia.parma.it  \n  \nFonte testo: https://reggiadicolorno.it/5795-2\nFonte foto: https://www.castellidelducato.it
URL:https://tabianoterme.it/event/spegni-le-luci-accendi-le-stelle-reggia-di-colorno/
LOCATION:Reggia di Colorno\, Piazza Giuseppe Garibaldi 26\, Colorno\, 43052\, Italia
CATEGORIES:Cultura,Storia
ATTACH;FMTTYPE=image/webp:https://tabianoterme.it/wp-content/uploads/2025/07/notte-di-san-lorenzo-visita-guidata-reggia-di-colorno-8-agosto-1-1.webp
END:VEVENT
END:VCALENDAR