BEGIN:VCALENDAR
VERSION:2.0
PRODID:-//Tabiano terme - ECPv6.15.11//NONSGML v1.0//EN
CALSCALE:GREGORIAN
METHOD:PUBLISH
X-WR-CALNAME:Tabiano terme
X-ORIGINAL-URL:https://tabianoterme.it
X-WR-CALDESC:Eventi per Tabiano terme
REFRESH-INTERVAL;VALUE=DURATION:PT1H
X-Robots-Tag:noindex
X-PUBLISHED-TTL:PT1H
BEGIN:VTIMEZONE
TZID:Europe/Rome
BEGIN:DAYLIGHT
TZOFFSETFROM:+0100
TZOFFSETTO:+0200
TZNAME:CEST
DTSTART:20240331T010000
END:DAYLIGHT
BEGIN:STANDARD
TZOFFSETFROM:+0200
TZOFFSETTO:+0100
TZNAME:CET
DTSTART:20241027T010000
END:STANDARD
BEGIN:DAYLIGHT
TZOFFSETFROM:+0100
TZOFFSETTO:+0200
TZNAME:CEST
DTSTART:20250330T010000
END:DAYLIGHT
BEGIN:STANDARD
TZOFFSETFROM:+0200
TZOFFSETTO:+0100
TZNAME:CET
DTSTART:20251026T010000
END:STANDARD
BEGIN:DAYLIGHT
TZOFFSETFROM:+0100
TZOFFSETTO:+0200
TZNAME:CEST
DTSTART:20260329T010000
END:DAYLIGHT
BEGIN:STANDARD
TZOFFSETFROM:+0200
TZOFFSETTO:+0100
TZNAME:CET
DTSTART:20261025T010000
END:STANDARD
END:VTIMEZONE
BEGIN:VEVENT
DTSTART;TZID=Europe/Rome:20251214T100000
DTEND;TZID=Europe/Rome:20251214T120000
DTSTAMP:20260422T025749
CREATED:20251201T140833Z
LAST-MODIFIED:20251201T140833Z
UID:14040-1765706400-1765713600@tabianoterme.it
SUMMARY:“Meravigliosa Biblioteca” a Busseto
DESCRIPTION:Domenica 14 dicembre 2025 – Biblioteca di Busseto\nCome ogni seconda domenica del mese\, il 14 dicembre 2025 torna “Meravigliosa Biblioteca”\nLe sale storiche della Biblioteca e dell’antico Monte di Pietà vengono aperte alle visite guidate arricchite da piccole\, ma preziose mostre temporanee. \nOrari di partenza: 10.00 e 11.15\nIngresso gratuito limitato a 25 persone per turno\nPer comitive e scolaresche le visite sono possibili solo su appuntamento \nPer info e prenotazioni\nbiblioteca.busseto@fondazionecrp.it | 0524 92224 \n  \nFonte testo: bussetolive.com
URL:https://tabianoterme.it/event/meravigliosa-biblioteca-a-busseto/
LOCATION:biblioteca busseto
CATEGORIES:Bambini e famiglie,Cultura,Visita guidata
ATTACH;FMTTYPE=image/webp:https://tabianoterme.it/wp-content/uploads/2025/12/Meravigliosa-Biblioteca_Busseto_Visite-guidate.webp
END:VEVENT
END:VCALENDAR