BEGIN:VCALENDAR
VERSION:2.0
PRODID:-//Tabiano terme - ECPv6.15.11//NONSGML v1.0//EN
CALSCALE:GREGORIAN
METHOD:PUBLISH
X-ORIGINAL-URL:https://tabianoterme.it
X-WR-CALDESC:Eventi per Tabiano terme
REFRESH-INTERVAL;VALUE=DURATION:PT1H
X-Robots-Tag:noindex
X-PUBLISHED-TTL:PT1H
BEGIN:VTIMEZONE
TZID:Europe/Rome
BEGIN:DAYLIGHT
TZOFFSETFROM:+0100
TZOFFSETTO:+0200
TZNAME:CEST
DTSTART:20210328T010000
END:DAYLIGHT
BEGIN:STANDARD
TZOFFSETFROM:+0200
TZOFFSETTO:+0100
TZNAME:CET
DTSTART:20211031T010000
END:STANDARD
BEGIN:DAYLIGHT
TZOFFSETFROM:+0100
TZOFFSETTO:+0200
TZNAME:CEST
DTSTART:20220327T010000
END:DAYLIGHT
BEGIN:STANDARD
TZOFFSETFROM:+0200
TZOFFSETTO:+0100
TZNAME:CET
DTSTART:20221030T010000
END:STANDARD
BEGIN:DAYLIGHT
TZOFFSETFROM:+0100
TZOFFSETTO:+0200
TZNAME:CEST
DTSTART:20230326T010000
END:DAYLIGHT
BEGIN:STANDARD
TZOFFSETFROM:+0200
TZOFFSETTO:+0100
TZNAME:CET
DTSTART:20231029T010000
END:STANDARD
END:VTIMEZONE
BEGIN:VEVENT
DTSTART;VALUE=DATE:20220326
DTEND;VALUE=DATE:20220328
DTSTAMP:20260423T121720
CREATED:20220326T101536Z
LAST-MODIFIED:20220326T101536Z
UID:9977-1648252800-1648425599@tabianoterme.it
SUMMARY:Favole Antiche al Castello di Contignaco
DESCRIPTION:Caccia al tesoro alla ricerca delle morali più belle dell’antica tradizione favolistica \nSabato 26 e domenica 27 marzo – Orari di inizio delle cacce al tesoro: mattina ore 11\, pomeriggio ore 15 e ore 16 \nll Castello di Contignaco torna a proporre una caccia al tesoro che porterà i partecipanti a riscoprire alcune delle più belle favole che da secoli nutrono l’immaginario collettivo e che hanno fatto sognare innumerevoli generazioni di fanciulli. \nI bambini\, accompagnati dai loro genitori e con tanto di mappe e “taccuino del viaggiatore” al seguito\, saranno impegnati a rincorrere una lunga catena di indizi che li condurrà a disvelare numerosi racconti\, graziosi ed edificanti\, quali Il Pastore\, Il Topo di città e il Topo di campagna\, Il Cane e l’Asino\, Le Ranocchie e il loro Re\, L’Asino e il Lupo\, La Volpe e l’uva\, Il Cane e la Volpe\, La Formica e la Cicala. \nLe favole\, come si sa\, sono brevi narrazioni con uomini\, animali\, piante o essere inanimati e racchiudono sempre un insegnamento morale\, destinato non solo ai più piccoli\, ma anche agli adulti. I bambini\, aiutati dai più grandi\, dovranno riuscire a individuare la morale di ogni favola che sarà loro proposta: solo così potranno concludere la caccia e giungere al dolcissimo tesoro finale! \nPer approfondire \nNel 1569 l’aquilano Cesare Pavesi\, sotto il nome di Pietro Targa\, diede alle stampe una raccolta di 150 favole tratte da Esopo e da «altri antichi favolatori». Riscrisse le favole in ottava rima e decorò la sua edizione di belle illustrazioni in bianco e nero. \nIn ogni tappa della caccia al tesoro verrà proposta una favola del Pavesi\, in rima a mo’ di filastrocca\, adattata al linguaggio contemporaneo in modo da garantirne a tutti la comprensione e accompagnata dalla relativa illustrazione cinquecentesca. \nI bambini potranno così imparare a conoscere\, in un modo semplice e divertente\, alcune delle figure più significative della nostra tradizione favolistica e gli adulti potranno al contempo scoprire la bellezza di un mirabile esempio antico di letteratura per l’infanzia. \nGioco ideale per bambini dai 5 ai 14 anni circa\nLa caccia al tesoro prevede una forte interazione tra i bambini e gli adulti\, in modo da far divertire tutti quanti\nPrenotazione obbligatoria\nCosti: bambini dai 4 ai 14 anni € 12; adulti € 10. \nLa manifestazione si svolgerà nel rispetto degli attuali protocolli nazionali e regionali mirati al contrasto e al contenimento della diffusione del virus Covid-19.\nPer garantire la massima sicurezza\, l’intera caccia al tesoro si svolgerà all’aperto.\nDurante l’intero percorso i bambini dovranno essere accompagnati dai loro genitori.\nSi consiglia di attrezzarsi con ombrelli e stivaletti in caso di pioggia. \nInoltre… \nAl termine del gioco\, chi lo desidera potrà effettuare una visita guidata completa degli esterni e degli interni del Castello. \nLa visita si potrà anche concludere con una degustazione dei vini prodotti nelle cantine della fortezza\, durante la quale i proprietari esporranno la storia antica dell’Azienda di famiglia. \nPrenotazione obbligatoria\nCosti: visita adulti € 9\, bambini € 5; visita con degustazione € 20. \nPer prenotare: 320 6126424 – 320 6126425 – 320 6066721 – castello.contignaco@gmail.com \nFonte testo e foto: www.castellodicontignaco.it
URL:https://tabianoterme.it/event/favole-antiche-al-castello-di-contignaco/
LOCATION:Castello di Contignaco\, Via Contignaco Castello\, 125\, Salsomaggiore Terme\, 43039\, Italia
CATEGORIES:Bambini e famiglie
ATTACH;FMTTYPE=image/jpeg:https://tabianoterme.it/wp-content/uploads/2022/03/contignaco.jpeg
ORGANIZER;CN="Castello di Contignaco":MAILTO:castello.contignaco@gmail.com
END:VEVENT
BEGIN:VEVENT
DTSTART;TZID=Europe/Rome:20220327T100000
DTEND;TZID=Europe/Rome:20220327T100000
DTSTAMP:20260423T121720
CREATED:20220326T100059Z
LAST-MODIFIED:20220326T100059Z
UID:9973-1648375200-1648375200@tabianoterme.it
SUMMARY:É arrivata! Ma chi? La primavera! Passeggiata con guida al MuMAB
DESCRIPTION:Leggere la biodiversità al Podere Millepioppi \nLe temperature si alzano\, la natura si risveglia\, il Podere Millepioppi si colora. \nUna passeggiata in compagnia di un’esperta guida per osservare l’arrivo della primavera nel parco. \nIniziativa a cura di Parchi del Ducato e MuMAB-Museo Mare Antico e Biodiversità con il supporto di Coworking Salsomaggiore Terme\, nell’ambito del progetto “Si Legge Biodiversità. \nIl Progetto “Si Legge Biodiversità” è realizzato grazie al contributo di Fondazione Cariparma\, attraverso il bando “Leggere crea indipendenza”\, è coordinato dai Parchi del Ducato e realizzato in collaborazione con Comuni e Biblioteche. \nFonte testo e foto: www.millepioppi.it
URL:https://tabianoterme.it/event/e-arrivata-ma-chi-la-primavera-passeggiata-con-guida-al-mumab/
LOCATION:MuMAB- Museo Mare Antico e Biodiversità\, Podere Millepioppi\, Salsomaggiore Terme\, PR\, 43039\, Italia
CATEGORIES:Camminata
ATTACH;FMTTYPE=image/jpeg:https://tabianoterme.it/wp-content/uploads/2022/03/viole-mumab.jpeg
ORGANIZER;CN="Coworking Salsomaggiore Terme":MAILTO:info@salsocoworking.it
END:VEVENT
BEGIN:VEVENT
DTSTART;TZID=Europe/Rome:20220327T170000
DTEND;TZID=Europe/Rome:20220327T170000
DTSTAMP:20260423T121720
CREATED:20220326T104137Z
LAST-MODIFIED:20220326T104137Z
UID:9985-1648400400-1648400400@tabianoterme.it
SUMMARY:Sciroppi di Teatro: Il Gatto con gli stivali al Teatro Magnani di Fidenza
DESCRIPTION:Domenica 27 marzo 20220 ore 16:00 \nTeatro d’attore\, teatro di figura\na partire dai 3 anni\, durata 50 minuti circa\ndi Marcello Chiarenza\ncon Maurizio Casali e Mariolina Coppola\nmusiche originali Marcello Chiarenza  scene Maurizio Casali e Mariolina Coppola\nregia Claudio Casadio\nproduzione Accademia Perduta/Romagna Teatri \nSpettacolo all’interno del progetto SCIROPPO DI TEATRO\, il progetto di welfare culturale di Ater Fondazione\, grazie al quale in ventuno comuni dell’Emilia-Romagna\, i bambini e le bambine dai 3 agli 8 anni\, assieme ai loro accompagnatori\, possono andare a teatro con un voucher fornito da pediatri e farmacisti\, per soli due euro a spettacolo. \n“Com’è il profumo del pane? Buono! Il profumo e anche il pane!”\nCome si fa il pane ce lo spiega un mugnaio: perché è nel suo mulino che si produce la farina per fare il pane ed è in un mulino che prende il via la fiaba del Gatto con gli stivali.\nLa fiaba è quella del figlio di un vecchio mugnaio\, il quale vedendosi toccare in eredità uno strano gatto\, in grado di parlare e ragionare argutamente\, diverrà proprio grazie all’animale proprietario di un castello e sposo di una principessa.\nQuesta storia\, conosciutissima\, prende nuova vita grazie alle straordinarie abilità attoriali e tecniche dei due artisti in scena; sul palcoscenico si susseguono una moltitudine di situazioni\, paesaggi inattesi\, personaggi che sembrano animarsi per davvero. Una pedana inclinata è dapprima un mulino con pale a vento\, poi vi si aprono piccole botole verso scenari stupefacenti\, poi ancora si popola di tane e trappole per conigli e fagiani e così via. Assieme ai magnifici oggetti di scena ed alle musiche originali\, i protagonisti si fanno ora narratori\, ora attori e animatori\, e regalano una rilettura ricca di poesia\, tenerezza e momenti di stupore\, pensato per tutti i bambini\, anche per i più piccoli.\nNella fiaba è proprio il lasciarsi andare alla parte istintiva che si trova in ogni essere umano a consentirci di conservare la nostra capacità di essere stupiti e di emergere nei momenti di difficoltà della vita. Nello spettacolo si aggiunge un ulteriore elemento: la condizione privilegiata in cui si trova chiunque riesca\, con quella particolare sensibilità del tutto tipica dei bambini\, ad entrare in confidenza con un animale e a vedere il mondo in modo più positivo\, attraverso la lente di quell’amicizia. \nPrezzo unico per ogni ordine di posto\n6 € : adulti\n4 € : bambini fino a 12 anni\n2 € : presentando il voucher disponibile presso i pediatri e le farmacie (elenchi farmacie e pediatri aderenti al progetto: https://bit.ly/3FbIJf0) \nVendita biglietti presso la biglietteria del Teatro Magnani (piazza Verdi 1\, Fidenza):\nmartedì dalle 11 alle 13\, venerdì dalle 17 alle 19\, i sabati prima di ogni spettacolo dalle 10 alle 13\, due ore prima dell’inizio dello spettacolo\nOppure acquisti biglietti online presso il circuito di prevendita Vivaticket. \nPer informazioni e prenotazioni: 0524 517508 – 345 9374728\nteatromagnani@ater.emr.it \nFonte testo e foto: Teatro Magnani Fidenza
URL:https://tabianoterme.it/event/sciroppi-di-teatro-il-gatto-con-gli-stivali-al-teatro-magnani-di-fidenza/
LOCATION:Teatro Girolamo Magnani\, Piazza Giuseppe Verdi\, Fidenza\, 43039\, Italia
CATEGORIES:Bambini e famiglie,Teatro
ATTACH;FMTTYPE=image/jpeg:https://tabianoterme.it/wp-content/uploads/2022/03/sciroppi-di-teatro-magnani-fidenza-marzo-2022.jpeg
ORGANIZER;CN="ATER Fondazione":MAILTO:ater@pcert.it
END:VEVENT
END:VCALENDAR