BEGIN:VCALENDAR
VERSION:2.0
PRODID:-//Tabiano terme - ECPv6.15.11//NONSGML v1.0//EN
CALSCALE:GREGORIAN
METHOD:PUBLISH
X-ORIGINAL-URL:https://tabianoterme.it
X-WR-CALDESC:Eventi per Tabiano terme
REFRESH-INTERVAL;VALUE=DURATION:PT1H
X-Robots-Tag:noindex
X-PUBLISHED-TTL:PT1H
BEGIN:VTIMEZONE
TZID:Europe/Rome
BEGIN:DAYLIGHT
TZOFFSETFROM:+0100
TZOFFSETTO:+0200
TZNAME:CEST
DTSTART:20200329T010000
END:DAYLIGHT
BEGIN:STANDARD
TZOFFSETFROM:+0200
TZOFFSETTO:+0100
TZNAME:CET
DTSTART:20201025T010000
END:STANDARD
BEGIN:DAYLIGHT
TZOFFSETFROM:+0100
TZOFFSETTO:+0200
TZNAME:CEST
DTSTART:20210328T010000
END:DAYLIGHT
BEGIN:STANDARD
TZOFFSETFROM:+0200
TZOFFSETTO:+0100
TZNAME:CET
DTSTART:20211031T010000
END:STANDARD
BEGIN:DAYLIGHT
TZOFFSETFROM:+0100
TZOFFSETTO:+0200
TZNAME:CEST
DTSTART:20220327T010000
END:DAYLIGHT
BEGIN:STANDARD
TZOFFSETFROM:+0200
TZOFFSETTO:+0100
TZNAME:CET
DTSTART:20221030T010000
END:STANDARD
END:VTIMEZONE
BEGIN:VEVENT
DTSTART;TZID=Europe/Rome:20210926T170000
DTEND;TZID=Europe/Rome:20210926T180000
DTSTAMP:20260423T092228
CREATED:20210909T141032Z
LAST-MODIFIED:20210909T141032Z
UID:9734-1632675600-1632679200@tabianoterme.it
SUMMARY:Dante di Castello in Castello
DESCRIPTION:Durante il suo ventennale esilio\, Dante è stato ospitato nei castelli e nei palazzi di numerosi feudatari\, tra i quali vanno ricordati soprattuto i Malaspina signori della Lunigiana\, gli Scaligeri di Verona e i Da Polenta di Ravenna. Dante ha lasciato nelle sue opere ampia testimonianza di queste tre famiglie. \nNell’incontro al Castello di Tabiano domenica 26 settembre\, alle ore 17.00\, due consiglieri della Società Dante Alighieri di Parma tratterranno 4 castelli appartenenti a quelle antiche famiglie\, rievocando alcuni canti della Commedia  relativi all’esilio dantesco.\nIn particolare Italo Comelli  affronterà i castelli di Mulazzo e Fosdinovo\, appartenenti ai Malaspina (Purg. VIII e Inf. XXIV)\, mentre Isa Guastalla si soffermerà sul castello scaligero di Verona (Par. XVII) e sui castelli dei Da Polenta (Inf. V). \nL’evento è gratuito con prenotazione obbligatoria. \nPrima dell’incontro\, alle ore 16.00\, si svolgerà la visita guidata al Castello di Tabiano (costo 9\,00€) che è possibile prenotare anche da questa pagina: Dante di Castello in Castello – Castello di Tabiano.
URL:https://tabianoterme.it/event/dante-di-castello-in-castello/
LOCATION:Castello di Tabiano\, Via Castello\, Salsomaggiore Terme\, 43039
CATEGORIES:Visita guidata
ATTACH;FMTTYPE=image/png:https://tabianoterme.it/wp-content/uploads/2021/09/dante-2048x681-1.png
END:VEVENT
BEGIN:VEVENT
DTSTART;TZID=Europe/Rome:20210926T084500
DTEND;TZID=Europe/Rome:20210926T113000
DTSTAMP:20260423T092228
CREATED:20210920T135632Z
LAST-MODIFIED:20210920T135632Z
UID:9818-1632645900-1632655800@tabianoterme.it
SUMMARY:Fidenza Slow Trek: passeggiando sui resti del mare antico
DESCRIPTION:10 milioni di anni fa qui c’era il mare e il MuMAB ne custodisce la storia.\nDomenica 26 settembre vi invitiamo all’evento Trekking nel Parco dello Stirone e del Piacenziano.\nPartendo dal museo\, si attraversa il podere\, in cui si potranno osservare gli interventi di miglioramento ambientale fatti dal Parco per la tutela della biodiversità (Giardino degli insetti impollinatori\, frutti antichi…) e ci si dirige verso la località “Le Cascatelle”\, punto di arrivo dell’escursione. Durante il percorso\, si osserveranno gli affioramenti fossiliferi che raccontano la storia dell’Antico Mare Padano.\nLa visita in museo\, in cui sono visibili i resti fossili delle Balenottere\, completa l’esperienza.\n\nRitrovo 8.45 presso il MuMAB\, con inizio attività alle 9.00\n\nCosti: 8€ servizio guida + Biglietto MuMAB; 6€ adulti; 5€ over 65 e ragazzi dai 13 ai 18 anni; 4€ bambini dai 5 ai 12 anni; gratis sotto i 5 anni.\n\nInfo e contatti: tel. 392/9160719 oppure info@verdeacque.it www.verdeacque.it
URL:https://tabianoterme.it/event/fidenza-slow-trek-passeggiando-sui-resti-del-mare-antico/
LOCATION:MuMAB- Museo Mare Antico e Biodiversità\, Podere Millepioppi\, Salsomaggiore Terme\, PR\, 43039\, Italia
CATEGORIES:Bambini e famiglie,Mostra,Storia,Visita guidata
ATTACH;FMTTYPE=image/jpeg:https://tabianoterme.it/wp-content/uploads/2021/09/IMG_20210828_105959.jpg
ORGANIZER;CN="Comune di Fidenza":MAILTO:iat.fidenza@terrediverdi.it
END:VEVENT
BEGIN:VEVENT
DTSTART;VALUE=DATE:20210926
DTEND;VALUE=DATE:20210927
DTSTAMP:20260423T092228
CREATED:20210920T132302Z
LAST-MODIFIED:20210920T132328Z
UID:9813-1632614400-1632700799@tabianoterme.it
SUMMARY:Visita guidata al castello di Castelnuovo Fogliani
DESCRIPTION:Domenica 26 Settembre 2021\, visita guidata al Castello di Castelnuovo Fogliani.\nA guidare i visitatori alla scoperta dell’architettura e dell’arte del maniero piacentino sarà Alessandro Malinverni\, conservatore del Museo Gazzola di Piacenza. \nOrario visite: 15.30 e 17.00 \nLa durata del tour sarà di circa 80 minuti e comprenderà la visita della Chiesa di San Biagio\, le principali sale affrescate della residenza\, progettata dall’architetto Luigi Vanvitelli e del giardino all’italiana. \nPer info e prenotazione obbligatoria contattare il Comune di Alseno al numero 0523/945500 \nPer poter accedere alla visita sarà obbligatorio esibire il green pass in versione digitale o cartacea.
URL:https://tabianoterme.it/event/9813/
LOCATION:Castello di Castelnuovo Fogliani\, Viale Rimembranze\, 87\, Castelnuovo Fogliani\, 29010\, Italia
CATEGORIES:Visita guidata
ATTACH;FMTTYPE=image/jpeg:https://tabianoterme.it/wp-content/uploads/2021/09/castello-castelnuovo-fogliani-castelli-ducato-pc-1.jpg
END:VEVENT
BEGIN:VEVENT
DTSTART;TZID=Europe/Rome:20210925T150000
DTEND;TZID=Europe/Rome:20210925T160000
DTSTAMP:20260423T092228
CREATED:20210920T131444Z
LAST-MODIFIED:20210920T131444Z
UID:9807-1632582000-1632585600@tabianoterme.it
SUMMARY:25/09 Percorsi archeologici guidati a Fidenza
DESCRIPTION:Il 25 e il 26 settembre 2021 si tengono le Giornate Europee del Patrimonio. \nSabato 25 settembre 2021\, alle ore 15:00 e alle ore 16:00\, sono in programma i percorsi guidati gratuiti narrati dal ponte romano di Fidentia alla Cattedrale della città cristiana di Borgo San Donnino. Sono a cura di Roberta Conversi\, funzionario archeologo della Soprintendenza Archeologia Belle Arti e Paesaggio per le province di Parma e Piacenza. \nLa prenotazione è obbligatoria e da effettuarsi entro il giorno precedente l’evento presso l’ufficio IAT Casa Cremonini\, tel. 0524/83377\, iat.fidenza@terrediverdi.it \nSarà obbligatorio indossare la mascherina\, in modo particolare quando gli spazi non permetteranno di mantenere la distanza di sicurezza. \nNumero massimo di persone a turno: 20 \nRitrovo di fronte allo IAT in Piazza Duomo. \nFonte testo: www.comune.fidenza.pr.it\nFonte foto: www.castellidelducato.it
URL:https://tabianoterme.it/event/25-09-percorsi-archeologici-guidati-a-fidenza/
LOCATION:Piazza Duomo\, Piazza Duomo\, 16\, Fidenza\, Parma\, 43036\, Italia
CATEGORIES:Arte e Cultura,Storia,Visita guidata
ATTACH;FMTTYPE=image/jpeg:https://tabianoterme.it/wp-content/uploads/2021/09/torre-medievale-fidenza-1536x1152-1.jpg
END:VEVENT
BEGIN:VEVENT
DTSTART;VALUE=DATE:20210923
DTEND;VALUE=DATE:20211004
DTSTAMP:20260423T092228
CREATED:20210920T130914Z
LAST-MODIFIED:20210920T130914Z
UID:9800-1632355200-1633305599@tabianoterme.it
SUMMARY:Visite guidate alla Camera Acustica del Teatro Magnani di Fidenza
DESCRIPTION:Fidenza per Parma Capitale della Cultura 2020-2021 – Giuseppe Verdi deputato per Borgo San Donnino nel primo parlamento nazionale\, il suo Teatro e la sua Camera acustica \nE’ all’interno di questa rassegna che si inseriscono le visite guidate alla Camera Acustica del Teatro Girolamo Magnani\, restaurata ed esposta nel 2011. \nLe visite guidate gratuite alla Camera Acustica sono in programma: \nGiovedì 23 settembre alle ore 21:00\nDomenica 26 settembre alle ore 16:00\nDomenica 26 settembre alle ore 17:30\nGiovedì 30 settembre alle ore 21:00\nDomenica 3 ottobre alle ore 16:00\nDomenica 3 ottobre alle ore 17:30 \nE’ necessario esibire il green pass e indossare correttamente la mascherina. \nPrenotazione obbligatoria al numero 0524/83377 o tramite e-mail iat.fidenza@terrediverdi.it \n  \nFoto: Andrea Massari
URL:https://tabianoterme.it/event/visite-guidate-alla-camera-acustica-del-teatro-magnani-di-fidenza/
LOCATION:Teatro Girolamo Magnani\, Piazza Giuseppe Verdi\, Fidenza\, 43039\, Italia
CATEGORIES:Visita guidata
ATTACH;FMTTYPE=image/jpeg:https://tabianoterme.it/wp-content/uploads/2021/09/camera-acustica-teatro-magnani-fidenza.jpg
ORGANIZER;CN="Comune di Fidenza e Terre di Verdi":MAILTO:iat.fidenza@terrediverdi.it
END:VEVENT
BEGIN:VEVENT
DTSTART;VALUE=DATE:20210912
DTEND;VALUE=DATE:20210913
DTSTAMP:20260423T092228
CREATED:20210909T102620Z
LAST-MODIFIED:20210909T102620Z
UID:9698-1631404800-1631491199@tabianoterme.it
SUMMARY:Visita guidata al castello di Castelnuovo Fogliani
DESCRIPTION:Domenica 12 Settembre 2021\, visita guidata al Castello di Castelnuovo Fogliani.\nA guidare i visitatori alla scoperta dell’architettura e dell’arte del maniero piacentino sarà Alessandro Malinverni\, conservatore del Museo Gazzola di Piacenza. \nOrario visite: 15.30 e 17.00 \nLa durata del tour sarà di circa 80 minuti e comprenderà la visita della Chiesa di San Biagio\, le principali sale affrescate della residenza\, progettata dall’architetto Luigi Vanvitelli e del giardino all’italiana. \nPer info e prenotazione obbligatoria contattare il Comune di Alseno al numero 0523/945500 \nPer poter accedere alla visita sarà obbligatorio esibire il green pass in versione digitale o cartacea. \n  \nFonte immagine: http://www.castellidelducato.it \n 
URL:https://tabianoterme.it/event/visita-guidata-al-castello-di-castelnuovo-fogliani/
LOCATION:Castello di Castelnuovo Fogliani\, Viale Rimembranze\, 87\, Castelnuovo Fogliani\, 29010\, Italia
CATEGORIES:Visita guidata
ATTACH;FMTTYPE=image/jpeg:https://tabianoterme.it/wp-content/uploads/2021/09/castello-castelnuovo-fogliani-castelli-ducato-pc.jpg
END:VEVENT
BEGIN:VEVENT
DTSTART;TZID=Europe/Rome:20210906T080000
DTEND;TZID=Europe/Rome:20210906T170000
DTSTAMP:20260423T092228
CREATED:20210906T105346Z
LAST-MODIFIED:20210909T103046Z
UID:9682-1630915200-1630947600@tabianoterme.it
SUMMARY:Castello di Scipione dei marchesi Pallavicino: I misteri del Castello millenario
DESCRIPTION:Sabato 2 ottobre vi aspettiamo a scoprire i luoghi segreti nel labirinto del Castello più antico del Parmense. Con l’apertura straordinaria delle prigioni quattrocentesche e dell’antica via di fuga del castello. \nIl millenario Castello di Scipione dei Marchesi Pallavicino\, il più antico del Parmense\, fondato prima dell’anno Mille dal mitico Adalberto Pallavicino\, tra i più grandi condottieri del suo tempo\, aprirà le sue porte per una speciale visita notturna alla scoperta dei suoi luoghi segreti. \nNella penombra della sera verranno raccontati intrighi e misteri che avvolgono il Castello e le leggende dei fantasmi che lo animano in alcune notti dell’anno… \nEccezionalmente verrà aperta la torre circolare quattrocentesca con le sue prigioni e verrà mostrata l’antica via di fuga che attraversa il Castello. \nPer l’occasione\, verranno inoltre aperti l’intero loggiato Seicentesco da dove sarà possibile ammirare il paesaggio collinare avvolto dalla luce della sera\, la Quattrocentesca “scalinata dei cavalli” con il suo giardino segreto e il grande giardino ai piedi della torre\, illuminato per la serata. \nSarà anche possibile cenare con menu fisso presso gli agriturismi intorno al Castello o degustare una raffinata cena a base dei prodotti del territorio nelle trattorie vicine. Per chi desiderasse dormire nel Castello\, due esclusive suites nella torre a pianta quadrata e nell’ala Est sono a disposizione degli ospiti per un minimo di due notti e con prima colazione offerta nella suite. \nREGOLE SICUREZZA CORONAVIRUS ADOTTATE PER EVENTO – MANIFESTAZIONE: \nLa speciale visita è su prenotazione e a numero chiuso\, nel rispetto del DPCM.  E’ obbligatorio l’uso della mascherina e il distanziamento interpersonale. \nLa manifestazione si svolge anche in caso di mal tempo: Si \nCosto della manifestazione: \nAdulti: 10 euro \nBambini da 6 anni a 16 anni: 8 euro \nGratuito: fino a 5 anni inclusi \nNumeri telefonici\, mail e sito internet per informazioni: Tel: 0524 572381 – info@castellodiscipione.it; www.castellodiscipione.it \nParcheggi Vicini: \npossibilità di parcheggiare di fronte al Castello e prima dell’ingresso nel borgo \n 
URL:https://tabianoterme.it/event/castello-di-scipione-dei-marchesi-pallavicino-i-misteri-del-castello-millenario/
LOCATION:Castello di Scipione\, Via Scipione Castello\, 61\, Salsomaggiore Terme\, Parma\, 43039\, Italia
CATEGORIES:Camminata,Outdoor,Visita guidata
ATTACH;FMTTYPE=image/jpeg:https://tabianoterme.it/wp-content/uploads/2021/09/ppr2020salsomaggiore_termecastello_di_scipione_dei_marchesi_pallavicinoc35056foto_bocelli_cas_altri.jpg
ORGANIZER;CN="Castelli del Ducato":MAILTO:info@castellidelducato.it
END:VEVENT
BEGIN:VEVENT
DTSTART;VALUE=DATE:20210827
DTEND;VALUE=DATE:20210925
DTSTAMP:20260423T092228
CREATED:20210906T075338Z
LAST-MODIFIED:20210906T075338Z
UID:9659-1630022400-1632527999@tabianoterme.it
SUMMARY:Fino al 24 settembre: Omaggio a Gustav Klimt in Rocca Sanvitale Fontanellato
DESCRIPTION:Nel Museo Rocca Sanvitale a Fontanellato si inaugura venerdì 27 agosto 2021 alle ore 18.00 la mostra di mosaici dal titolo “Omaggio a Gustav Klimt”. Le opere del famoso artista prendono forma in una rivisitazione a mosaico realizzata dalle persone adulte con autismo che lavorano presso l’Officina dell’Arte di Pordenone. Secondo la loro peculiare visione i nostri speciali artisti hanno reinventato le opere di Klimt in un tripudio di oro\, colori e particolari fusi insieme che crediamo colpirà piacevolmente lo sguardo di coloro che visiteranno la mostra. \nPer visitare la mostra\, che rimarrà allestita fino al 24 settembre 2021\, è obbligatorio prenotare la visita guidata al museo Rocca Sanvitale. \nPer modalità di prenotazione e orari visite guidate www.fontanellato.org oppure chiamare lo IAT Rocca Sanvitale allo 0521-829055 \nTutte le opere esposte sono in vendita. Per info sulle opere\, sui servizi della Fondazione: Fondazione Bambini e Autismo onlus Centro Operativo di Fidenza:\n0524-524047 o fidenza@bambinieautismo.org
URL:https://tabianoterme.it/event/fino-al-24-settembre-omaggio-a-gustav-klimt-in-rocca-sanvitale-fontanellato/
LOCATION:Museo Rocca Sanvitale\, Piazza Giacomo Matteotti\, 1\, Fontanellato\, Parma\, 43012\, Italia
CATEGORIES:Arte e Cultura,Mostra,Visita guidata
ATTACH;FMTTYPE=image/jpeg:https://tabianoterme.it/wp-content/uploads/2021/09/Fontanellato-depliant-credits-Castelli-Ducato.jpg
ORGANIZER;CN="IAT Rocca Sanvitale":MAILTO:iat@fontanellato.org
END:VEVENT
BEGIN:VEVENT
DTSTART;TZID=Europe/Rome:20210826T203000
DTEND;TZID=Europe/Rome:20210826T223000
DTSTAMP:20260423T092228
CREATED:20210810T150635Z
LAST-MODIFIED:20210811T071714Z
UID:9284-1630009800-1630017000@tabianoterme.it
SUMMARY:Camminate sotto le stelle sulle colline di Tabiano
DESCRIPTION:Una facile escursione accompagnati dalle guide EVA gruppo Esploratori Val d’Arda: il percorso è una sorpresa nel verde con un bel punto panoramico! \nMunirsi di torcia e di scarpe con la suola sagomata per camminare al meglio nella natura \nLe camminate si svolgeranno giovedì 12\, 19 e 26 agosto 2021 al raggiungimento del numero minino di partecipanti. \nRitrovo ore 20.30 in Piazza Verdi a Tabiano Terme \nCosto: 5\,00 € \nPrenotazione obbligatoria al numero 0524 565742 entro le ore 12 del giorno precedente
URL:https://tabianoterme.it/event/camminate-sotto-le-stelle-sulle-colline-di-tabiano-3/
LOCATION:Tabiano Terme
CATEGORIES:Bambini e famiglie,Camminata,Outdoor,Visita guidata
ATTACH;FMTTYPE=image/jpeg:https://tabianoterme.it/wp-content/uploads/2021/08/232587391_1919864338193909_4333623338042630261_n.jpg
ORGANIZER;CN="Consorzio Abitabiano":MAILTO:info@tabianoterme.it
END:VEVENT
BEGIN:VEVENT
DTSTART;TZID=Europe/Rome:20210819T203000
DTEND;TZID=Europe/Rome:20210819T223000
DTSTAMP:20260423T092228
CREATED:20210811T071648Z
LAST-MODIFIED:20210811T071648Z
UID:9282-1629405000-1629412200@tabianoterme.it
SUMMARY:Camminate sotto le stelle sulle colline di Tabiano
DESCRIPTION:Una facile escursione accompagnati dalle guide EVA gruppo Esploratori Val d’Arda: il percorso è una sorpresa nel verde con un bel punto panoramico! \nMunirsi di torcia e di scarpe con la suola sagomata per camminare al meglio nella natura \nLe camminate si svolgeranno giovedì 12\, 19 e 26 agosto 2021 al raggiungimento del numero minino di partecipanti. \nRitrovo ore 20.30 in Piazza Verdi a Tabiano Terme \nCosto: 5\,00 € \nPrenotazione obbligatoria al numero 0524 565742 entro le ore 12 del giorno precedente
URL:https://tabianoterme.it/event/camminate-sotto-le-stelle-sulle-colline-di-tabiano-2/
LOCATION:Tabiano Terme
CATEGORIES:Bambini e famiglie,Camminata,Outdoor,Visita guidata
ATTACH;FMTTYPE=image/jpeg:https://tabianoterme.it/wp-content/uploads/2021/08/232587391_1919864338193909_4333623338042630261_n.jpg
ORGANIZER;CN="Consorzio Abitabiano":MAILTO:info@tabianoterme.it
END:VEVENT
BEGIN:VEVENT
DTSTART;TZID=Europe/Rome:20210812T203000
DTEND;TZID=Europe/Rome:20210812T223000
DTSTAMP:20260423T092229
CREATED:20210810T145206Z
LAST-MODIFIED:20210811T071547Z
UID:9271-1628800200-1628807400@tabianoterme.it
SUMMARY:Camminate sotto le stelle sulle colline di Tabiano
DESCRIPTION:Una facile escursione accompagnati dalle guide EVA gruppo Esploratori Val d’Arda: il percorso è una sorpresa nel verde con un bel punto panoramico! \nMunirsi di torcia e di scarpe con la suola sagomata per camminare al meglio nella natura \nLe camminate si svolgeranno giovedì 12\, 19 e 26 agosto 2021 al raggiungimento del numero minino di partecipanti. \nRitrovo ore 20.30 in Piazza Verdi a Tabiano Terme \nCosto: 5\,00 € \nPrenotazione obbligatoria al numero 0524 565742 entro le ore 12 del giorno precedente
URL:https://tabianoterme.it/event/camminate-sotto-le-stelle-sulle-colline-di-tabiano/
LOCATION:Tabiano Terme
CATEGORIES:Bambini e famiglie,Camminata,Outdoor,Visita guidata
ATTACH;FMTTYPE=image/jpeg:https://tabianoterme.it/wp-content/uploads/2021/08/232587391_1919864338193909_4333623338042630261_n.jpg
ORGANIZER;CN="Consorzio Abitabiano":MAILTO:info@tabianoterme.it
END:VEVENT
BEGIN:VEVENT
DTSTART;TZID=Europe/Rome:20210717T173000
DTEND;TZID=Europe/Rome:20210717T190000
DTSTAMP:20260423T092229
CREATED:20210716T124609Z
LAST-MODIFIED:20210716T124609Z
UID:8778-1626543000-1626548400@tabianoterme.it
SUMMARY:#EccoFidenza 2021 – Fidenza Segreta
DESCRIPTION:Una passeggiata alla scoperta dei luoghi meno conosciuti della città \nE’ possibile ricostruire la storia di una città passeggiando tra le vie\, attraversando le piazze e osservando gli edifici sorti lungo queste strade e intorno a queste piazze. Con una sguardo più attento e curioso scopriremo angoli del borgo poco battuti\, dettagli nascosti tra i palazzi e scorci insoliti. Durante la passeggiata\, non mancherà il racconto di aneddoti curiosi e leggende cittadine. \nOre: 17.30\, partenza da IAT R Casa Cremonini\nDurata Visita: 1 ora e 30 circa\nCosto: € 5\,00\nBambini fino a 10 anni: gratuito \nE’ obbligatorio presentarsi con la mascherina\, nel corso della visita dovrà essere indossata durante le spiegazioni quando gli spazi non consentono di mantenere le distanze di sicurezza minime. \nSarà richiesta la compilazione del modulo di partecipazione. \nPrenotazione obbligatoria entro il giorno precedente la visita\nhttp://bit.ly/EccoFidenza2021\n0524 83377\niat.fidenza@terrediverdi.it \nScarica la locandina dell’evento #EccoFidenza 2021 – Fidenza Segreta
URL:https://tabianoterme.it/event/eccofidenza-2021-fidenza-segreta/
LOCATION:Fidenza\, Piazza Duomo\, 16\, Fidenza\, 43036\, Italia
CATEGORIES:Visita guidata
ATTACH;FMTTYPE=image/jpeg:https://tabianoterme.it/wp-content/uploads/2021/07/ecco-fidenza-2021-fidenza-segreta-17-luglio-2021_1.jpg
ORGANIZER;CN="IAT Casa Cremonini Fidenza":MAILTO:iat.fidenza@terrediverdi.it
END:VEVENT
BEGIN:VEVENT
DTSTART;TZID=Europe/Rome:20210711T090000
DTEND;TZID=Europe/Rome:20210711T103000
DTSTAMP:20260423T092229
CREATED:20210708T081915Z
LAST-MODIFIED:20210708T085302Z
UID:8609-1625994000-1625999400@tabianoterme.it
SUMMARY:Visita guidata "La grande hôtellerie salsese"
DESCRIPTION:Se solo potessero parlare le hall degli alberghi salsesi\, cosa potrebbero raccontarci?\nAccompagnati da un’appassionata guida andremo a scoprire la storia di Salsomaggiore Terme. \nDomenica 11 luglio 2021\nOre 18:30 \nOgni partecipante dovrà provvedere ai sistemi di protezione individuale anti Covid-19. La mascherina verrà utilizzata nei momenti in cui non si potranno mantenere le distanze di sicurezza. \nPunto di partenza: Ufficio informazione turistica\, Palazzina Warowland\nCosto: € 6 adulti\, €4 ragazzi dai 8 ai 18 anni\, gratis bambini sotto i 8 anni\nDifficoltà: bassa\nDurata della visita: 1 ora e mezza circa \nPRENOTAZIONE OBBLIGATORIA\nhttps://bit.ly/AroundThermae2021\nAround Thermae +39 392 859 5888\naroundthermae@gmail.com \nL’evento realizzato dall’associazione Salso Coworking in collaborazione con Verd&Acque Cultura e Territorio è in programma per il Festival @Acque che Passione 2021. \n  \nFonte testo: Around Thermae
URL:https://tabianoterme.it/event/visita-guidata-la-grande-hotellerie-salsese/
LOCATION:Palazzina Warowland\, Piazza Berzieri\, Salsomaggiore\, Parma\, 43039
CATEGORIES:Visita guidata
ATTACH;FMTTYPE=image/jpeg:https://tabianoterme.it/wp-content/uploads/2021/07/hotellerie-salsomaggiore-11-luglio-2021.jpg
ORGANIZER;CN="Around Thermae":MAILTO:aroundthermae@gmail.com
END:VEVENT
END:VCALENDAR