BEGIN:VCALENDAR
VERSION:2.0
PRODID:-//Tabiano terme - ECPv6.15.11//NONSGML v1.0//EN
CALSCALE:GREGORIAN
METHOD:PUBLISH
X-ORIGINAL-URL:https://tabianoterme.it
X-WR-CALDESC:Eventi per Tabiano terme
REFRESH-INTERVAL;VALUE=DURATION:PT1H
X-Robots-Tag:noindex
X-PUBLISHED-TTL:PT1H
BEGIN:VTIMEZONE
TZID:Europe/Rome
BEGIN:DAYLIGHT
TZOFFSETFROM:+0100
TZOFFSETTO:+0200
TZNAME:CEST
DTSTART:20240331T010000
END:DAYLIGHT
BEGIN:STANDARD
TZOFFSETFROM:+0200
TZOFFSETTO:+0100
TZNAME:CET
DTSTART:20241027T010000
END:STANDARD
BEGIN:DAYLIGHT
TZOFFSETFROM:+0100
TZOFFSETTO:+0200
TZNAME:CEST
DTSTART:20250330T010000
END:DAYLIGHT
BEGIN:STANDARD
TZOFFSETFROM:+0200
TZOFFSETTO:+0100
TZNAME:CET
DTSTART:20251026T010000
END:STANDARD
BEGIN:DAYLIGHT
TZOFFSETFROM:+0100
TZOFFSETTO:+0200
TZNAME:CEST
DTSTART:20260329T010000
END:DAYLIGHT
BEGIN:STANDARD
TZOFFSETFROM:+0200
TZOFFSETTO:+0100
TZNAME:CET
DTSTART:20261025T010000
END:STANDARD
BEGIN:DAYLIGHT
TZOFFSETFROM:+0100
TZOFFSETTO:+0200
TZNAME:CEST
DTSTART:20270328T010000
END:DAYLIGHT
BEGIN:STANDARD
TZOFFSETFROM:+0200
TZOFFSETTO:+0100
TZNAME:CET
DTSTART:20271031T010000
END:STANDARD
END:VTIMEZONE
BEGIN:VEVENT
DTSTART;TZID=Europe/Rome:20250904T203000
DTEND;TZID=Europe/Rome:20250904T220000
DTSTAMP:20260422T000833
CREATED:20250829T110705Z
LAST-MODIFIED:20250829T110705Z
UID:13625-1757017800-1757023200@tabianoterme.it
SUMMARY:Camminata serale sulle colline
DESCRIPTION: Escursione serale a TabianoPartenza: ore 20:30 da Piazza Verdi\, TabianoCosto: 5\,00 € a persona (da versare alla partenza alla Guida)Durata: circa 2 ore – Distanza: 6 kmDifficoltà: media – consigliata a chi ha buona propensione alla camminata anche in salita\n Cosa portare:Scarpe da ginnastica con suola sagomataBottiglietta d’acquaTorciaRepellente per insetti\n Norme per il contenimento della peste suina:Obbligatorie scarpe di ricambio da tenere in una borsa di plastica da lasciare in auto.Al rientro\, disinfettare accuratamente le suole.I cani devono essere tenuti al guinzaglio per tutta la durata dell’escursione\n Prenotazione obbligatoriaEntro le ore 12:00 del giorno precedenteTel: 339 4987087Email: info@tabianoterme.it\n\nOrganizzazione a cura del Consorzio AbiTabiano
URL:https://tabianoterme.it/event/camminata-serale-sulle-colline/
LOCATION:Tabiano Terme
CATEGORIES:Bambini e famiglie,Camminata,Outdoor,Sport,Visita guidata
ATTACH;FMTTYPE=image/png:https://tabianoterme.it/wp-content/uploads/2025/08/camminata-giovedi37.png
ORGANIZER;CN="Consorzio Abitabiano":MAILTO:info@tabianoterme.it
END:VEVENT
BEGIN:VEVENT
DTSTART;TZID=Europe/Rome:20250905T100000
DTEND;TZID=Europe/Rome:20250914T170000
DTSTAMP:20260422T000833
CREATED:20250829T100144Z
LAST-MODIFIED:20250829T100144Z
UID:13615-1757066400-1757869200@tabianoterme.it
SUMMARY:Festival del Prosciutto di Parma XXVIII EDIZIONE
DESCRIPTION:Una grande festa per conoscere e degustare il Prosciutto di Parma e apprezzare le bellezze culturali e naturalistiche dei luoghi d’origine\n\n\n\n\nFestival del Prosciutto di Parma\, dal 5 al 7 settembre 2025\, per celebrare il Re dei Prosciutti: un calendario ricco di appuntamenti all’insegna della gastronomia\, dello spettacolo e della cultura. \nE la festa continua con “Prosciutto di Parma in festa” nei giorni del 12 – 13 – 14 settembre 2025!\nTorna in occasione della XXVIII edizione del Festival del Prosciutto di Parma l’iniziativa FINESTRE APERTE\, appuntamento principe della manifestazione che attrae ogni anno un folto pubblico di appassionati. \nI produttori apriranno le porte dei prosciuttifici per guidare i visitatori alla scoperta dei segreti del ciclo di lavorazione respirando i profumi delle cattedrali del Prosciutto di Parma.\n\n\nPer prendere parte a Finestre Aperte è obbligatoria la prenotazione: https://www.langhiranovalley.it/finestreaperte/
URL:https://tabianoterme.it/event/festival-del-prosciutto-di-parma-xxviii-edizione/
LOCATION:Langhirano
CATEGORIES:Bambini e famiglie,Enogastronomia,Food,Visita guidata
ATTACH;FMTTYPE=image/jpeg:https://tabianoterme.it/wp-content/uploads/2025/08/background-slider-programma-full.jpg
ORGANIZER;CN="Consorzio del Prosciutto di Parma":MAILTO:info@prosciuttodiparma.com
END:VEVENT
BEGIN:VEVENT
DTSTART;VALUE=DATE:20250907
DTEND;VALUE=DATE:20250908
DTSTAMP:20260422T000833
CREATED:20250627T095324Z
LAST-MODIFIED:20250627T095324Z
UID:13280-1757203200-1757289599@tabianoterme.it
SUMMARY:Visita guidata straordinaria al Castello di Castelnuovo Fogliani
DESCRIPTION:Visita guidata straordinaria al castello di Castelnuovo Fogliani\nLa durata della visita sarà di circa 80 minuti e comprenderà la visita della Chiesa di San Biagio\, le principali sale affrescate della residenza\, progettata dall’architetto Luigi Vanvitelli\, e del giardino all’italiana a guidare i visitatori alla scoperta dell’architettura e dell’arte del castello sarà Alessandro Malinverni\, direttore del Museo Gazzola di Piacenza. \nDomeniche 7 e 28 settembre 2025\nDomenica 5 ottobre 2025\nOre 15.30 (prima visita) ore 17.00 (seconda visita) \nPer informazioni e prenotazione obbligatoria: contattare il Comune di Alseno al numero 0523 945500 nelle mattinate dal lunedì al sabato.
URL:https://tabianoterme.it/event/visita-guidata-straordinaria-al-castello-di-castelnuovo-fogliani/2025-09-07/
LOCATION:Castello di Castelnuovo Fogliani\, Viale Rimembranze\, 87\, Castelnuovo Fogliani\, 29010\, Italia
CATEGORIES:Arte e Cultura,Bambini e famiglie,Visita guidata
ATTACH;FMTTYPE=image/webp:https://tabianoterme.it/wp-content/uploads/2025/06/visita-guidata-straordinaria-al-castello-di-castelnuovo-fogliani-settembre-2025-1.webp
ORGANIZER;CN="Castelli del Ducato":MAILTO:info@castellidelducato.it
END:VEVENT
BEGIN:VEVENT
DTSTART;TZID=Europe/Rome:20250913T110000
DTEND;TZID=Europe/Rome:20251109T160000
DTSTAMP:20260422T000833
CREATED:20250829T071906Z
LAST-MODIFIED:20250829T071906Z
UID:13598-1757761200-1762704000@tabianoterme.it
SUMMARY:Mostra "I BALOCCHI DI UNA VOLTA"
DESCRIPTION:Un’ampia selezione di giocattoli d’epoca che spaziano dalla fine del XIX secolo fino al dopoguerra racconterà la storia della produzione di giocattoli in Italia\, un settore di nicchia ma di alto livello che\, sull’esempio dei più noti e già affermati mercati europei\, introdusse per la prima volta nel nostro paese l’idea di una produzione su scala industriale di oggetti destinati a divertire i bambini\, realizzati con somma maestria artigianale e materiali di qualità\, una strada di difficile percorrenza in un’economia\, quella italiana del primo Novecento\, ancora arretrata. \nGli oggetti esposti non mancheranno di emozionare profondamente il pubblico\, sorprendendo le nuove generazioni e smuovendo nei più grandi lontani ricordi d’infanzia: bambole\, macchinine\, una infinita varietà di mezzi di trasporto\, giostre\, lanterne magiche e tanti altri oggetti\, a volte dotati di meccanismi e movimenti a molla\, sono realizzati in latta\, legno e ceramica\, frutto di una profonda abilità artigianale e di una indubbia creatività che nel secondo Novecento ha dovuto cedere il passo ai nuovi mercati asiatici e ai più economici materiali sintetici. \nLa mostra rimarrà aperta ad ingresso libero fino a domenica 9 novembre\, seguendo gli orari di apertura del Museo. \nSono previste VISITE GUIDATE GRATUITE \nalle ore 10.30 nelle giornate di: \nsabato 20 e 27 settembre\nsabato 4\, 18 e 25 ottobre\nsabato 8 novembre \nInfo e prenotazioni alla mail info@museoglaucolombardi.it o al numero del Museo 0521 233727
URL:https://tabianoterme.it/event/mostra-i-balocchi-di-una-volta/
LOCATION:Museo Glauco Lombardi\, Strada G. Garibaldi\, 15 - Parma\, Parma\, Italia\, 43121
CATEGORIES:Bambini e famiglie,Mostra,Museo,Visita guidata
ATTACH;FMTTYPE=image/png:https://tabianoterme.it/wp-content/uploads/2025/08/unnamed.png
ORGANIZER;CN="Museo Glauco Lombardi":MAILTO:info@museoglaucolombardi.it.
END:VEVENT
BEGIN:VEVENT
DTSTART;TZID=Europe/Rome:20250913T143000
DTEND;TZID=Europe/Rome:20250913T180000
DTSTAMP:20260422T000833
CREATED:20250825T085240Z
LAST-MODIFIED:20250825T085441Z
UID:13555-1757773800-1757786400@tabianoterme.it
SUMMARY:L’Anello dei Calanchi: camminata ad anello tra le colline di Fidenza.
DESCRIPTION:Non si finisce mai di scoprire angoli del nostro territorio inesplorati: camminata ad anello tra le colline di Fidenza.\nQuesto insolito percorso ci permette anche di guadare il Parola un paio di volte. \nDi seguito i dettagli: \nRitrovo alle ore 14:30 al cimitero di Costamezzana\nDurata: 3H ca (soste escluse)\nLunghezza: 9\,5 km\nDifficoltà: media\nCosto: € 12\,00 a persona\, gratuito under 10\nEtà minima: 6 anni \nDurante il percorso si avrà l’occasione di sostare in una trattoria\, per gustare un delizioso aperitivo! \nOccorre portare un paio in più di calze per attraversamento Parola. In alternativa scarpette da scoglio o sandali. \nIl gruppo è accompagnato da una guida ambientale escursionistica. \nL’evento è confermato al raggiungimento del numero minimo di 10 partecipanti paganti\, massimo 20 partecipanti.\nPrenotazione obbligatoria entro le ore 12:00 di venerdì 12 settembre. \nCon riferimento alla normativa della Regione Emilia Romagna legata alla peste suina\, si raccomanda di portare con sé un paio di scarpe di ricambio da indossare alla fine del percorso e di provvedere alla disinfezione delle calzature utilizzate durante l’escursione. \nPer informazioni e prenotazioni:\nIAT-R Fidenza Casa Cremonini\nTel. 0524/83377\niat.fidenza@terrediverdi.it
URL:https://tabianoterme.it/event/lanello-dei-calanchi-camminata-ad-anello-tra-le-colline-di-fidenza/
LOCATION:Costamezzana\, 43015
CATEGORIES:Bambini e famiglie,Camminata,Outdoor,Visita guidata
ATTACH;FMTTYPE=image/webp:https://tabianoterme.it/wp-content/uploads/2025/08/Costamezzana.webp
ORGANIZER;CN="IAT Casa Cremonini Fidenza":MAILTO:iat.fidenza@terrediverdi.it
END:VEVENT
BEGIN:VEVENT
DTSTART;TZID=Europe/Rome:20250914T093000
DTEND;TZID=Europe/Rome:20250914T110000
DTSTAMP:20260422T000833
CREATED:20250825T084416Z
LAST-MODIFIED:20250825T084520Z
UID:13551-1757842200-1757847600@tabianoterme.it
SUMMARY:“Colazione in Castello” alla Rocca Sanvitale di Fontanellato
DESCRIPTION:Colazione in Castello nel Giardino Pensile di Flora\nRegalatevi una domenica fuori dal tempo. Qui la bellezza si gusta… sin dal mattino! \nAvete mai sognato di fare colazione in un castello\, immersi nella quiete di un giardino pensile fiorito\, con la vista che si apre sul romantico fossato colmo d’acqua? Domenica 14 settembre 2025 il vostro sogno diventa realtà a Fontanellato\, uno dei borghi più affascinanti dell’Emilia-Romagna. \nUn buongiorno speciale nel cuore della Rocca\n“Colazione in Castello” è molto più di un semplice appuntamento: è un’esperienza da vivere con lentezza\, gusto e meraviglia. Dalle ore 9.30\, il Giardino Pensile di Flora\, affacciato sulle mura della Rocca Sanvitale\, si trasforma in un salotto all’aria aperta\, con tavolini eleganti\, tovaglie curate nei dettagli e un’atmosfera che ricorda le colazioni aristocratiche di altri tempi. \nLa colazione proposta include una selezione di prelibatezze dolci e salate\, scelte con attenzione per esaltare i sapori del territorio. Il profumo del caffè\, i succhi di frutta fresca\, le torte casalinghe\, i formaggi e i salumi locali vi accompagneranno in un risveglio da sogno\, cullati dalla brezza mattutina e dal fascino senza tempo delle antiche pietre del castello. \nA seguire: visita guidata e meraviglie del Rinascimento\nMa la magia non finisce con il primo caffè: dopo la colazione\, gli ospiti parteciperanno a una visita guidata esclusiva alla Rocca Sanvitale\, uno scrigno di storia e arte. Il percorso si concentra sulla celebre Saletta di Diana e Atteone\, decorata con l’eccezionale affresco realizzato da Francesco Mazzola\, detto il Parmigianino\, uno dei capolavori assoluti del manierismo italiano. Una guida esperta vi condurrà alla scoperta di simboli\, significati nascosti e dettagli pittorici che vi faranno rivivere l’atmosfera colta e raffinata della Corte Sanvitale. \nUn evento della rassegna “Colazione in Castello”\nL’iniziativa rientra nel circuito dei Castelli del Ducato\, nell’ambito della rassegna “Colazione in Castello”\, pensata per valorizzare il patrimonio culturale\, storico e architettonico del nostro territorio attraverso momenti di convivialità\, scoperta e bellezza. \nPrenotazione obbligatoria. Posti limitati.\nInfo e prenotazioni: rocca@fontanellato.org\nCosto dell’esperienza (colazione + visita guidata): 25 Euro
URL:https://tabianoterme.it/event/colazione-in-castello-alla-rocca-sanvitale-di-fontanellato/
LOCATION:Fontanellato\, Fontanellato\, 43012
CATEGORIES:Arte e Cultura,Bambini e famiglie,Outdoor,Storia,Visita guidata
ATTACH;FMTTYPE=image/webp:https://tabianoterme.it/wp-content/uploads/2025/08/Colazione_in_castello_Rocca_Sanvitale2025.webp
ORGANIZER;CN="Castelli del Ducato":MAILTO:info@castellidelducato.it
END:VEVENT
BEGIN:VEVENT
DTSTART;TZID=Europe/Rome:20250914T103000
DTEND;TZID=Europe/Rome:20260106T163000
DTSTAMP:20260422T000833
CREATED:20250825T090744Z
LAST-MODIFIED:20250825T090744Z
UID:13561-1757845800-1767717000@tabianoterme.it
SUMMARY:Mostra “Knock Knock Knock” al Labirinto della Masone di Fontanellato
DESCRIPTION:Per l’autunno 2025\, il Labirinto della Masone apre le porte (in senso quanto mai letterale) a una mostra che saprà incuriosire e affascinare chi attraversa le soglie del nostro museo.\nSono i “picchiotti” da porta\, più comunemente conosciuti come battenti o batacchi\, i protagonisti di questo nuovo progetto espositivo: pezzi unici in ferro forgiati tra il XIV e il XVIII secolo\, provenienti dalla straordinaria collezione privata di Alessandro Cesati.\nVeri e propri “guardiani” delle dimore europee\, questi oggetti di splendida fattura incarnano un sapere antico in cui l’arte della scultura in ferro battuto raggiunge vette altissime di perizia tecnica\, potenza plastica e immaginazione simbolica. \nLa mostra si inserisce nel solco di una ricerca che da sempre contraddistingue i progetti culturali di Franco Maria Ricci\, il cui sguardo erudito\, appassionato e instancabilmente curioso non ha mai esitato a riconoscere bellezza e ingegno anche nei territori meno battuti dell’arte e dell’artigianato. \nI picchiotti ferrei ne sono un esempio eccellente: lungi dall’essere semplici manufatti d’uso\, i pezzi esposti rappresentano un patrimonio iconografico e antropologico di rara suggestione.\nRealizzati principalmente in Italia e in Spagna\, ma anche in Francia\, Austria e Germania\, questi battenti figurati presentano una varietà formale sorprendente: draghi\, serpenti\, leoni\, protomi umane\, elementi vegetali\, figure a tutto tondo o dettagli minimali incisi con grazia e forza espressiva. Sono creature che non fungono soltanto da ornamento o meccanismo\, ma “esprimono l’anima stessa della Casa”: un luogo da proteggere\, presidiato da un genius loci in forma di animale o figura antropomorfa\, spesso legato a simbologie antiche e precristiane. \nLa collezione Cesati si distingue per l’altissimo livello qualitativo dei suoi esemplari – selezionati con rigore e passione dagli anni Settanta a oggi e capaci di incarnare un linguaggio plastico autonomo e profondamente evocativo. Knock Knock Knock rappresenta la prima occasione pubblica in Italia per ammirare questo insieme straordinario\, custodito da una delle famiglie più autorevoli dell’antiquariato europeo. \nGrazie all’allestimento a cura di Maddalena Casalis e Elisa Rizzardi\, i sessantacinque pezzi saranno proposti nel loro momento “dinamico”\, con l’intento di svelarne le meraviglie minime (zanne\, piume\, muscoli\, sguardi…) e di restituire quella sottile emozione che nasceva dal gesto di bussare\, quando afferrando il battente se ne coglievano\, d’un tratto\, le finezze più sorprendenti. \nUna inedita “camera delle meraviglie”\, carica di significati: attraverso i testi di Stefano Salis\, che accompagnano la mostra\, si esplorano i concetti di “varco fisico” e “varco simbolico”\, temi quanto mai attuali che trovano nel Labirinto un contrappunto ideale – un luogo che è da sempre emblema di attraversamento tra interiorità e mondo esterno.\nUna suggestione amplificata dalle immagini di porte\, portoni e soglie scattate dal fotografo Massimo Listri\, che invitando al silenzio e alla contemplazione raccontano l’architettura come esperienza mentale ed emotiva. \nIn occasione della mostra sarà pubblicato un omonimo volume edito da Franco Maria Ricci Editore\, con testi di Stefano Salis e Carlo Donà. \nInformazioni\nLa mostra è aperta tutti i giorni\, inclusi i festivi\, tranne il martedì. L’accesso è incluso nel biglietto d’ingresso al Labirinto della Masone. \nOrario estivo (fino al 31 ottobre 2025): dalle 10:30 alle 19:00\, ultimo ingresso alle ore 17:30\nOrario invernale (dal 1° novembre al 30 marzo 2026): dalle 9:30 alle 18:00\, ultimo ingresso alle ore 16:30. \nApertura straordinaria martedì 6 gennaio 2026 \nContatti\nTelefono: 0521 827081 \nMail: labirinto@francomariaricci.com
URL:https://tabianoterme.it/event/mostra-knock-knock-knock-al-labirinto-della-masone-di-fontanellato/
LOCATION:Labirinto della Masone\, Strada Masone\, 121\, Fontanellato\, 43012
CATEGORIES:Arte e Cultura,Cultura,Mostra,Museo,Visita guidata
ATTACH;FMTTYPE=image/webp:https://tabianoterme.it/wp-content/uploads/2025/08/Knock-Knock-Knock_Labirinto-della-Masone.webp
ORGANIZER;CN="Labirinto della Masone":MAILTO:labirinto@francomariaricci.com
END:VEVENT
BEGIN:VEVENT
DTSTART;VALUE=DATE:20250928
DTEND;VALUE=DATE:20250929
DTSTAMP:20260422T000833
CREATED:20250627T095324Z
LAST-MODIFIED:20250627T095324Z
UID:13283-1759017600-1759103999@tabianoterme.it
SUMMARY:Visita guidata straordinaria al Castello di Castelnuovo Fogliani
DESCRIPTION:Visita guidata straordinaria al castello di Castelnuovo Fogliani\nLa durata della visita sarà di circa 80 minuti e comprenderà la visita della Chiesa di San Biagio\, le principali sale affrescate della residenza\, progettata dall’architetto Luigi Vanvitelli\, e del giardino all’italiana a guidare i visitatori alla scoperta dell’architettura e dell’arte del castello sarà Alessandro Malinverni\, direttore del Museo Gazzola di Piacenza. \nDomeniche 7 e 28 settembre 2025\nDomenica 5 ottobre 2025\nOre 15.30 (prima visita) ore 17.00 (seconda visita) \nPer informazioni e prenotazione obbligatoria: contattare il Comune di Alseno al numero 0523 945500 nelle mattinate dal lunedì al sabato.
URL:https://tabianoterme.it/event/visita-guidata-straordinaria-al-castello-di-castelnuovo-fogliani/2025-09-28/
LOCATION:Castello di Castelnuovo Fogliani\, Viale Rimembranze\, 87\, Castelnuovo Fogliani\, 29010\, Italia
CATEGORIES:Arte e Cultura,Bambini e famiglie,Visita guidata
ATTACH;FMTTYPE=image/webp:https://tabianoterme.it/wp-content/uploads/2025/06/visita-guidata-straordinaria-al-castello-di-castelnuovo-fogliani-settembre-2025-1.webp
ORGANIZER;CN="Castelli del Ducato":MAILTO:info@castellidelducato.it
END:VEVENT
END:VCALENDAR