BEGIN:VCALENDAR
VERSION:2.0
PRODID:-//Tabiano terme - ECPv6.15.11//NONSGML v1.0//EN
CALSCALE:GREGORIAN
METHOD:PUBLISH
X-ORIGINAL-URL:https://tabianoterme.it
X-WR-CALDESC:Eventi per Tabiano terme
REFRESH-INTERVAL;VALUE=DURATION:PT1H
X-Robots-Tag:noindex
X-PUBLISHED-TTL:PT1H
BEGIN:VTIMEZONE
TZID:Europe/Rome
BEGIN:DAYLIGHT
TZOFFSETFROM:+0100
TZOFFSETTO:+0200
TZNAME:CEST
DTSTART:20240331T010000
END:DAYLIGHT
BEGIN:STANDARD
TZOFFSETFROM:+0200
TZOFFSETTO:+0100
TZNAME:CET
DTSTART:20241027T010000
END:STANDARD
BEGIN:DAYLIGHT
TZOFFSETFROM:+0100
TZOFFSETTO:+0200
TZNAME:CEST
DTSTART:20250330T010000
END:DAYLIGHT
BEGIN:STANDARD
TZOFFSETFROM:+0200
TZOFFSETTO:+0100
TZNAME:CET
DTSTART:20251026T010000
END:STANDARD
BEGIN:DAYLIGHT
TZOFFSETFROM:+0100
TZOFFSETTO:+0200
TZNAME:CEST
DTSTART:20260329T010000
END:DAYLIGHT
BEGIN:STANDARD
TZOFFSETFROM:+0200
TZOFFSETTO:+0100
TZNAME:CET
DTSTART:20261025T010000
END:STANDARD
END:VTIMEZONE
BEGIN:VEVENT
DTSTART;TZID=Europe/Rome:20250806T210000
DTEND;TZID=Europe/Rome:20250806T230000
DTSTAMP:20260422T015947
CREATED:20250805T074953Z
LAST-MODIFIED:20250805T074953Z
UID:13462-1754514000-1754521200@tabianoterme.it
SUMMARY:Il viaggio delle balene: una storia di evoluzione
DESCRIPTION:Un laboratorio interattivo per famiglie e bambini per scoprire come i cetacei\, antichi mammiferi terrestri\, si sono trasformati nei giganti marini di oggi. \nCon immagini\, giochi e una linea del tempo\, i bambini esploreranno l’evoluzione in modo creativo e coinvolgente. \nPer famiglie con bambini dai 7 anni in su
URL:https://tabianoterme.it/event/il-viaggio-delle-balene-una-storia-di-evoluzione/
LOCATION:MuMAB- Museo Mare Antico e Biodiversità\, Podere Millepioppi\, Salsomaggiore Terme\, PR\, 43039\, Italia
CATEGORIES:Arte e Cultura,Bambini e famiglie,Museo,Visita guidata
ATTACH;FMTTYPE=image/png:https://tabianoterme.it/wp-content/uploads/2025/08/balene-3-1024x577-1.png
ORGANIZER;CN="MuMAB - Museo Mare Antico e Biodiversit%C3%A0":MAILTO:mumab@millepioppi.it
END:VEVENT
BEGIN:VEVENT
DTSTART;TZID=Europe/Rome:20250808T193000
DTEND;TZID=Europe/Rome:20250808T220000
DTSTAMP:20260422T015947
CREATED:20250627T094629Z
LAST-MODIFIED:20250627T094629Z
UID:13262-1754681400-1754690400@tabianoterme.it
SUMMARY:Passeggiata al tramonto nel plenilunio dello Storione
DESCRIPTION:Facile passeggiata al tramonto in luoghi vicino alla città\, ma ancora ricchi di una natura incontaminata. Dalla località Colombaia saliremo sulle colline che circondano la bella chiesetta di Cogolonchio e ci fermeremo per un pic-nic condiviso sul bordo di un inaspettato laghetto. Ci regaleremo relax e chiacchiere prima di scendere rischiarati dalla luna e dalle nostre torce. \nDi seguito i dettagli: \nRitrovo alle ore 19:30 c/o Tabiano\, Bar della Colombaia\nDurata: 3H ca\nLunghezza: 6 km\nDifficoltà: facile\nCosto: € 12\,00 a persona\, gratuito under 10\nEtà minima: 6 anni \nSi consiglia di portar con sé uno spuntino al sacco\, che verrà consumato lungo il percorso. \nOccorre portare con sé una torcia. \nIl gruppo è accompagnato da una guida ambientale escursionistica. \nL’evento è confermato al raggiungimento del numero minimo di 10 partecipanti paganti\, massimo 20 partecipanti. \nPrenotazione obbligatoria entro le ore 12:00 di giovedì 7 agosto\, tramite la compilazione del modulo presente al link: https://forms.gle/y5JzxM4Pj1swuKnR9. \nCon riferimento alla normativa della Regione Emilia Romagna legata alla peste suina\, si raccomanda di portare con sé un paio di scarpe di ricambio da indossare alla fine del percorso e di provvedere alla disinfezione delle calzature utilizzate durante l’escursione. \nPer informazioni e prenotazioni: Tel. 0524/83377
URL:https://tabianoterme.it/event/passeggiata-al-tramonto-nel-plenilunio-dello-storione/
LOCATION:Tabiano Terme
CATEGORIES:Bambini e famiglie,Camminata,Visita guidata
ATTACH;FMTTYPE=image/webp:https://tabianoterme.it/wp-content/uploads/2025/06/luna-piena-fragole-ecco-fidenza-2025-giugno.webp
ORGANIZER;CN="IAT Casa Cremonini Fidenza":MAILTO:iat.fidenza@terrediverdi.it
END:VEVENT
BEGIN:VEVENT
DTSTART;TZID=Europe/Rome:20250808T210000
DTEND;TZID=Europe/Rome:20250808T230000
DTSTAMP:20260422T015947
CREATED:20250805T075748Z
LAST-MODIFIED:20250805T075748Z
UID:13466-1754686800-1754694000@tabianoterme.it
SUMMARY:Come si fa un museo?
DESCRIPTION:Come si costruisce un museo? La rocambolesca storia dei primi collezionisti parte dalla Wunderkammer\, una scatola “delle meraviglie o mirabilia” divisa in vari scomparti che aveva l’obiettivo di catalogare vari reperti dei primi esploratori o naturalisti. \nL’attività inizia con la visita al MuMab dello studio di Raffaele Quarantelli dove è esposta la sua wunderkammer. \nSuccessivamente\, dopo una breve visita al museo\, i bambini si avventureranno in passeggiata all’interno del bosco del Podere Millepioppi alla ricerca di reperti da classificare ed esporre nella loro scatola delle meraviglie che diventerà il racconto della loro esperienza. \nPer famiglie con bambini dai 7 anni in su
URL:https://tabianoterme.it/event/come-si-fa-un-museo/
LOCATION:MuMAB- Museo Mare Antico e Biodiversità\, Podere Millepioppi\, Salsomaggiore Terme\, PR\, 43039\, Italia
CATEGORIES:Arte e Cultura,Bambini e famiglie,Mostra,Museo,Visita guidata
ATTACH;FMTTYPE=image/png:https://tabianoterme.it/wp-content/uploads/2025/08/museo-3-1024x577-1.png
ORGANIZER;CN="MuMAB - Museo Mare Antico e Biodiversit%C3%A0":MAILTO:mumab@millepioppi.it
END:VEVENT
BEGIN:VEVENT
DTSTART;TZID=Europe/Rome:20250813T183000
DTEND;TZID=Europe/Rome:20250813T210000
DTSTAMP:20260422T015947
CREATED:20250805T080041Z
LAST-MODIFIED:20250805T080041Z
UID:13471-1755109800-1755118800@tabianoterme.it
SUMMARY:C'era una volta il mare
DESCRIPTION:Storie\, leggende e racconti fra Mare antico e Torrente Stirone \nPasseggiata animata dal Podere Millepioppi al Geosito del torrente Stirone fra suoni della natura e parole narrate fra acqua e terra. Con guida GAE e attrice della compagnia di Teatro Ottotipi. \nUna guida esperta e una raccontastorie accompagneranno i partecipanti in una camminata al tramonto nel Parco dello Stirone per parlare di una storia incredibile\, lunga milioni di anni e dei suoi fantastici protagonisti\, animali (e piante) di ieri e di oggi! \nAttività gratuita per famiglie con bambini dai 6 anni in su \nProgetto Il Parco in poche…parole! Promosso dal Comune di Salsomaggiore Terme e dai Parchi del Ducato – Museo Mare Antico e Biodiversità\nProgetto finanziato con il contributo della Legge Regionale 9/2006 “Norme per la conservazione e valorizzazione della geodiversità dell’Emila Romagna e delle attività ad essa collegate” – 2025 \nCOSA PORTARE:\ntorcia frontale\nrepellente per insetti\nscarpe di ricambio
URL:https://tabianoterme.it/event/cera-una-volta-il-mare/
LOCATION:MuMAB- Museo Mare Antico e Biodiversità\, Podere Millepioppi\, Salsomaggiore Terme\, PR\, 43039\, Italia
CATEGORIES:Arte e Cultura,Bambini e famiglie,Museo,Visita guidata
ATTACH;FMTTYPE=image/jpeg:https://tabianoterme.it/wp-content/uploads/2025/08/mare-antico-1024x577-1.jpg
ORGANIZER;CN="MuMAB - Museo Mare Antico e Biodiversit%C3%A0":MAILTO:mumab@millepioppi.it
END:VEVENT
BEGIN:VEVENT
DTSTART;VALUE=DATE:20250815
DTEND;VALUE=DATE:20250816
DTSTAMP:20260422T015947
CREATED:20250627T095004Z
LAST-MODIFIED:20250627T095004Z
UID:13266-1755216000-1755302399@tabianoterme.it
SUMMARY:Aquile e gufi in volo al Castello di Tabiano
DESCRIPTION:Al Castello di Tabiano potrai ammirare da vicino aquile\, falchi\, gufi e barbagianni\, seguirne le prove di volo e\, con la guida di un esperto Maestro Falconiere\, conoscere i segreti di quest’arte antichissima e nobile\, praticata da Re e Imperatori. Prima degli spettacoli di falconeria è possibile partecipare alle visite guidate in Castello. \nOrari spettacoli falconeria: ore 11 e ore 17\nOrari di inizio visite guidate: ore 10\, ore 11 \, ore 16 e ore 17 \n“Abbiamo deciso di organizzare questo spettacolo per ripercorrere una tradizione di grande importanza del Castello -spiega Giacomo Corazza Martini\, proprietario del castello e autore di diversi volumi sulla storia di Tabiano -. Infatti\, la caccia con il falcone era l’attività preferita dell’Imperatore Federico II di Svevia\, alleato del Marchese Uberto Pallavicino il Grande\, signore di Tabiano nel XIII secolo. \nLe visite guidate inizieranno alle ore 10.00 – 11.00 – 16.00 e 17.00 per la durata di circa un’ora con un percorso che attraversa le sale decorate con affreschi\, specchi\, stemmi\, le ampie cantine a volta\, il parco di piante secolari\, le terrazze panoramiche\, lo scalone d’onore e l’antica biblioteca. \nLa manifestazione si svolge anche in caso di mal tempo. \nCosto della manifestazione:\nAdulti solo spettacolo: €14.00\nBambini da 5 a 12 anni solo spettacolo: €8.00\nAdulti visita guidata + falconeria: €18.00\nBambini da 5 a 12 anni visita guidata + falconeria: €10.00 \nNumeri telefonici\, mail e sito internet per informazioni: www.castelloditabiano.com – info@castelloditabiano.com – 3488955378
URL:https://tabianoterme.it/event/aquile-e-gufi-in-volo-al-castello-di-tabiano-2/
LOCATION:Castello di Tabiano\, Via Castello\, Salsomaggiore Terme\, 43039
CATEGORIES:Bambini e famiglie,Visita guidata
ATTACH;FMTTYPE=image/webp:https://tabianoterme.it/wp-content/uploads/2025/06/AQUILE-E-GUFI-IN-VOLO-AL-CASTELLO-DI-TABIANO-15-AGOSTO-2025-1-1.webp
ORGANIZER;CN="Castello di Tabiano":MAILTO:info@castelloditabiano.com
END:VEVENT
BEGIN:VEVENT
DTSTART;TZID=Europe/Rome:20250820T210000
DTEND;TZID=Europe/Rome:20250820T230000
DTSTAMP:20260422T015947
CREATED:20250805T080335Z
LAST-MODIFIED:20250805T080335Z
UID:13475-1755723600-1755730800@tabianoterme.it
SUMMARY:Sei velenoso?
DESCRIPTION:Se ti affascina il mondo dei serpenti questa attività è perfetta per te! \nScopriremo insieme le specie più comuni del nostro territorio e anche quelle esotiche.\nQuali serpenti sono velenosi e quali no? Quali sono addirittura letali? Come bisogna comportarsi in caso di incontro ravvicinato? \nImpareremo questo e molto altro nella nostra serata da veri erpetologi. Seguirà anche una visita al nostro stagno didattico. \nPer famiglie con bambini dai 6 anni in su \nCOSA PORTARE:\ntorcia frontale\nrepellente per insetti\nscarpe di ricambio
URL:https://tabianoterme.it/event/sei-velenoso/
LOCATION:MuMAB- Museo Mare Antico e Biodiversità\, Podere Millepioppi\, Salsomaggiore Terme\, PR\, 43039\, Italia
CATEGORIES:Bambini e famiglie,Mostra,Museo,Visita guidata
ATTACH;FMTTYPE=image/png:https://tabianoterme.it/wp-content/uploads/2025/08/sei-velenoso-1-1024x577-1.png
ORGANIZER;CN="MuMAB - Museo Mare Antico e Biodiversit%C3%A0":MAILTO:mumab@millepioppi.it
END:VEVENT
BEGIN:VEVENT
DTSTART;TZID=Europe/Rome:20250822T210000
DTEND;TZID=Europe/Rome:20250822T230000
DTSTAMP:20260422T015947
CREATED:20250805T080610Z
LAST-MODIFIED:20250805T080610Z
UID:13479-1755896400-1755903600@tabianoterme.it
SUMMARY:Sotto un mare di stelle
DESCRIPTION:Una camminata sui sentieri del Parco dello Stirone e del Piacenziano per raggiungere insieme il miglior punto di vista per osservare il cielo stellato a caccia di una stella cadente per un desiderio. In compagnia\, su sentieri di semplice percorrenza\, si potrà ammirare la bellezza del parco nella notte. Arrivati alla zona scelta per le osservazioni Daniele Ronconi\, appassionato astrofilo\, ci accompagnerà in un meraviglioso viaggio tra le stelle. \nL’itinerario a piedi è pianeggiante e parte dalla sede del MuMAB\, attraversa il podere e sul sentiero ci conduce alla località Laurano. \nCOSA PORTARE:\ntorcia frontale\nrepellente per insetti\ntelo per stendersi nel prato\nscarpe di ricambio \nConsigliato ad adulti e famiglie con bambini dai 5 anni
URL:https://tabianoterme.it/event/sotto-un-mare-di-stelle-3/
LOCATION:MuMAB- Museo Mare Antico e Biodiversità\, Podere Millepioppi\, Salsomaggiore Terme\, PR\, 43039\, Italia
CATEGORIES:Bambini e famiglie,Mostra,Museo,Visita guidata
ATTACH;FMTTYPE=image/png:https://tabianoterme.it/wp-content/uploads/2025/08/sotto-un-mare-di-stelle-preview-1-1024x577-1.png
ORGANIZER;CN="MuMAB - Museo Mare Antico e Biodiversit%C3%A0":MAILTO:mumab@millepioppi.it
END:VEVENT
BEGIN:VEVENT
DTSTART;TZID=Europe/Rome:20250827T203000
DTEND;TZID=Europe/Rome:20250827T223000
DTSTAMP:20260422T015947
CREATED:20250805T080836Z
LAST-MODIFIED:20250805T080836Z
UID:13483-1756326600-1756333800@tabianoterme.it
SUMMARY:Bat night
DESCRIPTION:Escursione serale sul geosito alla scoperta dei pipistrelli \nSilenzio nel bosco… ma non per chi sa ascoltare!\nAccompagnati da una guida esperta\, partiremo per un’affascinante escursione serale nel Parco dello Stirone alla scoperta di creature tanto misteriose quanto straordinarie: i pipistrelli. \nCon l’aiuto di un bat detector\, uno strumento speciale in grado di captare gli ultrasuoni emessi da questi piccoli mammiferi volanti\, ascolteremo i suoni invisibili che riempiono l’aria notturna\, mentre impariamo a riconoscere le diverse specie e i loro comportamenti. \nUn’occasione unica per sfatare miti e paure\, conoscere il ruolo fondamentale dei chirotteri negli ecosistemi e vivere il parco in una veste insolita\, avvolti dalla magia del crepuscolo. \nPer famiglie con bambini dai 6 anni in su \nProgetto Il Parco in poche…parole! Promosso dal Comune di Salsomaggiore Terme e dai Parchi del Ducato – Museo Mare Antico e Biodiversità\nProgetto finanziato con il contributo della Legge Regionale 9/2006 “Norme per la conservazione e valorizzazione della geodiversità dell’Emila Romagna e delle attività ad essa collegate” – 2025 \nCOSA PORTARE:\ntorcia frontale\nrepellente per insetti\nscarpe di ricambio
URL:https://tabianoterme.it/event/bat-night/
LOCATION:MuMAB- Museo Mare Antico e Biodiversità\, Podere Millepioppi\, Salsomaggiore Terme\, PR\, 43039\, Italia
CATEGORIES:Bambini e famiglie,Mostra,Museo,Visita guidata
ATTACH;FMTTYPE=image/png:https://tabianoterme.it/wp-content/uploads/2025/08/bat-night-preview-1-1024x577-1.png
ORGANIZER;CN="MuMAB - Museo Mare Antico e Biodiversit%C3%A0":MAILTO:mumab@millepioppi.it
END:VEVENT
BEGIN:VEVENT
DTSTART;TZID=Europe/Rome:20250829T210000
DTEND;TZID=Europe/Rome:20250829T230000
DTSTAMP:20260422T015947
CREATED:20250805T081217Z
LAST-MODIFIED:20250805T081217Z
UID:13487-1756501200-1756508400@tabianoterme.it
SUMMARY:Vivere la natura 3
DESCRIPTION:Introduzione al survival per famiglie \nHai mai pensato a come sarebbe passare una serata nella natura… come un vero esploratore? Al MuMAB sta per partire un ciclo di 3 serate esperienziali dedicate a famiglie\, bambini e adulti curiosi che vogliono scoprire come muoversi e vivere nella natura in sicurezza\, con intelligenza e spirito di avventura. \nOgni incontro affronterà un tema diverso della sopravvivenza leggera (survival soft)\, con attività pratiche\, costruzioni\, giochi educativi e simulazioni.\nNiente pericolo\, niente competizione: solo apprendimento attivo\, natura e collaborazione. \nSerata 3 – Acqua\, fuoco e riparo\nUna panoramica chiara e concreta su come affrontare una permanenza prolungata all’aperto in modo sano e funzionale\, imparando a regolare temperatura corporea\, idratazione e stress\, e a usare in modo intelligente le risorse di base: riparo\, acqua e fuoco. \nCon chi?\nCon Valerio Uni\, guida del MuMAB e istruttore di survival di Wild Fidenza\, che ti guiderà passo dopo passo tra zaini\, rifugi\, orientamento notturno\, giochi di squadra e tecniche base di sopravvivenza leggera.\nNiente pericoli\, niente sfide da film: solo divertimento\, natura\, collaborazione e scoperta! \n\nAttività per adulti e famiglie con bambini dai 6 anni in su \nSono obbligatorie le scarpe di ricambio per l’escursione!
URL:https://tabianoterme.it/event/vivere-la-natura-3/
LOCATION:MuMAB- Museo Mare Antico e Biodiversità\, Podere Millepioppi\, Salsomaggiore Terme\, PR\, 43039\, Italia
CATEGORIES:Bambini e famiglie,Mostra,Museo,Visita guidata
ATTACH;FMTTYPE=image/png:https://tabianoterme.it/wp-content/uploads/2025/08/survival-3-preview-1-1024x577-1.png
ORGANIZER;CN="MuMAB - Museo Mare Antico e Biodiversit%C3%A0":MAILTO:mumab@millepioppi.it
END:VEVENT
END:VCALENDAR