BEGIN:VCALENDAR
VERSION:2.0
PRODID:-//Tabiano terme - ECPv6.15.11//NONSGML v1.0//EN
CALSCALE:GREGORIAN
METHOD:PUBLISH
X-WR-CALNAME:Tabiano terme
X-ORIGINAL-URL:https://tabianoterme.it
X-WR-CALDESC:Eventi per Tabiano terme
REFRESH-INTERVAL;VALUE=DURATION:PT1H
X-Robots-Tag:noindex
X-PUBLISHED-TTL:PT1H
BEGIN:VTIMEZONE
TZID:Europe/Rome
BEGIN:DAYLIGHT
TZOFFSETFROM:+0100
TZOFFSETTO:+0200
TZNAME:CEST
DTSTART:20240331T010000
END:DAYLIGHT
BEGIN:STANDARD
TZOFFSETFROM:+0200
TZOFFSETTO:+0100
TZNAME:CET
DTSTART:20241027T010000
END:STANDARD
BEGIN:DAYLIGHT
TZOFFSETFROM:+0100
TZOFFSETTO:+0200
TZNAME:CEST
DTSTART:20250330T010000
END:DAYLIGHT
BEGIN:STANDARD
TZOFFSETFROM:+0200
TZOFFSETTO:+0100
TZNAME:CET
DTSTART:20251026T010000
END:STANDARD
BEGIN:DAYLIGHT
TZOFFSETFROM:+0100
TZOFFSETTO:+0200
TZNAME:CEST
DTSTART:20260329T010000
END:DAYLIGHT
BEGIN:STANDARD
TZOFFSETFROM:+0200
TZOFFSETTO:+0100
TZNAME:CET
DTSTART:20261025T010000
END:STANDARD
END:VTIMEZONE
BEGIN:VEVENT
DTSTART;TZID=Europe/Rome:20250702T210000
DTEND;TZID=Europe/Rome:20250702T220000
DTSTAMP:20260424T135448
CREATED:20250625T111719Z
LAST-MODIFIED:20250625T111719Z
UID:13223-1751490000-1751493600@tabianoterme.it
SUMMARY:Lo stagno di notte – MuMAB
DESCRIPTION:Abbiamo seguito in questi mesi l’evoluzione della vita nello stagno passo dopo passo. Dalla comparsa delle prime ovature\, al risveglio delle rane dormienti che hanno passato la stagione fredda in ibernazione sul fondo del laghetto alla metamorfosi dei tritoni. Sono comparse le ninfee e diverse specie vegetali ne hanno popolato le sponde. \nAllora continuiamo la nostra osservazione! Proseguiremo nello studio della vita dello stagno\, cercando di individuare i cambiamenti che le stagioni hanno portato con sé: ci saranno nuovi inquilini che non avevamo notato? \nScopriamolo insieme! \nAttività per famiglie con bambini dai 6 ai 12 anni \nSono obbligatorie le scarpe di ricambio per l’escursione! \nPer info e prenotazioni: https://millepioppi.it/events/lo-stagno-di-notte-2/
URL:https://tabianoterme.it/event/lo-stagno-di-notte-mumab/
LOCATION:MuMAB- Museo Mare Antico e Biodiversità\, Podere Millepioppi\, Salsomaggiore Terme\, PR\, 43039\, Italia
CATEGORIES:Bambini e famiglie,Museo,Outdoor,Visita guidata
ATTACH;FMTTYPE=image/jpeg:https://tabianoterme.it/wp-content/uploads/2025/06/Lo-stagno-di-notte.jpg
ORGANIZER;CN="MuMAB - Museo Mare Antico e Biodiversit%C3%A0":MAILTO:mumab@millepioppi.it
END:VEVENT
BEGIN:VEVENT
DTSTART;TZID=Europe/Rome:20250704T210000
DTEND;TZID=Europe/Rome:20250704T223000
DTSTAMP:20260424T135448
CREATED:20250703T145928Z
LAST-MODIFIED:20250703T154613Z
UID:13303-1751662800-1751668200@tabianoterme.it
SUMMARY:Ululando coi lupi
DESCRIPTION:Ma è vero che il lupo ulula alla luna? \nQuesta serata è dedicata interamente a conoscere il lupo\, il suo comportamento\, i suoi legami sociali e le soprattutto le sue tecniche di comunicazione.\nSfatando falsi miti\, capiremo insieme che non serve avere paura\, ma rispetto e conoscenza\, e adulti e bambini impareranno a conoscere e rispettare il lupo per l’animale straordinario che è. \nCon tutte le nuove conoscenze apprese usciremo in escursione nel Parco alla ricerca delle sue tracce! \nCOSA PORTARE\n– torcia frontale\n– repellente per insetti\n– obbligatoriamente le scarpe di ricambio! \nAttività per adulti e famiglie con bambini dai 6 anni
URL:https://tabianoterme.it/event/ululando-coi-lupi/
LOCATION:MuMAB- Museo Mare Antico e Biodiversità\, Podere Millepioppi\, Salsomaggiore Terme\, PR\, 43039\, Italia
CATEGORIES:Bambini e famiglie,Museo,Outdoor,Visita guidata
ATTACH;FMTTYPE=image/jpeg:https://tabianoterme.it/wp-content/uploads/2025/07/ululando-coi-lupi-1024x577-1.jpg
ORGANIZER;CN="MuMAB - Museo Mare Antico e Biodiversit%C3%A0":MAILTO:mumab@millepioppi.it
END:VEVENT
BEGIN:VEVENT
DTSTART;TZID=Europe/Rome:20250710T193000
DTEND;TZID=Europe/Rome:20250710T223000
DTSTAMP:20260424T135448
CREATED:20250627T094154Z
LAST-MODIFIED:20250627T094227Z
UID:13258-1752175800-1752186600@tabianoterme.it
SUMMARY:Passeggiata nel plenilunio del cervo
DESCRIPTION:Percorreremo un itinerario ad anello intorno al borgo di Tabiano Castello con la “visita” inaspettata ad un ulivo centenario che dimora sulle nostre colline. \nDi seguito i dettagli: \nRitrovo alle ore 19:30 c/o Tabiano Castello\, Parcheggio del cimitero\nDurata: 3H ca\, soste incluse\nLunghezza: 6\,5 km\nDifficoltà: facile\nCosto: 12\,00 a persona\, gratuito under 10\nEtà minima: 6 anni \nSi consiglia di portar con sé uno spuntino al sacco\, che verrà consumato lungo il percorso. \nOccorre portare con sé una torcia. \nIl gruppo è accompagnato da una guida ambientale escursionistica. \nL’evento è confermato al raggiungimento del numero minimo di 10 partecipanti paganti\, massimo 20 partecipanti. \nPrenotazione obbligatoria entro le ore 12:00 di mercoledì 9 luglio\, tramite la compilazione del modulo presente al link: https://forms.gle/y5JzxM4Pj1swuKnR9 \nCon riferimento alla normativa della Regione Emilia Romagna legata alla peste suina\, si raccomanda di portare con sé un paio di scarpe di ricambio da indossare alla fine del percorso e di provvedere alla disinfezione delle calzature utilizzate durante l’escursione. \nPer informazioni e prenotazioni Tel. 0524/83377
URL:https://tabianoterme.it/event/passeggiata-nel-plenilunio-del-cervo/
LOCATION:Tabiano Terme
CATEGORIES:Bambini e famiglie,Camminata,Visita guidata
ATTACH;FMTTYPE=image/webp:https://tabianoterme.it/wp-content/uploads/2025/06/Colline-di-Tabiano.webp
ORGANIZER;CN="IAT Casa Cremonini Fidenza":MAILTO:iat.fidenza@terrediverdi.it
END:VEVENT
BEGIN:VEVENT
DTSTART;TZID=Europe/Rome:20250711T210000
DTEND;TZID=Europe/Rome:20250711T223000
DTSTAMP:20260424T135448
CREATED:20250703T152902Z
LAST-MODIFIED:20250703T152902Z
UID:13322-1752267600-1752273000@tabianoterme.it
SUMMARY:Accidenti che collezione pazzesca
DESCRIPTION:Quanti denti sono custoditi al MuMAB? Scopriamolo con un’indagine notturna alla luce delle torce nei corridoi del museo. \n\nE se uno squalo avesse perso un dente proprio qui? Ma quanti altri denti possiamo trovare? \n10 milioni di anni fa i denti erano uguali a quelli di oggi? Molte domande a cui daremo risposta accompagnati da un’esperta che ci accompagnerà nel buio tra le sale del museo. \nCOSA PORTARE \n1. torcia frontale o a mano per la visita\n2. Una buona dose di coraggio \n\nPer famiglie con bambini dai 5 anni
URL:https://tabianoterme.it/event/accidenti-che-collezione-pazzesca-3/
LOCATION:MuMAB- Museo Mare Antico e Biodiversità\, Podere Millepioppi\, Salsomaggiore Terme\, PR\, 43039\, Italia
CATEGORIES:Bambini e famiglie,Museo,Outdoor,Visita guidata
ATTACH;FMTTYPE=image/jpeg:https://tabianoterme.it/wp-content/uploads/2025/07/accidenti-1-1024x577-1.jpg
ORGANIZER;CN="MuMAB - Museo Mare Antico e Biodiversit%C3%A0":MAILTO:mumab@millepioppi.it
END:VEVENT
BEGIN:VEVENT
DTSTART;TZID=Europe/Rome:20250716T210000
DTEND;TZID=Europe/Rome:20250716T223000
DTSTAMP:20260424T135448
CREATED:20250703T153234Z
LAST-MODIFIED:20250703T153316Z
UID:13326-1752699600-1752705000@tabianoterme.it
SUMMARY:Vivere la Natura 2
DESCRIPTION:Introduzione al survival per famiglie \nHai mai pensato a come sarebbe passare una serata nella natura… come un vero esploratore? Al MuMAB sta per partire un ciclo di 3 serate esperienziali dedicate a famiglie\, bambini e adulti curiosi che vogliono scoprire come muoversi e vivere nella natura in sicurezza\, con intelligenza e spirito di avventura. \nOgni incontro affronterà un tema diverso della sopravvivenza leggera (survival soft)\, con attività pratiche\, costruzioni\, giochi educativi e simulazioni.\nNiente pericolo\, niente competizione: solo apprendimento attivo\, natura e collaborazione. \n\nSerata 2 – Esplorare con i sensi\n\nCome ci si muove nel bosco di notte? Come ritroviamo il campo base? Apprendiamo le basi del movimento e dell’orientamento notturno senza strumenti\, attivando i sensi\, imparando a fidarci del gruppo e gestire l’incertezza in modo lucido e responsabile. \nCon chi?\nCon Valerio Uni\, guida del MuMAB e istruttore di survival di Wild Fidenza\, che ti guiderà passo dopo passo tra zaini\, rifugi\, orientamento notturno\, giochi di squadra e tecniche base di sopravvivenza leggera.\nNiente pericoli\, niente sfide da film: solo divertimento\, natura\, collaborazione e scoperta! \n\nAttività per adulti e famiglie con bambini dai 6 anni in su \nSono obbligatorie le scarpe di ricambio per l’escursione!
URL:https://tabianoterme.it/event/vivere-la-natura-2/
LOCATION:MuMAB- Museo Mare Antico e Biodiversità\, Podere Millepioppi\, Salsomaggiore Terme\, PR\, 43039\, Italia
CATEGORIES:Bambini e famiglie,Museo,Visita guidata
ATTACH;FMTTYPE=image/png:https://tabianoterme.it/wp-content/uploads/2025/07/serata-2-survival-1024x577-1.png
ORGANIZER;CN="MuMAB - Museo Mare Antico e Biodiversit%C3%A0":MAILTO:mumab@millepioppi.it
END:VEVENT
BEGIN:VEVENT
DTSTART;TZID=Europe/Rome:20250718T210000
DTEND;TZID=Europe/Rome:20250718T223000
DTSTAMP:20260424T135448
CREATED:20250703T153709Z
LAST-MODIFIED:20250703T153709Z
UID:13332-1752872400-1752877800@tabianoterme.it
SUMMARY:Micromondi notturni
DESCRIPTION:Insetti al microscopio tra buio e meraviglia \nUna notte speciale in cui osservare la natura da molto\, molto vicino! \nTi aspettiamo per una serata dedicata alle famiglie\, con una visita notturna al museo e un laboratorio con i microscopi dove potrai esplorare da vicino il minuscolo (e incredibile!) mondo degli insetti. Ali\, antenne\, zampette e colori sorprendenti ti sveleranno i segreti nascosti di queste piccole creature. \nPer famiglie con bambini dai 6 anni
URL:https://tabianoterme.it/event/micromondi-notturni/
LOCATION:MuMAB- Museo Mare Antico e Biodiversità\, Podere Millepioppi\, Salsomaggiore Terme\, PR\, 43039\, Italia
CATEGORIES:Bambini e famiglie,Outdoor,Visita guidata
ATTACH;FMTTYPE=image/jpeg:https://tabianoterme.it/wp-content/uploads/2025/07/micromondi-nella-notte-1024x577-1.jpg
ORGANIZER;CN="MuMAB - Museo Mare Antico e Biodiversit%C3%A0":MAILTO:mumab@millepioppi.it
END:VEVENT
BEGIN:VEVENT
DTSTART;TZID=Europe/Rome:20250723T210000
DTEND;TZID=Europe/Rome:20250723T223000
DTSTAMP:20260424T135448
CREATED:20250703T154026Z
LAST-MODIFIED:20250703T154026Z
UID:13336-1753304400-1753309800@tabianoterme.it
SUMMARY:Vita che brilla
DESCRIPTION:la bioluminescenza in natura \nAlcuni organismi riescono a produrre luce da soli. Non è magia\, è bioluminescenza: un fenomeno naturale affascinante che scopriremo insieme in questa serata speciale al MuMAB! \nDurante l’evento parleremo di insetti luminosi\, alghe brillanti\, e abitanti abissali che usano la luce per comunicare\, difendersi o cacciare.\nAttraverso attività interattive\, capiremo come funziona la bioluminescenza e perché è così importante in natura. \nUna parte della serata si svolgerà all’aperto\, per osservare l’ambiente notturno e – con un po’ di fortuna – incontrare anche qualche esempio vivente di luce naturale! \nCOSA PORTARE:\nrepellente per insetti
URL:https://tabianoterme.it/event/vita-che-brilla/
LOCATION:MuMAB- Museo Mare Antico e Biodiversità\, Podere Millepioppi\, Salsomaggiore Terme\, PR\, 43039\, Italia
CATEGORIES:Bambini e famiglie,Outdoor,Visita guidata
ATTACH;FMTTYPE=image/jpeg:https://tabianoterme.it/wp-content/uploads/2025/07/bioluminescenza-2-1024x577-1.jpg
ORGANIZER;CN="MuMAB - Museo Mare Antico e Biodiversit%C3%A0":MAILTO:mumab@millepioppi.it
END:VEVENT
BEGIN:VEVENT
DTSTART;TZID=Europe/Rome:20250725T210000
DTEND;TZID=Europe/Rome:20250725T223000
DTSTAMP:20260424T135448
CREATED:20250703T154310Z
LAST-MODIFIED:20250703T154310Z
UID:13340-1753477200-1753482600@tabianoterme.it
SUMMARY:Amici per le ossa al buio!
DESCRIPTION:Hai mai preso in mano il cranio di un animale e osservato i suoi denti e la forma delle sue ossa? Cosa cambia tra i denti di un erbivoro e quello di un carnivoro? E i pesci? E le balene? Una serata in cui diventare amici delle ossa e scoprire attraverso osservazione e manipolazione come siamo diversi ma uguali insieme.
URL:https://tabianoterme.it/event/amici-per-le-ossa-al-buio/
LOCATION:MuMAB- Museo Mare Antico e Biodiversità\, Podere Millepioppi\, Salsomaggiore Terme\, PR\, 43039\, Italia
CATEGORIES:Bambini e famiglie,Museo,Outdoor,Visita guidata
ATTACH;FMTTYPE=image/jpeg:https://tabianoterme.it/wp-content/uploads/2025/07/amici-per-le-ossa-1-1024x577-1.jpg
ORGANIZER;CN="MuMAB - Museo Mare Antico e Biodiversit%C3%A0":MAILTO:mumab@millepioppi.it
END:VEVENT
BEGIN:VEVENT
DTSTART;TZID=Europe/Rome:20250730T210000
DTEND;TZID=Europe/Rome:20250730T223000
DTSTAMP:20260424T135448
CREATED:20250703T154521Z
LAST-MODIFIED:20250703T154521Z
UID:13344-1753909200-1753914600@tabianoterme.it
SUMMARY:Gli alberi parlanti
DESCRIPTION:Camminata notturna tra alberi che raccontano \nCosa succede quando cala il sole al MuMAB? Gli alberi iniziano a parlare… e hanno tante storie da raccontare! \nTi aspettiamo per una camminata notturna per famiglie\, un’esperienza magica immersi nella natura\, tra messaggi nascosti e voci sussurrate dal bosco. Ogni albero lungo il percorso avrà qualcosa da dirti: storie antiche e segreti della terra… \nCOSA PORTARE:\ntorcia frontale\nrepellente per insetti\nse porti con te un bimbo piccolo raccomandiamo passeggino da trekking o marsupio \n\nDa 0 a 99 anni
URL:https://tabianoterme.it/event/gli-alberi-parlanti-2/
LOCATION:MuMAB- Museo Mare Antico e Biodiversità\, Podere Millepioppi\, Salsomaggiore Terme\, PR\, 43039\, Italia
CATEGORIES:Bambini e famiglie,Museo,Outdoor,Visita guidata
ATTACH;FMTTYPE=image/jpeg:https://tabianoterme.it/wp-content/uploads/2025/07/alberi-parlanti-1024x577-1.jpg
ORGANIZER;CN="MuMAB - Museo Mare Antico e Biodiversit%C3%A0":MAILTO:mumab@millepioppi.it
END:VEVENT
END:VCALENDAR