BEGIN:VCALENDAR
VERSION:2.0
PRODID:-//Tabiano terme - ECPv6.15.11//NONSGML v1.0//EN
CALSCALE:GREGORIAN
METHOD:PUBLISH
X-ORIGINAL-URL:https://tabianoterme.it
X-WR-CALDESC:Eventi per Tabiano terme
REFRESH-INTERVAL;VALUE=DURATION:PT1H
X-Robots-Tag:noindex
X-PUBLISHED-TTL:PT1H
BEGIN:VTIMEZONE
TZID:Europe/Rome
BEGIN:DAYLIGHT
TZOFFSETFROM:+0100
TZOFFSETTO:+0200
TZNAME:CEST
DTSTART:20250330T010000
END:DAYLIGHT
BEGIN:STANDARD
TZOFFSETFROM:+0200
TZOFFSETTO:+0100
TZNAME:CET
DTSTART:20251026T010000
END:STANDARD
BEGIN:DAYLIGHT
TZOFFSETFROM:+0100
TZOFFSETTO:+0200
TZNAME:CEST
DTSTART:20260329T010000
END:DAYLIGHT
BEGIN:STANDARD
TZOFFSETFROM:+0200
TZOFFSETTO:+0100
TZNAME:CET
DTSTART:20261025T010000
END:STANDARD
BEGIN:DAYLIGHT
TZOFFSETFROM:+0100
TZOFFSETTO:+0200
TZNAME:CEST
DTSTART:20270328T010000
END:DAYLIGHT
BEGIN:STANDARD
TZOFFSETFROM:+0200
TZOFFSETTO:+0100
TZNAME:CET
DTSTART:20271031T010000
END:STANDARD
END:VTIMEZONE
BEGIN:VEVENT
DTSTART;TZID=Europe/Rome:20260418T210000
DTEND;TZID=Europe/Rome:20260418T230000
DTSTAMP:20260423T035036
CREATED:20260407T103232Z
LAST-MODIFIED:20260407T103232Z
UID:14565-1776546000-1776553200@tabianoterme.it
SUMMARY:“Offro io” al Teatro di Ragazzola
DESCRIPTION:Stagione teatrale 2025-2026\nEtica ed estetica \nSabato 18 aprile 2026\, ore 21:15 \nOFFRO IO\ndi e con Antonella Questa\ncoreografie Valentina dal Mas\nproduzione LaQ Prod\, Produzioni Timide \nCosa succede quando chi ha sempre contato i centesimi si ritrova tra le mani una fortuna? Quando le banche iniziano a sorriderti e non solo puoi permetterti il cellulare nuovo\, ma anche l’intero negozio? Cosa puoi fare quando puoi comprare tutto quello che vuoi? E una volta che hai comprato tutto\, tutto\, tutto? Offro io è una riflessione ironica e feroce sul valore delle persone in una società che misura ogni cosa in denaro. \n  \nFonte testo: https://www.teatrodiragazzola.it\nFonte foto: https://spettacolo.emiliaromagnacultura.it
URL:https://tabianoterme.it/event/offro-io-al-teatro-di-ragazzola/
LOCATION:Teatro di Ragazzola\, Strada Provinciale\, 78\, Ragazzola\, Parma\, 43010\, Italia
CATEGORIES:Arte e Cultura,Intrattenimento,Teatro
ATTACH;FMTTYPE=image/webp:https://tabianoterme.it/wp-content/uploads/2026/04/offro_io_teatro_ragazzola_2026.webp
ORGANIZER;CN="Teatro di Ragazzola":MAILTO:teatrodiragazzola@aruba.it
END:VEVENT
BEGIN:VEVENT
DTSTART;TZID=Europe/Rome:20260422T210000
DTEND;TZID=Europe/Rome:20260422T230000
DTSTAMP:20260423T035036
CREATED:20251127T090419Z
LAST-MODIFIED:20251127T090419Z
UID:14018-1776891600-1776898800@tabianoterme.it
SUMMARY:Stagione di Circo\, Danza e Prosa 2025-26 al Teatro Magnani di Fidenza
DESCRIPTION:Stagione di Circo\, Danza e Prosa 2025-26\nTeatro Girolamo Magnani di Fidenza (PR) \nÈ di nuovo tempo di teatro al Magnani di Fidenza: al via una stagione ricca di titoli e interpreti di grande richiamo\, che si realizza\, per il decimo anno consecutivo\, grazie alla collaborazione tra il Comune e ATER Fondazione. Dal 7 dicembre al 22 aprile 2026 si alterneranno 10 spettacoli\, per una programmazione che riunisce alcuni dei registi e degli attori di punta del panorama teatrale italiano. Tra i protagonisti: Amanda Sandrelli\, Pif\, Laura Marinoni\, Umberto Orsini; ampio spazio anche alla danza – due gli spettacoli in cartellone – e alle suggestioni del circo contemporaneo\, cui spetterà l’apertura della stagione. \nDi seguito il programma: \nDomenica 7 dicembre\nN’imPORTE quoi\ncirco contemporaneo \nGiovedì 18 dicembre\nDreamers\ndanza \nGiovedì 8 gennaio\nLa bisbetica domata\nprosa \nSabato 24 gennaio\nMomenti di trascurabile (IN)felicità\nprosa \nVenerdì 6 febbraio\nSogno di una notte di mezza estate\ndanza \nGiovedì 26 febbraio\nImprovvisamente l’estate scorsa\nprosa \nGiovedì 26 marzo\nAltro stato\nprosa \nMercoledì 1 aprile\nPrima del temporale\nprosa \nMercoledì 15 aprile\nLe Nostre Donne\nprosa \nMercoledì 22 aprile\nContrazioni pericolose\nprosa \n  \nINFORMAZIONI GENERALI\nInizio spettacoli ore 21 salvo differenti indicazioni. A spettacolo iniziato non sarà consentito l’accesso alla sala.\nSi invita il gentile pubblico a disattivare il cellulare prima dell’ingresso in sala. \nBIGLIETTI\nplatea e palco centrale – intero € 20\nplatea e palco centrale – ridotto € 17\npalco I fila – intero € 16\npalco I fila – ridotto € 13\npalco II fila di ogni ordine e palchi laterali – intero € 15\npalco II fila di ogni ordine e palchi laterali – ridotto € 12\ngalleria € 10\nPer chi non possiede un abbonamento o un carnet lo spettacolo Altro stato avrà un costo di € 5 posto unico \nABBONAMENTI\nabbonamento 10 spettacoli\nplatea e palco centrale – intero € 135\nplatea e palco centrale – ridotto € 117\npalco I fila – intero € 108\npalco I fila – ridotto € 90\npalco II fila di ogni ordine e palchi laterali – intero € 99\npalco II fila di ogni ordine e palchi laterali – ridotto € 81\ngalleria € 72\ncarnet 5 spettacoli\n4 spettacoli a scelta + Altro stato\nplatea e palco centrale – intero € 72\nplatea e palco centrale – ridotto € 64\npalco I fila – intero € 60\npalco I fila – ridotto € 48\npalco II fila di ogni ordine e palchi laterali – intero € 56\npalco II fila di ogni ordine e palchi laterali – ridotto € 44\ngalleria € 36\npalchi laterali: 1\, 2\, 3\, 16\, 17\, 18 \nRIDUZIONI BIGLIETTI E ABBONAMENTI\n• possessori di YoungER Card\n• over 60 anni\n• Soci e Socie COOP Alleanza 3.0 (solo sugli abbonamenti)\nStudenti delle scuole superiori\, universitari (fino ai 26 anni d’età e docenti accompagnatori (preventivamente indicati dall’istituto scolastico di provenienza) posto unico € 10\,00 – in base alla disponibilità dei posti liberi in sala. \nORARI BIGLIETTERIA\nPer tutta la durata della stagione gli orari saranno i seguenti:\n• mercoledì e sabato dalle 10 alle 13\n• venerdì dalle 17 alle 19\n• due ore prima dell’inizio di ogni spettacolo \nPER INFORMAZIONI E PRENOTAZIONI\nTeatro Girolamo Magnani\, piazza Giuseppe Verdi\, 1 – Fidenza (PR)\nTel: 0524 517508 / 345 9374728\nEmail: teatromagnani@ater.emr.it \n  \nFonte testo: Teatro Magnani
URL:https://tabianoterme.it/event/stagione-di-circo-danza-e-prosa-2025-26-al-teatro-magnani-di-fidenza/2026-04-22/
LOCATION:Teatro Magnani di Fidenza\, Piazza Verdi 1\, Fidenza
CATEGORIES:Arte e Cultura,Bambini e famiglie,Danza,Spettacolo,Teatro
ATTACH;FMTTYPE=image/webp:https://tabianoterme.it/wp-content/uploads/2025/11/Stagione-di-prosa-Teatro-Magnani-di-Fidenza-2025-26.webp
END:VEVENT
BEGIN:VEVENT
DTSTART;TZID=Europe/Rome:20260422T210000
DTEND;TZID=Europe/Rome:20260422T230000
DTSTAMP:20260423T035036
CREATED:20260407T100318Z
LAST-MODIFIED:20260407T100318Z
UID:14532-1776891600-1776898800@tabianoterme.it
SUMMARY:Al Teatro Magnani va in scena “Contrazioni pericolose”
DESCRIPTION:Mercoledì 22 aprile 2026\, ore 21:00\nFidenza\, Teatro G. Magnani\nStagione di Prosa 2025-2026 \nReparto di ginecologia. Una donna ha le contrazioni e sta per partorire. La situazione è concitata: un ostetrico cerca di tranquillizzarla\, ma soprattutto cerca di tranquillizzare l’uomo che la accompagna: il marito? No. Il fratello? No. Il compagno? Non proprio. Diciamo un amico speciale al quale la donna ha nascosto la sua gravidanza! \nUna commedia che fa tanto ridere\, tanto emozionare ma anche riflettere: oltre a divertire\, esplora l’animo umano\, le pulsioni\, le paure\, le speranze e i desideri di una generazione che cerca il proprio equilibrio nel caos di una vita che ha perso punti di riferimento certi. \nuna commedia scritta e diretta da Gabriele Pignotta\ncon Rocío Muñoz Morales\, Giorgio Lupano\, Gabriele Pignotta\nassistente regia Fabio Avaro\nscene Alessandro Chiti\ncostumi Rosalia Guzzo\nmusiche Stefano Switala\nluci Maximiliano Lumachi\nuna produzione Artisti Associati-Centro di produzione teatrale \n  \nBiglietteria:\nTel 0524 517508 / 345 9374728\nEmail teatromagnani@ater.emr.it \nAcquista \n  \nFonte testo e foto: https://www.ater.emr.it
URL:https://tabianoterme.it/event/al-teatro-magnani-va-in-scena-contrazioni-pericolose/
LOCATION:Teatro Magnani di Fidenza\, Piazza Verdi 1\, Fidenza
CATEGORIES:Intrattenimento,Spettacolo,Teatro
ATTACH;FMTTYPE=image/webp:https://tabianoterme.it/wp-content/uploads/2026/04/contrazioni-pericolose-teatro-magnani-fidenza-aprile-2026.webp
END:VEVENT
BEGIN:VEVENT
DTSTART;TZID=Europe/Rome:20260504T210000
DTEND;TZID=Europe/Rome:20260504T223000
DTSTAMP:20260423T035036
CREATED:20260413T081147Z
LAST-MODIFIED:20260413T081147Z
UID:14675-1777928400-1777933800@tabianoterme.it
SUMMARY:Giovanni Allevi
DESCRIPTION:Il Maestro Giovanni Allevi torna a calcare i palcoscenici d’Europa con il suo compagno più fedele – il pianoforte – con un tour che porta il suo nome\, trasformando ogni concerto in un incontro sospeso tra emozione e riflessione.\nLa sua musica\, delicatamente tesa tra classico e contemporaneo\, conduce l’ascoltatore in un itinerario interiore dove anche il silenzio tra due note ha il peso di una parola e di una nota. Il pianoforte del Maestro Giovanni Allevi\, con il suo linguaggio universale limpido e profondamente interrogativo\, diventa il luogo in cui la quotidianità si ferma e la realtà si ricompone\, nota dopo nota\, in attimi di pura essenza condivisa. \n 
URL:https://tabianoterme.it/event/giovanni-allevi/
LOCATION:Teatro Regio di Parma\, Strada Garibaldi\, 16/a\, Parma\, Italia\, 43121\, Italia
CATEGORIES:Concerto,Musica,Teatro
ATTACH;FMTTYPE=image/png:https://tabianoterme.it/wp-content/uploads/2026/04/1770632521.png
END:VEVENT
BEGIN:VEVENT
DTSTART;TZID=Europe/Rome:20260509T210000
DTEND;TZID=Europe/Rome:20260509T230000
DTSTAMP:20260423T035036
CREATED:20260407T121355Z
LAST-MODIFIED:20260407T121355Z
UID:14630-1778360400-1778367600@tabianoterme.it
SUMMARY:Francigena Fidenza Festival 2026 – Vito Mancuso-Homo Viator
DESCRIPTION:Sabato 9 maggio 2026 ore 21:00\nFidenza\, Teatro G. Magnani \nHomo Viator\nLectio magistralis di Vito Mancuso sul senso del cammino e della condizione umana \nUna riflessione intensa e attuale sul significato dell’essere umano\, a partire da una delle domande più profonde: qual è la nostra vera natura? \n“Qual è l’essenza dell’essere umano? Il contrasto tra le varie risposte a questa domanda mostra il carattere itinerante della nostra specie\, da sempre alla ricerca di un punto fermo a cui appoggiarsi. Ma nessun punto fermo (nel senso di immobile) ci sarà mai dato: ognuno di noi è homo viator.” \nUn appuntamento di alto profilo culturale che intreccia filosofia\, spiritualità e pensiero contemporaneo\, in dialogo con i temi centrali del Francigena Fidenza Festival e della Via Francigena. \nVito Mancuso\nTeologo laico e filosofo\, Vito Mancuso ha conseguito i tre gradi della formazione teologica: baccellierato a Milano\, licenza a Napoli e dottorato a Roma con una tesi dedicata a Hegel. \nÈ stato docente di Teologia moderna e contemporanea presso l’Università Vita-Salute San Raffaele di Milano e di Storia delle dottrine teologiche presso l’Università degli Studi di Padova. Attualmente insegna nel Master in Meditazione e Neuroscienze dell’Università di Udine. \nHa fondato e dirige a Bologna il “Laboratorio di Etica”\, spazio di ricerca e confronto sui temi del pensiero etico e della contemporaneità. \nAutore di numerosi saggi di grande diffusione\, ha affrontato temi quali la natura di Dio\, l’anima\, la libertà\, il dolore\, l’amore\, il senso della vita\, la bellezza e le virtù. In un suo lavoro recente ha proposto una sintesi delle figure di Socrate\, Buddha\, Confucio e Gesù\, offrendo una visione comparata delle grandi tradizioni sapienziali. \nIl suo pensiero è spesso definito come una “filosofia della relazione”\, capace di mettere in dialogo dimensione spirituale e razionale. \nCollabora con importanti testate giornalistiche\, tra cui la Repubblica\, Corriere della Sera e Il Foglio\, ed è editorialista de La Stampa dal 2022. In ambito internazionale gli è stata dedicata una monografia dal titolo Essentials of Catholic Radicalism. An Introduction to the Lay Theology of Vito Mancuso (Francoforte\, 2011). \n  \nBiglietto acquistabile presso la biglietteria del Teatro Magnani o sul sito Vivaticket. \nAcquista Biglietti \nIl Francigena Fidenza Festival è organizzato dal Comune di Fidenza in collaborazione con l’Associazione Europea delle Vie Francigene (AEVF)\, con la cura organizzativa di LOC – Libera Officina Culturale ed Eventi22\, e con il sostegno dell’Università degli studi di Parma e della Diocesi di Fidenza \nInformazioni:\nFrancigena Fidenza Festival\nIAT-R Fidenza Casa Cremonini  iat.fidenza@terrediverdi.it\, 0524.83377 \nFonte testo: https://www.francigenafidenzafestival.it – Fonte foto: https://filarmonicifriulani.com
URL:https://tabianoterme.it/event/francigena-fidenza-festival-2026-vito-mancuso-homo-viator/
LOCATION:Teatro Magnani di Fidenza\, Piazza Verdi 1\, Fidenza
CATEGORIES:Incontro,Teatro
ATTACH;FMTTYPE=image/webp:https://tabianoterme.it/wp-content/uploads/2026/04/francigena-fidenza-festival-2026-vito-mancuso.webp
ORGANIZER;CN="Comune di Fidenza":MAILTO:iat.fidenza@terrediverdi.it
END:VEVENT
BEGIN:VEVENT
DTSTART;TZID=Europe/Rome:20260516T210000
DTEND;TZID=Europe/Rome:20260516T230000
DTSTAMP:20260423T035036
CREATED:20260407T123015Z
LAST-MODIFIED:20260407T123015Z
UID:14642-1778965200-1778972400@tabianoterme.it
SUMMARY:Mozart a “Praga”  Forma\, viaggio\, trasformazione- Progetto Mozart
DESCRIPTION:I Musici di Parma\nDirettore: Daniele Agiman \nMusiche di Wolfgang Amadeus Mozart\nSinfonia n. 38 in Re maggiore “Sinfonia di Praga”\, K 504 \nUn omaggio al periodo praghese di Mozart\, simbolo di una maturità artistica in cui la forma musicale si fa espressione naturale di equilibrio e invenzione.
URL:https://tabianoterme.it/event/mozart-a-praga-forma-viaggio-trasformazione-progetto-mozart/
LOCATION:Palazzo dei Congressi\, Viale Giandomenico Romagnosi\, 7\, Salsomaggiore Terme\, Parma\, 43039\, Italia
CATEGORIES:Concerto,Musica,Teatro
ATTACH;FMTTYPE=image/webp:https://tabianoterme.it/wp-content/uploads/2026/02/pomeriggi-musicali-2026-ridotto-teatro-magnani-fidenza.webp
END:VEVENT
BEGIN:VEVENT
DTSTART;TZID=Europe/Rome:20260520T210000
DTEND;TZID=Europe/Rome:20260520T223000
DTSTAMP:20260423T035036
CREATED:20260413T081517Z
LAST-MODIFIED:20260413T081716Z
UID:14679-1779310800-1779316200@tabianoterme.it
SUMMARY:Corrado Augias
DESCRIPTION:Un viaggio personale e collettivo attraverso il secolo breve\, raccontato dalla voce autorevole e appassionata di Corrado Augias. Con la lucidità del giornalista\, la sensibilità dell’uomo di cultura e la profondità del testimone diretto\, Augias ripercorre i grandi eventi\, le tragedie\, le conquiste e le contraddizioni del Novecento\, intrecciando la Storia con la sua storia. Tra memoria e riflessione\, “Il mio Novecento” è uno spettacolo che unisce teatro\, narrazione e impegno civile\, offrendo al pubblico uno sguardo illuminato sul secolo che ha forgiato il mondo contemporaneo.
URL:https://tabianoterme.it/event/corrado-augias/
LOCATION:Teatro Regio di Parma\, Strada Garibaldi\, 16/a\, Parma\, Italia\, 43121\, Italia
CATEGORIES:Cultura,Incontro,Storia,Teatro
ATTACH;FMTTYPE=image/jpeg:https://tabianoterme.it/wp-content/uploads/2026/04/Corrado-Augias-Il-mio-novenceto-1200x1500-1.jpg
END:VEVENT
BEGIN:VEVENT
DTSTART;TZID=Europe/Rome:20260611T210000
DTEND;TZID=Europe/Rome:20260614T223000
DTSTAMP:20260423T035036
CREATED:20260413T080618Z
LAST-MODIFIED:20260413T080813Z
UID:14668-1781211600-1781476200@tabianoterme.it
SUMMARY:NOTRE DAME DE PARIS
DESCRIPTION:L’opera popolare moderna più famosa al mondo e spettacolo tra i più imponenti mai realizzati\, tornerà sui palchi italiani nel 2026\, a quattro anni di distanza dallo show dedicato al ventennale del suo debutto in Italia. \nEsattamente 23 anni fa\, il 14 marzo del 2002\, lo spettacolo andava in scena per la prima volta in Italia\, dando inizio a un viaggio straordinario che continua ancora oggi e che nel 2027 celebrerà il venticinquesimo anniversario di quel debutto storico\, un traguardo che segnerà un quarto di secolo di emozioni\, musica e poesia. \nNOTRE DAME DE PARIS è un capolavoro senza tempo\, perché sa raccontare\, attraverso la metafora\, i pregi e i difetti dell’umanità. La sua forza risiede nell’attualità dei suoi temi\, nella sua capacità di denunciare le barriere ingiuste imposte alla diversità e di parlare a ogni generazione con la stessa intensità. Un’opera eterna\, che continua a crescere senza mai invecchiare. \nNOTRE DAME DE PARIS è uno spettacolo che non ha più bisogno di spiegazioni\, ma solo di essere vissuto.
URL:https://tabianoterme.it/event/notre-dame-de-paris/
LOCATION:Parco Ducale di Parma\, Via Kennedy\, Parma\, Parma\, 43121\, Italy
CATEGORIES:Arte e Cultura,Bambini e famiglie,Concerto,Danza,Intrattenimento,Musica,Spettacolo,Storia,Teatro
ATTACH;FMTTYPE=image/jpeg:https://tabianoterme.it/wp-content/uploads/2026/04/eventi__44917621.jpg
END:VEVENT
END:VCALENDAR