BEGIN:VCALENDAR
VERSION:2.0
PRODID:-//Tabiano terme - ECPv6.15.11//NONSGML v1.0//EN
CALSCALE:GREGORIAN
METHOD:PUBLISH
X-WR-CALNAME:Tabiano terme
X-ORIGINAL-URL:https://tabianoterme.it
X-WR-CALDESC:Eventi per Tabiano terme
REFRESH-INTERVAL;VALUE=DURATION:PT1H
X-Robots-Tag:noindex
X-PUBLISHED-TTL:PT1H
BEGIN:VTIMEZONE
TZID:Europe/Rome
BEGIN:DAYLIGHT
TZOFFSETFROM:+0100
TZOFFSETTO:+0200
TZNAME:CEST
DTSTART:20250330T010000
END:DAYLIGHT
BEGIN:STANDARD
TZOFFSETFROM:+0200
TZOFFSETTO:+0100
TZNAME:CET
DTSTART:20251026T010000
END:STANDARD
BEGIN:DAYLIGHT
TZOFFSETFROM:+0100
TZOFFSETTO:+0200
TZNAME:CEST
DTSTART:20260329T010000
END:DAYLIGHT
BEGIN:STANDARD
TZOFFSETFROM:+0200
TZOFFSETTO:+0100
TZNAME:CET
DTSTART:20261025T010000
END:STANDARD
BEGIN:DAYLIGHT
TZOFFSETFROM:+0100
TZOFFSETTO:+0200
TZNAME:CEST
DTSTART:20270328T010000
END:DAYLIGHT
BEGIN:STANDARD
TZOFFSETFROM:+0200
TZOFFSETTO:+0100
TZNAME:CET
DTSTART:20271031T010000
END:STANDARD
END:VTIMEZONE
BEGIN:VEVENT
DTSTART;TZID=Europe/Rome:20260301T160000
DTEND;TZID=Europe/Rome:20260301T180000
DTSTAMP:20260423T013839
CREATED:20260220T080640Z
LAST-MODIFIED:20260220T080640Z
UID:14341-1772380800-1772388000@tabianoterme.it
SUMMARY:Sciroppo di Teatro – Pollicino Show
DESCRIPTION:Domenica 1 marzo 2026\, ore 16:00 – Teatro G. Magnani \nSciroppo di Teatro – Pollicino Show \n\n\n\nPollicino è piccolo ma pieno di ingegno. Quando la carestia costringe il padre ad abbandonare lui e i suoi sei fratelli nel bosco\, affronta pericoli e avventure. “Pollicino Show” rilegge la fiaba con danza\, illustrazioni animate e musica\, in uno spettacolo emozionante e sorprendente. \nEtà consigliata: dai 4 anni \nGenere spettacolo: teatro danza e videoproiezione \n\n\ndi Gruppo Ibrido\nregia Cinzia Pietribiasi\ncoreografia e interpretazione Davide Tagliavini\nillustrazioni e scene Giovanni Copelli\nproduzione Artemis Danza\ncon il contributo di Ministero per i Beni e le Attività Culturali\, Regione Emilia Romagna\, Assessorato alla Cultura\, Comune di Parma \n\n\nL’edizione 2026 di 𝐒𝐜𝐢𝐫𝐨𝐩𝐩𝐨 𝐝𝐢 𝐓𝐞𝐚𝐭𝐫𝐨 è sostenuta da Fondazione di Modena\, Fondazione Marchesini ACT\, Coop Alleanza 3.0 ed Emilbanca. \nSarà possibile acquistare i biglietti in biglietteria presso il teatro e online sul circuito Vivaticket \nPer ulteriori informazioni sulle modalità di acquisto e prenotazioni potete contattare la biglietteria ai seguenti riferimenti:\nWhatsapp 3459374728\nTel. 0524517508 \nORARI BIGLIETTERIA\nmercoledì e sabato dalle 10 alle 13\nvenerdì dalle 17 alle 19 \nFonte testo e foto: ATER
URL:https://tabianoterme.it/event/sciroppo-di-teatro-pollicino-show/
LOCATION:Teatro Magnani di Fidenza\, Piazza Verdi 1\, Fidenza
CATEGORIES:Arte e Cultura,Teatro
ATTACH;FMTTYPE=image/webp:https://tabianoterme.it/wp-content/uploads/2026/02/Pollicino-Show_Sciroppo_di_teatro_Fidenza.webp
END:VEVENT
END:VCALENDAR