BEGIN:VCALENDAR
VERSION:2.0
PRODID:-//Tabiano terme - ECPv6.15.11//NONSGML v1.0//EN
CALSCALE:GREGORIAN
METHOD:PUBLISH
X-ORIGINAL-URL:https://tabianoterme.it
X-WR-CALDESC:Eventi per Tabiano terme
REFRESH-INTERVAL;VALUE=DURATION:PT1H
X-Robots-Tag:noindex
X-PUBLISHED-TTL:PT1H
BEGIN:VTIMEZONE
TZID:Europe/Rome
BEGIN:DAYLIGHT
TZOFFSETFROM:+0100
TZOFFSETTO:+0200
TZNAME:CEST
DTSTART:20250330T010000
END:DAYLIGHT
BEGIN:STANDARD
TZOFFSETFROM:+0200
TZOFFSETTO:+0100
TZNAME:CET
DTSTART:20251026T010000
END:STANDARD
BEGIN:DAYLIGHT
TZOFFSETFROM:+0100
TZOFFSETTO:+0200
TZNAME:CEST
DTSTART:20260329T010000
END:DAYLIGHT
BEGIN:STANDARD
TZOFFSETFROM:+0200
TZOFFSETTO:+0100
TZNAME:CET
DTSTART:20261025T010000
END:STANDARD
BEGIN:DAYLIGHT
TZOFFSETFROM:+0100
TZOFFSETTO:+0200
TZNAME:CEST
DTSTART:20270328T010000
END:DAYLIGHT
BEGIN:STANDARD
TZOFFSETFROM:+0200
TZOFFSETTO:+0100
TZNAME:CET
DTSTART:20271031T010000
END:STANDARD
END:VTIMEZONE
BEGIN:VEVENT
DTSTART;TZID=Europe/Rome:20260214T170000
DTEND;TZID=Europe/Rome:20260214T200000
DTSTAMP:20260423T053520
CREATED:20260203T112638Z
LAST-MODIFIED:20260203T112638Z
UID:14248-1771088400-1771099200@tabianoterme.it
SUMMARY:Fidenza: Pomeriggi musicali al Ridotto del Teatro Magnani
DESCRIPTION:Pomeriggi musicali\nFidenza\, Ridotto del Teatro Magnani \nSabato 7 febbraio 2026\, ore 17:00\nTrio Aeraclavis \nSabato 14 febbraio 2026\, ore 17:00\nMousike’ Brass Quintet \nSabato 21 febbraio 2026\, ore 17:00\nDuo pianistico \nSabato 27 febbraio 2026\, ore 17:00\nTrio Feude \nSabato 7 marzo 2026\, ore 17:00\nAscolta il Podio – Ensemble Giovanile \nBiglietti: € 10\,00 (fuori abbonamento)\nAcquisto disponibile su www.vivaticket.com
URL:https://tabianoterme.it/event/fidenza-pomeriggi-musicali-al-ridotto-del-teatro-magnani/2026-02-14/
LOCATION:Teatro Magnani di Fidenza\, Piazza Verdi 1\, Fidenza
CATEGORIES:Concerto,Intrattenimento,Teatro
ATTACH;FMTTYPE=image/webp:https://tabianoterme.it/wp-content/uploads/2026/02/pomeriggi-musicali-2026-ridotto-teatro-magnani-fidenza.webp
END:VEVENT
BEGIN:VEVENT
DTSTART;TZID=Europe/Rome:20260214T210000
DTEND;TZID=Europe/Rome:20260214T230000
DTSTAMP:20260423T053520
CREATED:20260203T114921Z
LAST-MODIFIED:20260203T114921Z
UID:14284-1771102800-1771110000@tabianoterme.it
SUMMARY:14/02 “Nel blu. Avere tra le braccia tanta felicità” al Teatro di Ragazzola
DESCRIPTION:Stagione teatrale 2025-2026\nEtica ed estetica \nSabato 14 febbraio 2026\, ore 21:15 \nNEL BLU\nAVERE TRA LE BRACCIA TANTA FELICITÀ \nuno spettacolo di e con Mario Perrotta\ncollaborazione alla regia Paola Roscioli\nmusiche Domenico Modugno\nensemble Vanni Crociani\, Giuseppe Franchellucci\, Massimo Marches\, Mario Perrotta\nproduzione Permar Compagnia Mario Perrotta\, Emilia Romagna Teatro ERT / Teatro Nazionale \nIl racconto intimo di un uomo di una terra dimenticata da Dio che parte all’avventura per “fare l’attore” e si ritrova\, dopo pochi anni\, a insegnare a tutto il mondo a “volare”: apre la bocca e trascina via con un urlo irrefrenabile ogni fosco residuo del dopoguerra. Lo spettacolo è un gioiello scenico\, un ritratto palpitante di un gigante della canzone come Domenico Modugno\, con valenti musicisti in scena. \n  \nFonte testo: https://www.teatrodiragazzola.it\nFonte foto: https://ertfvg.it
URL:https://tabianoterme.it/event/14-02-nel-blu-avere-tra-le-braccia-tanta-felicita-al-teatro-di-ragazzola/
LOCATION:Teatro di Ragazzola\, Strada Provinciale\, 78\, Ragazzola\, Parma\, 43010\, Italia
CATEGORIES:Arte e Cultura,Teatro
ATTACH;FMTTYPE=image/webp:https://tabianoterme.it/wp-content/uploads/2026/02/nel_blu_teatro_ragazzola_2026.webp
ORGANIZER;CN="Teatro di Ragazzola":MAILTO:teatrodiragazzola@aruba.it
END:VEVENT
END:VCALENDAR