BEGIN:VCALENDAR
VERSION:2.0
PRODID:-//Tabiano terme - ECPv6.15.11//NONSGML v1.0//EN
CALSCALE:GREGORIAN
METHOD:PUBLISH
X-ORIGINAL-URL:https://tabianoterme.it
X-WR-CALDESC:Eventi per Tabiano terme
REFRESH-INTERVAL;VALUE=DURATION:PT1H
X-Robots-Tag:noindex
X-PUBLISHED-TTL:PT1H
BEGIN:VTIMEZONE
TZID:Europe/Rome
BEGIN:DAYLIGHT
TZOFFSETFROM:+0100
TZOFFSETTO:+0200
TZNAME:CEST
DTSTART:20250330T010000
END:DAYLIGHT
BEGIN:STANDARD
TZOFFSETFROM:+0200
TZOFFSETTO:+0100
TZNAME:CET
DTSTART:20251026T010000
END:STANDARD
BEGIN:DAYLIGHT
TZOFFSETFROM:+0100
TZOFFSETTO:+0200
TZNAME:CEST
DTSTART:20260329T010000
END:DAYLIGHT
BEGIN:STANDARD
TZOFFSETFROM:+0200
TZOFFSETTO:+0100
TZNAME:CET
DTSTART:20261025T010000
END:STANDARD
BEGIN:DAYLIGHT
TZOFFSETFROM:+0100
TZOFFSETTO:+0200
TZNAME:CEST
DTSTART:20270328T010000
END:DAYLIGHT
BEGIN:STANDARD
TZOFFSETFROM:+0200
TZOFFSETTO:+0100
TZNAME:CET
DTSTART:20271031T010000
END:STANDARD
END:VTIMEZONE
BEGIN:VEVENT
DTSTART;TZID=Europe/Rome:20260111T160000
DTEND;TZID=Europe/Rome:20260111T180000
DTSTAMP:20260423T053341
CREATED:20260108T084555Z
LAST-MODIFIED:20260108T084555Z
UID:14135-1768147200-1768154400@tabianoterme.it
SUMMARY:“The Best Disasters” al Teatro di Ragazzola
DESCRIPTION:Domenica 11 gennaio 2026\, ore 16:00\nTeatro di Ragazzola \nTeatro per ragazzi \ndi e con Mr. Mustache\nideato\, diretto e interpretato da Franco Di Berardino \nUno spettacolo comico\, disequilibrato e disastroso con il quale Mister Mustache rivela il lato umano che più accomuna tutti gli esseri umani: l’imperfezione. Saper fallire con successo è un’arte che pochi sanno praticare e di cui Franco Di Berardino\, con il suo Mister Mustache\, è una brillante espressione. \nCosto: € 5\,00 \nPer informazioni e prenotazioni contattare il numero 339.5612798\noppure scrivere a teatrodiragazzola@aruba.it \n  \nFonte testo: https://www.teatrodiragazzola.it –  Fonte foto: https://spettacolo.emiliaromagnacultura.it
URL:https://tabianoterme.it/event/the-best-disasters-al-teatro-di-ragazzola/
LOCATION:Teatro di Ragazzola\, Strada Provinciale\, 78\, Ragazzola\, Parma\, 43010\, Italia
CATEGORIES:Arte e Cultura,Bambini e famiglie,Teatro
ATTACH;FMTTYPE=image/webp:https://tabianoterme.it/wp-content/uploads/2026/01/best-disaster-teatro-ragazzola-gennaio-2026.webp
ORGANIZER;CN="Teatro di Ragazzola":MAILTO:teatrodiragazzola@aruba.it
END:VEVENT
BEGIN:VEVENT
DTSTART;TZID=Europe/Rome:20260111T163000
DTEND;TZID=Europe/Rome:20260111T183000
DTSTAMP:20260423T053341
CREATED:20260108T084940Z
LAST-MODIFIED:20260108T084940Z
UID:14139-1768149000-1768156200@tabianoterme.it
SUMMARY:“Il più furbo. Disavventure di un incorreggibile lupo” a Busseto
DESCRIPTION:Sciroppo di Teatro\nDomenica 11 Gennaio 2026\nIl più furbo. Disavventure di un incorreggibile lupo \nTeatro Gioco Vita Busseto (PR) Teatro Giuseppe Verdi Ore 16:30 \nIl Lupo ha un piano: mangiare Cappuccetto Rosso e la nonna. Ma qualcosa va storto… chiuso fuori casa e scambiato per una vecchietta\, incontra i personaggi delle fiabe! Una storia divertente e sorprendente\, dove il più furbo scopre che forse… non lo è poi così tanto. \nEtà consigliata: dai 3 anni \nGenere spettacolo: teatro d’ombre \ncon Andrea Coppone / Andrea Lopez Nunes\nadattamento teatrale Enrica Carini\, Fabrizio Montecchi\nregia e scene Fabrizio Montecchi\nsagome Nicoletta Garioni\, Federica Ferrari (dai disegni di Mario Ramos)\nmusiche Paolo Codognola\ncoreografie Andrea Coppone\ncostumi Tania Fedeli\ndisegno luci Anna Adorno\nluci e fonica Anna Adorno / Alberto Marvisi\nassistente alla regia Enrica Carini\, Katja Gorečan\nrealizzazione sagome Nicoletta Garioni\, Federica Ferrari\nrealizzazione scene Sergio Bernasani \nLo spettacolo è tratto dai libri di Mario Ramos Le plus malin\, C’est moi le plus beau e C’est moi le plus fort editi da l’école des loisirs\, Parigi \nTeatro Giuseppe Verdi Piazza Giuseppe Verdi\, 10 43011 Busseto (PR)\nbussetolive.com/it/\nBiglietteria\nTel 0524 92487\nEmail info@bussetolive.com \nFonte testo e foto: https://www.ater.emr.it
URL:https://tabianoterme.it/event/il-piu-furbo-disavventure-di-un-incorreggibile-lupo-a-busseto/
LOCATION:teatro busseto
CATEGORIES:Bambini e famiglie,Teatro
ATTACH;FMTTYPE=image/webp:https://tabianoterme.it/wp-content/uploads/2026/01/sciroppo-di-teatro-busseto-gennaio-2026.webp
END:VEVENT
BEGIN:VEVENT
DTSTART;TZID=Europe/Rome:20260111T203000
DTEND;TZID=Europe/Rome:20260111T223000
DTSTAMP:20260423T053341
CREATED:20260108T085218Z
LAST-MODIFIED:20260108T085218Z
UID:14143-1768163400-1768170600@tabianoterme.it
SUMMARY:Concerto Sinfonico al Teatro Magnani di Fidenza
DESCRIPTION:Domenica 11 gennaio 2026\, ore 20:30 – Teatro Magnani di Fidenza\nDIRETTORE: Pietro Mazzetti\nPIANOFORTE SOLISTA: Matteo Dall’Ovo\nM. RAVEL – PAVANE POUR UNE INFANTE DEFUNTE\nM. RAVEL – CONCERTO per PIANOFORTE e orchestra IN SOL MAG\nL.V. BEETHOVEN – SINFONIA N.4 IN SI BEM. MAGG. OP. 60 \nPrezzi:\nPosto unico numerato € 20 (under 30 e over 65 € 10)\nModalità acquisto biglietti: e-mail : lirica.teatromagnani@gmail.com – oppure portale internet VIVATICKET oppure presso la\nbiglietteria del Teatro: mercoledi 5-12 e 19/11 dalle 10 alle 13- venerdì 7 e 14/11 dalle 17 alle 19- sabato 8 e 15/11 dalle 10 alle 13\ne nel giorno di spettacolo dalle ore 17\,30 – Telefono biglietteria Teatro Magnani 0524 517510/508\nUlteriori info: www.gpmtulliomarchetti.it opp. Tel.348 9281082
URL:https://tabianoterme.it/event/concerto-sinfonico-al-teatro-magnani-di-fidenza/
LOCATION:Teatro Magnani di Fidenza\, Piazza Verdi 1\, Fidenza
CATEGORIES:Bambini e famiglie,Concerto,Teatro
ATTACH;FMTTYPE=image/webp:https://tabianoterme.it/wp-content/uploads/2026/01/Concerto_sinfonico_Teatro_Magnani_gennaio26.webp
END:VEVENT
END:VCALENDAR