BEGIN:VCALENDAR
VERSION:2.0
PRODID:-//Tabiano terme - ECPv6.15.11//NONSGML v1.0//EN
CALSCALE:GREGORIAN
METHOD:PUBLISH
X-WR-CALNAME:Tabiano terme
X-ORIGINAL-URL:https://tabianoterme.it
X-WR-CALDESC:Eventi per Tabiano terme
REFRESH-INTERVAL;VALUE=DURATION:PT1H
X-Robots-Tag:noindex
X-PUBLISHED-TTL:PT1H
BEGIN:VTIMEZONE
TZID:Europe/Rome
BEGIN:DAYLIGHT
TZOFFSETFROM:+0100
TZOFFSETTO:+0200
TZNAME:CEST
DTSTART:20240331T010000
END:DAYLIGHT
BEGIN:STANDARD
TZOFFSETFROM:+0200
TZOFFSETTO:+0100
TZNAME:CET
DTSTART:20241027T010000
END:STANDARD
BEGIN:DAYLIGHT
TZOFFSETFROM:+0100
TZOFFSETTO:+0200
TZNAME:CEST
DTSTART:20250330T010000
END:DAYLIGHT
BEGIN:STANDARD
TZOFFSETFROM:+0200
TZOFFSETTO:+0100
TZNAME:CET
DTSTART:20251026T010000
END:STANDARD
BEGIN:DAYLIGHT
TZOFFSETFROM:+0100
TZOFFSETTO:+0200
TZNAME:CEST
DTSTART:20260329T010000
END:DAYLIGHT
BEGIN:STANDARD
TZOFFSETFROM:+0200
TZOFFSETTO:+0100
TZNAME:CET
DTSTART:20261025T010000
END:STANDARD
END:VTIMEZONE
BEGIN:VEVENT
DTSTART;TZID=Europe/Rome:20251206T210000
DTEND;TZID=Europe/Rome:20251206T230000
DTSTAMP:20260424T003035
CREATED:20251127T085233Z
LAST-MODIFIED:20251127T085233Z
UID:13995-1765054800-1765062000@tabianoterme.it
SUMMARY:“Autoritratto” al Teatro di Ragazzola
DESCRIPTION:Stagione teatrale 2025-2026\nEtica ed estetica \nSabato 6 dicembre 2025\, ore 21:15\nTeatro di Ragazzola \nAutoritratto\ndi e con Davide Enia\nmusiche composte ed eseguite da Giulio Barocchieri\nco-produzione CSS Teatro stabile di innovazione del Friuli Venezia Giulia\, Piccolo Teatro di\nMilano – Teatro d’Europa\, Accademia Perduta Romagna Teatri\, Spoleto Festival dei Due Mondi \nUn autoritratto intimo e collettivo che riavvolge il filo sulle vicende di Cosa Nostra avvenute in Sicilia\, e in particolar modo a Palermo\, attraverso un’accurata analisi di una comunità costretta a convivere con la continua epifania del male. Partendo dall’esplosione che il 23 maggio 1992 a Capaci uccise il giudice Giovanni Falcone\, la moglie e i tre agenti della scorta\, fino ad arrivare al rapimento e all’omicidio di Giuseppe di Matteo\, il bambino figlio di un collaboratore di giustizia. \n  \nFonte testo e foto: https://www.teatrodiragazzola.it
URL:https://tabianoterme.it/event/autoritratto-al-teatro-di-ragazzola/
LOCATION:teatrodi ragazzola
CATEGORIES:Arte e Cultura,Danza,Teatro
ATTACH;FMTTYPE=image/webp:https://tabianoterme.it/wp-content/uploads/2025/11/Autoritratto_Enea_Ragazzola.webp
ORGANIZER;CN="Teatro di Ragazzola":MAILTO:teatrodiragazzola@aruba.it
END:VEVENT
END:VCALENDAR