BEGIN:VCALENDAR
VERSION:2.0
PRODID:-//Tabiano terme - ECPv6.15.11//NONSGML v1.0//EN
CALSCALE:GREGORIAN
METHOD:PUBLISH
X-ORIGINAL-URL:https://tabianoterme.it
X-WR-CALDESC:Eventi per Tabiano terme
REFRESH-INTERVAL;VALUE=DURATION:PT1H
X-Robots-Tag:noindex
X-PUBLISHED-TTL:PT1H
BEGIN:VTIMEZONE
TZID:Europe/Rome
BEGIN:DAYLIGHT
TZOFFSETFROM:+0100
TZOFFSETTO:+0200
TZNAME:CEST
DTSTART:20240331T010000
END:DAYLIGHT
BEGIN:STANDARD
TZOFFSETFROM:+0200
TZOFFSETTO:+0100
TZNAME:CET
DTSTART:20241027T010000
END:STANDARD
BEGIN:DAYLIGHT
TZOFFSETFROM:+0100
TZOFFSETTO:+0200
TZNAME:CEST
DTSTART:20250330T010000
END:DAYLIGHT
BEGIN:STANDARD
TZOFFSETFROM:+0200
TZOFFSETTO:+0100
TZNAME:CET
DTSTART:20251026T010000
END:STANDARD
BEGIN:DAYLIGHT
TZOFFSETFROM:+0100
TZOFFSETTO:+0200
TZNAME:CEST
DTSTART:20260329T010000
END:DAYLIGHT
BEGIN:STANDARD
TZOFFSETFROM:+0200
TZOFFSETTO:+0100
TZNAME:CET
DTSTART:20261025T010000
END:STANDARD
END:VTIMEZONE
BEGIN:VEVENT
DTSTART;TZID=Europe/Rome:20251108T210000
DTEND;TZID=Europe/Rome:20251108T230000
DTSTAMP:20260424T014514
CREATED:20250825T093243Z
LAST-MODIFIED:20250825T093243Z
UID:13574-1762635600-1762642800@tabianoterme.it
SUMMARY:Francesco De Gregori - RIMMEL 2025
DESCRIPTION:Quest’anno FRANCESCO DE GREGORI festeggia con un tour che toccherà tutta Italia il 50° anniversario dall’uscita di “Rimmel”\, il suo quarto album in studio\, pubblicato nel 1975 e divenuto una pietra miliare della musica italiana.\nAlle date già comunicate\, si aggiungono nuove tappe estive\, per celebrare il capolavoro che ha segnato intere generazioni con brani indimenticabili come “Pablo”\, “Buonanotte Fiorellino” e la stessa “Rimmel”.\nIl pubblico avrà così l’opportunità di vivere le emozioni dell’album e del vasto repertorio del cantautore in contesti diversi\, passando da location uniche\, alla magia dei teatri\, dalla potenza dei palazzetti\, fino all’atmosfera intima dei club che creano una connessione diretta e spontanea tra musicisti e spettatori. \nAppuntamento al Teatro Regio di Parma Sabato 8 Novembre alle ore 21. \nBiglietti su Ticket One.
URL:https://tabianoterme.it/event/francesco-de-gregori-rimmel-2025/
LOCATION:Teatro Regio di Parma\, Strada Garibaldi\, 16/a\, Parma\, Italia\, 43121\, Italia
CATEGORIES:Concerto,Musica,Teatro
ATTACH;FMTTYPE=image/jpeg:https://tabianoterme.it/wp-content/uploads/2025/08/de-gregori-estate-biglietti.jpg
END:VEVENT
BEGIN:VEVENT
DTSTART;TZID=Europe/Rome:20251113T210000
DTEND;TZID=Europe/Rome:20251113T230000
DTSTAMP:20260424T014514
CREATED:20250825T094717Z
LAST-MODIFIED:20250825T094717Z
UID:13584-1763067600-1763074800@tabianoterme.it
SUMMARY:"Perfetti sconosciuti" a Teatro
DESCRIPTION:Paolo Genovese debutta come regista teatrale portando in scena l’adattamento del suo film Perfetti sconosciuti del 2016. Una brillante commedia sull’amicizia\, sull’amore e sul tradimento\, che porterà quattro coppie di amici a confrontarsi e a scoprire di essere “Perfetti sconosciuti”. \nOgnuno di noi ha tre vite: una pubblica\, una privata e una segreta. Un tempo quella segreta era ben protetta nell’archivio della nostra memoria\, oggi nelle sim dei nostri telefoni. \nCosa succederebbe se quella minuscola schedina si mettesse a parlare? Eva e Rocco decidono di invitare a cena alcuni amici di vecchia data: Cosimo con Bianca\, Lele con Carlotta e Peppe. A un certo punto della serata Eva propone di fare un gioco della verità ovvero mettere tutti i cellulari sul tavolo e\, per la durata della cena\, condividere messaggi e telefonate. \nBiglietti su Ticket One. \nSpettacolo Giovedì 13 Novembre alle ore 21 nella splendida cornice del Teatro Regio di Parma.
URL:https://tabianoterme.it/event/perfetti-sconosciuti-a-teatro/
LOCATION:Teatro Regio di Parma\, Strada Garibaldi\, 16/a\, Parma\, Italia\, 43121\, Italia
CATEGORIES:Teatro
ATTACH;FMTTYPE=image/jpeg:https://tabianoterme.it/wp-content/uploads/2025/08/perfetti-sconosciuti-967x800-1.jpg
END:VEVENT
END:VCALENDAR