BEGIN:VCALENDAR
VERSION:2.0
PRODID:-//Tabiano terme - ECPv6.15.11//NONSGML v1.0//EN
CALSCALE:GREGORIAN
METHOD:PUBLISH
X-WR-CALNAME:Tabiano terme
X-ORIGINAL-URL:https://tabianoterme.it
X-WR-CALDESC:Eventi per Tabiano terme
REFRESH-INTERVAL;VALUE=DURATION:PT1H
X-Robots-Tag:noindex
X-PUBLISHED-TTL:PT1H
BEGIN:VTIMEZONE
TZID:Europe/Rome
BEGIN:DAYLIGHT
TZOFFSETFROM:+0100
TZOFFSETTO:+0200
TZNAME:CEST
DTSTART:20200329T010000
END:DAYLIGHT
BEGIN:STANDARD
TZOFFSETFROM:+0200
TZOFFSETTO:+0100
TZNAME:CET
DTSTART:20201025T010000
END:STANDARD
BEGIN:DAYLIGHT
TZOFFSETFROM:+0100
TZOFFSETTO:+0200
TZNAME:CEST
DTSTART:20210328T010000
END:DAYLIGHT
BEGIN:STANDARD
TZOFFSETFROM:+0200
TZOFFSETTO:+0100
TZNAME:CET
DTSTART:20211031T010000
END:STANDARD
BEGIN:DAYLIGHT
TZOFFSETFROM:+0100
TZOFFSETTO:+0200
TZNAME:CEST
DTSTART:20220327T010000
END:DAYLIGHT
BEGIN:STANDARD
TZOFFSETFROM:+0200
TZOFFSETTO:+0100
TZNAME:CET
DTSTART:20221030T010000
END:STANDARD
BEGIN:DAYLIGHT
TZOFFSETFROM:+0100
TZOFFSETTO:+0200
TZNAME:CEST
DTSTART:20230326T010000
END:DAYLIGHT
BEGIN:STANDARD
TZOFFSETFROM:+0200
TZOFFSETTO:+0100
TZNAME:CET
DTSTART:20231029T010000
END:STANDARD
BEGIN:DAYLIGHT
TZOFFSETFROM:+0100
TZOFFSETTO:+0200
TZNAME:CEST
DTSTART:20240331T010000
END:DAYLIGHT
BEGIN:STANDARD
TZOFFSETFROM:+0200
TZOFFSETTO:+0100
TZNAME:CET
DTSTART:20241027T010000
END:STANDARD
BEGIN:DAYLIGHT
TZOFFSETFROM:+0100
TZOFFSETTO:+0200
TZNAME:CEST
DTSTART:20250330T010000
END:DAYLIGHT
BEGIN:STANDARD
TZOFFSETFROM:+0200
TZOFFSETTO:+0100
TZNAME:CET
DTSTART:20251026T010000
END:STANDARD
END:VTIMEZONE
BEGIN:VEVENT
DTSTART;TZID=Europe/Rome:20240425T143000
DTEND;TZID=Europe/Rome:20240425T143000
DTSTAMP:20260422T093233
CREATED:20240423T104342Z
LAST-MODIFIED:20240423T105231Z
UID:11700-1714055400-1714055400@tabianoterme.it
SUMMARY:Magico tour per bambini nel Castello Incantato di Scipione
DESCRIPTION:Magico tour per bambini nel Castello Incantato: Alla scoperta del segreto del Castello! \nUn avvincente tour per grandi e piccini guidati dalla nobile Dama del Castello. \nUna terribile carestia si è abbattuta sul feudo di Scipione dei Marchesi Pallavicino\, nel millenario Castello immerso nella natura\, sulle meravigliose colline a metà strada tra Parma e Piacenza. \nIl segreto del Castello\, il solo mezzo per combattere la carestia è stato nascosto da un Mago dispettoso all’interno del maniero. Guidati dalla nobile Dama del Castello\, grandi e piccini accompagnati dai genitori\, si cimenteranno nell’impresa del recupero del prezioso tesoro\, risolvendo enigmi e superando ostacoli\, in un percorso guidato che li porterà anche alla scoperta del meraviglioso castello medioevale\, dei suoi giardini fioriti\, dei suoi saloni e angoli segreti. Tutti i bambini coraggiosi verranno nominati Cavaliere e Dama di Corte del Castello. \nVisita animata per bambini accompagnati dai genitori\, su prenotazione. \nDurata del magico tour: circa 1h15. \nOre 14.45 oppure ore 16.15 \nPer informazioni e prenotazioni:\nCastello di Scipione dei Marchesi Pallavicino – Tel: 0524 572381- info@castellodiscipione.it
URL:https://tabianoterme.it/event/magico-tour-per-bambini-nel-castello-incantato-di-scipione-2/
LOCATION:Castello di Scipione\, Via Scipione Castello\, 61\, Salsomaggiore Terme\, Parma\, 43039\, Italia
CATEGORIES:Arte e Cultura,Bambini e famiglie,Storia,Visita guidata
ATTACH;FMTTYPE=image/jpeg:https://tabianoterme.it/wp-content/uploads/2024/04/Magico-Tour-per-Bambini-Scipione-768x508-1.jpg
ORGANIZER;CN="Castello di Scipione dei Marchesi Pallavicino":MAILTO:info@castellodiscipione.it
END:VEVENT
BEGIN:VEVENT
DTSTART;TZID=Europe/Rome:20240320T153000
DTEND;TZID=Europe/Rome:20240320T170000
DTSTAMP:20260422T093233
CREATED:20240307T170827Z
LAST-MODIFIED:20240307T170827Z
UID:11547-1710948600-1710954000@tabianoterme.it
SUMMARY:Tour delle meraviglie al Palazzo dei Congressi
DESCRIPTION:Il 20 marzo alle ore 15.30 il Palazzo dei Congressi di Salsomaggiore Terme apre le porte e invita gli amanti della bellezza a un’esperienza unica nel cuore della cultura e dell’arte con il “Tour delle Meraviglie”.\nQuesto straordinario evento offre l’opportunità di esplorare le affascinanti sale del Palazzo. \nI posti per questa avventura sono limitati\, e l’ingresso è assolutamente gratuito.\nLa prenotazione è obbligatoria e può essere effettuata presso lo IAT di Salsomaggiore Terme attraverso i seguenti contatti: \nTelefono: 0524 580211\nEmail: info@portalesalsomaggiore.it
URL:https://tabianoterme.it/event/tour-delle-meraviglie-al-palazzo-dei-congressi-2/
LOCATION:Palazzo dei Congressi\, Viale Giandomenico Romagnosi\, 7\, Salsomaggiore Terme\, Parma\, 43039\, Italia
CATEGORIES:Arte e Cultura,Storia,Visita guidata
ATTACH;FMTTYPE=image/png:https://tabianoterme.it/wp-content/uploads/2024/03/palazzo-dei-congressi.png
ORGANIZER;CN="IAT Salsomaggiore e Tabiano Terme":MAILTO:info@portalesalsomaggiore.it
END:VEVENT
BEGIN:VEVENT
DTSTART;TZID=Europe/Rome:20240228T080000
DTEND;TZID=Europe/Rome:20240423T170000
DTSTAMP:20260422T093233
CREATED:20240227T160827Z
LAST-MODIFIED:20240227T160909Z
UID:11506-1709107200-1713891600@tabianoterme.it
SUMMARY:Pianeta Città: incontri dedicati a progetti sulla Via Emilia
DESCRIPTION:PIANETA CITTÀ\nLa Via Emilia tra natura e artificio. Il ruolo dell’architettura \nCiclo di incontri dedicati a una serie di progetti lungo la Via Emilia \n28 FEBBRAIO 2024\nFRANCESCA MOLTENI\n“Sguardi oltre il limite”\nProiezione film e dialogo con l’autore\nMyCinema Fidenza – Via Mazzini 3\, ore 18:00 \n6 MARZO 2024\nORAZIO CARPENZANO e LEONARDO SANGIORGI\nIl museo Fellini\, Rimini\, incontro con i progettisti premio IN/ARCH 2023 \n20 MARZO 2024\nIOTTI + PAVARANI\, TASSONI\, STUDIO LSA\nIl Parco e l’Arena Campo Volo\, Reggio Emilia\nIncontro con i progettisti – premio IN/ARCH 2023 \n27 MARZO 2024\nMARCO FERRERI\nFare architettura dialogando con il territorio delle colline piacentine \n3 APRILE 2024\nGIOVANNI DEL BOCA\nFidenza\, un laboratorio\, un cantiere per pensare il futuro\, partendo dalla Via Francigena \n10 APRILE 2024\nANDREA OLIVA\nEx Officine Reggiane\, Reggio Emilia – premio IN/ARCH 2023 e il piano per le aree ex CIP e Carbochimica \n23 APRILE 2024\nMASSIMO FERRARI e CLAUDIA TINAZZI\nPolitecnico di Milano\nProgetto ex Licei e Piazza Svelata\, Fidenza \nA conclusione del ciclo di incontri\, in data da definire\, sarà ospite di PIANETA CITTÀ 3\, GUIDO CANALI\, un maestro dell’architettura internazionale che presenterà i suoi ultimi lavori. \nRidotto del Teatro Magnani di Fidenza\n(ad esclusione della prima data) dalle ore 18:00 alle ore 20:00 \nIngresso libero \nModera Aldo Colonetti \nPer informazioni: 0524/517521
URL:https://tabianoterme.it/event/pianeta-citta-incontri-dedicati-a-progetti-sulla-via-emilia/
LOCATION:Fidenza\, Piazza Duomo\, 16\, Fidenza\, 43036\, Italia
CATEGORIES:Arte e Cultura,Incontro,Storia
ATTACH;FMTTYPE=image/png:https://tabianoterme.it/wp-content/uploads/2024/02/via-emilia-1.png
ORGANIZER;CN="Comune di Fidenza":MAILTO:iat.fidenza@terrediverdi.it
END:VEVENT
BEGIN:VEVENT
DTSTART;TZID=Europe/Rome:20240122T080000
DTEND;TZID=Europe/Rome:20240219T170000
DTSTAMP:20260422T093233
CREATED:20240111T115928Z
LAST-MODIFIED:20240111T115928Z
UID:11437-1705910400-1708362000@tabianoterme.it
SUMMARY:Giorno della memoria
DESCRIPTION:“Se comprendere è impossibile\, conoscere è necessario\, perché ciò che è accaduto può ritornare\, le coscienze possono nuovamente essere sedotte ed oscurate: anche le nostre.”\n(Primo Levi) \nDa lunedì 22 gennaio a sabato 17 febbraio\nPuntoGiovaneFidenza\nQuanti diritti hai? 75 anni a difesa della libertà e della dignità di tutti gli esseri umani\nUn’esposizione dedicata alla Dichiarazione universale dei diritti dell’uomo \nBiblioteca civica Leoni\nVetrina tematica “il diritto di avere diritti”\nselezione di testi sui diritti dell’uomo per adulti e ragazzi \nMartedì 23 gennaio – lunedì 19 febbraio 2024\nOratorio San Giorgio\nMostra: “I genocidi del XX secolo”\nMémorial della Shoah di Parigi e Proforma Mémorial\ninaugurazione martedì 23 gennaio\, ore 11:00 \nMercoledì 24 gennaio 2024\nore 9:30 e ore 11:00\nDirezione Didattica “Ilaria Alpi”\nIl nostro Shtetl brucia. Voci di resistenza dai ghetti\nlezione concerto a cura di Rocco Rosignoli \nMercoledì 24 gennaio\, Venerdì 26\, Lunedì 29\, Mercoledì 31\nCentro Giovanile di via Mazzini\, ore 10:00\nOne Life\nproiezioni del film di James Hawes\na cura di Fidenz@cultura \nGiovedì 25 gennaio 2024\nRidotto del Teatro Magnani ore 11:00\nEtty Hillesum. Il coraggio della scrittura\nconferenza\na cura di Annalisa Consolo \nVenerdì 26 gennaio 2024\nvia del centro storico ore 11:00\nRun for Mem\ncorsa sportiva\nScuole Primarie e Secondarie di 1° Grado \nVenerdì 26 gennaio 2024\nTeatro “G. Magnani” ore 20:30\nAria della memoria\nesecuzioni di brani musicali delle Scuole secondarie di 1° grado \nMartedì 30 gennaio 2024\nRidotto del Teatro Magnani ore 11:00\nTina Baldi\, giusta tra le nazioni\na cura di Carlo Bocchialini\nin collaborazione con Centro Culturale L. Tamoglia
URL:https://tabianoterme.it/event/giorno-della-memoria/
LOCATION:Fidenza\, Piazza Duomo\, 16\, Fidenza\, 43036\, Italia
CATEGORIES:Storia
ATTACH;FMTTYPE=image/png:https://tabianoterme.it/wp-content/uploads/2024/01/olocausto.png
ORGANIZER;CN="Comune di Fidenza":MAILTO:iat.fidenza@terrediverdi.it
END:VEVENT
BEGIN:VEVENT
DTSTART;VALUE=DATE:20220828
DTEND;VALUE=DATE:20220829
DTSTAMP:20260422T093233
CREATED:20220419T084749Z
LAST-MODIFIED:20220419T084749Z
UID:10152-1661644800-1661731199@tabianoterme.it
SUMMARY:Re in Volo - falconeria e visite guidate al Castello di Tabiano
DESCRIPTION:Tornano gli appuntamenti di “Re in volo”\, lo spettacolo di falconeria. \nAl Castello di Tabiano quattro appuntamenti per ammirare da vicino aquile\, falchi\, gufi e barbagianni\, seguirne le prove di volo e\, con la guida di un esperto Maestro Falconiere\, conoscere i segreti di quest’arte antichissima e nobile\, praticata da Re e Imperatori. \nPrima e dopo gli spettacoli di falconeria è possibile partecipare alle visite guidate in Castello. \n  \nPer informazioni\, biglietti e prenotazioni: www.castelloditabiano.com \nFonte testo e foto: Castello di Tabiano
URL:https://tabianoterme.it/event/re-in-volo-falconeria-e-visite-guidate-al-castello-di-tabiano-4/
LOCATION:Castello di Tabiano\, Via Castello\, Salsomaggiore Terme\, 43039
CATEGORIES:Spettacolo,Storia,Visita guidata
ATTACH;FMTTYPE=image/jpeg:https://tabianoterme.it/wp-content/uploads/2022/04/re-in-volo-castello-tabiano.jpeg
ORGANIZER;CN="Castello di Tabiano":MAILTO:info@castelloditabiano.com
END:VEVENT
BEGIN:VEVENT
DTSTART;VALUE=DATE:20220731
DTEND;VALUE=DATE:20220801
DTSTAMP:20260422T093233
CREATED:20220419T084653Z
LAST-MODIFIED:20220419T084653Z
UID:10150-1659225600-1659311999@tabianoterme.it
SUMMARY:Re in Volo - falconeria e visite guidate al Castello di Tabiano
DESCRIPTION:Tornano gli appuntamenti di “Re in volo”\, lo spettacolo di falconeria. \nAl Castello di Tabiano quattro appuntamenti per ammirare da vicino aquile\, falchi\, gufi e barbagianni\, seguirne le prove di volo e\, con la guida di un esperto Maestro Falconiere\, conoscere i segreti di quest’arte antichissima e nobile\, praticata da Re e Imperatori. \nPrima e dopo gli spettacoli di falconeria è possibile partecipare alle visite guidate in Castello. \n  \nPer informazioni\, biglietti e prenotazioni: www.castelloditabiano.com \nFonte testo e foto: Castello di Tabiano
URL:https://tabianoterme.it/event/re-in-volo-falconeria-e-visite-guidate-al-castello-di-tabiano-3/
LOCATION:Castello di Tabiano\, Via Castello\, Salsomaggiore Terme\, 43039
CATEGORIES:Spettacolo,Storia,Visita guidata
ATTACH;FMTTYPE=image/jpeg:https://tabianoterme.it/wp-content/uploads/2022/04/re-in-volo-castello-tabiano.jpeg
ORGANIZER;CN="Castello di Tabiano":MAILTO:info@castelloditabiano.com
END:VEVENT
BEGIN:VEVENT
DTSTART;VALUE=DATE:20220515
DTEND;VALUE=DATE:20220516
DTSTAMP:20260422T093233
CREATED:20220419T084619Z
LAST-MODIFIED:20220419T084619Z
UID:10148-1652572800-1652659199@tabianoterme.it
SUMMARY:Re in Volo - falconeria e visite guidate al Castello di Tabiano
DESCRIPTION:Tornano gli appuntamenti di “Re in volo”\, lo spettacolo di falconeria. \nAl Castello di Tabiano quattro appuntamenti per ammirare da vicino aquile\, falchi\, gufi e barbagianni\, seguirne le prove di volo e\, con la guida di un esperto Maestro Falconiere\, conoscere i segreti di quest’arte antichissima e nobile\, praticata da Re e Imperatori. \nPrima e dopo gli spettacoli di falconeria è possibile partecipare alle visite guidate in Castello. \n  \nPer informazioni\, biglietti e prenotazioni: www.castelloditabiano.com \nFonte testo e foto: Castello di Tabiano
URL:https://tabianoterme.it/event/re-in-volo-falconeria-e-visite-guidate-al-castello-di-tabiano-2/
LOCATION:Castello di Tabiano\, Via Castello\, Salsomaggiore Terme\, 43039
CATEGORIES:Spettacolo,Storia,Visita guidata
ATTACH;FMTTYPE=image/jpeg:https://tabianoterme.it/wp-content/uploads/2022/04/re-in-volo-castello-tabiano.jpeg
ORGANIZER;CN="Castello di Tabiano":MAILTO:info@castelloditabiano.com
END:VEVENT
BEGIN:VEVENT
DTSTART;VALUE=DATE:20220417
DTEND;VALUE=DATE:20220418
DTSTAMP:20260422T093233
CREATED:20220413T144008Z
LAST-MODIFIED:20220419T084507Z
UID:10134-1650153600-1650239999@tabianoterme.it
SUMMARY:Re in Volo - falconeria e visite guidate al Castello di Tabiano
DESCRIPTION:Per inaugurare la bella stagione tornano gli appuntamenti di “Re in volo”\, lo spettacolo di falconeria. \nAl Castello di Tabiano quattro appuntamenti per ammirare da vicino aquile\, falchi\, gufi e barbagianni\, seguirne le prove di volo e\, con la guida di un esperto Maestro Falconiere\, conoscere i segreti di quest’arte antichissima e nobile\, praticata da Re e Imperatori. \nPrima e dopo gli spettacoli di falconeria è possibile partecipare alle visite guidate in Castello. \n17 aprile\, 15 maggio\, 31 luglio e 28 agosto 2022 \nPer informazioni\, biglietti e prenotazioni: www.castelloditabiano.com \nFonte testo e foto: Castello di Tabiano
URL:https://tabianoterme.it/event/re-in-volo-falconeria-e-visite-guidate-al-castello-di-tabiano/
LOCATION:Castello di Tabiano\, Via Castello\, Salsomaggiore Terme\, 43039
CATEGORIES:Spettacolo,Storia,Visita guidata
ATTACH;FMTTYPE=image/jpeg:https://tabianoterme.it/wp-content/uploads/2022/04/re-in-volo-castello-tabiano.jpeg
ORGANIZER;CN="Castello di Tabiano":MAILTO:info@castelloditabiano.com
END:VEVENT
BEGIN:VEVENT
DTSTART;TZID=Europe/Rome:20211029T180000
DTEND;TZID=Europe/Rome:20211031T230000
DTSTAMP:20260422T093233
CREATED:20210917T092803Z
LAST-MODIFIED:20210917T100837Z
UID:9760-1635530400-1635721200@tabianoterme.it
SUMMARY:Halloween nel Castello Millenario: A lume di candela nella notte magica...
DESCRIPTION:Un tour suggestivo tra i personaggi misteriosi che animano il Castello…con l’apertura straordinaria della prigione Quattrocentesca e del passaggio segreto \nVenerdì 29\, sabato 30\, domenica 31 Ottobre 2021\n18.00\, 19.00\, 20.00\, 21.00\, 22.00 e 23.00 \nNel borgo incantato\, la magia di Halloween scende sul millenario Castello protetto dall’Aquila Imperiale. Dopo il tramonto\, con il calare della sera\, le fiamme di miriadi di candele illuminano il Castello per una visita molto speciale. Nella lunga notte buia\, quando l’incantesimo si compie\, prendono vita i personaggi misteriosi che dal lontano Medioevo popolano il Castello: cavalieri tenebrosi\, pallide dame tormentate\, tra armature\, nere mantelle e ricchi broccati. I fantasmi si svegliano\, e prendono voce le mura millenarie\, mentre suggestivi giochi di luce\, accompagnati da tenui note musicali\, daranno vita agli affreschi per tutta la notte. \nVerrà eccezionalmente aperta al pubblico la prigione quattrocentesca\, nella torre circolare del Maniero\, mentre nel Salotto del Diavolo\, la porta segreta si aprirà sull’antica via di fuga.\nI soffitti quattrocenteschi e seicenteschi si vestiranno di luce e diverse stanze si apriranno come scrigni per regalare a sorpresa un minuto di incantesimo. Durante la visita sarà anche possibile ripercorrere la storia del Castello più antico della Provincia\, costruito nel lontano anno mille da Adalberto Pallavicino\, tra i più illuminati condottieri del suo Secolo\, di cui ne cantano le lodi Torquato Tasso nella Gerusalemme Liberata e Ludovico Ariosto nell’Orlando Furioso. \nVerrà inoltre aperto l’intero loggiato Seicentesco con le sue finestre che si aprono come quinte sceniche sul paesaggio collinare in fuga prospettica e sul borgo. Il magico tour si concluderà nel grande giardino da dove sarà possibile ammirare la facciata del Castello e delle scuderie\, l’antica postazione delle guardie\, i merli e le mura di cinta illuminati. Non mancheranno le zucche intagliate che aspetteranno grandi e piccoli per uno scatto fotografico da condividere… \nPer la lunga e suggestiva notte dei misteri\, il costume a tema è gradito ma non obbligatorio… \nPer chi volesse passare l’intera serata sulle magiche colline sarà possibile\, per l’occasione\, degustare nei ristoranti e agriturismi vicini i menu del territorio anche a prezzo fisso. Nel borgo il ristorante Osteria del Castello propone raffinati menu del territorio e non solo. Inoltre\, per chi desiderasse il brivido di un fine settimana nella trecentesca torre a pianta quadrata del Castello\, una Suite di Charme su due piani\, con feritoie millenarie e una vista magnifica sulle colline\, è disponibile. \nREGOLE SICUREZZA CORONAVIRUS ADOTTATE PER EVENTO – MANIFESTAZIONE:  visita nel rispetto delle normative ministeriali con gruppi contingentati. \nLa manifestazione si svolge anche in caso di mal tempo. \nCosto della manifestazione: \nAdulti: 18 euro \nBambini da 5 anni a 16 anni: 10 euro \nGratuito: bambini fino a 4 anni inclusi \nNumeri telefonici\, mail e sito internet per informazioni:\nCastello di Scipione dei Marchesi Pallavicino – Tel: 0524 572381  – info@castellodiscipione.it – www.castellodiscipione.it \nParcheggi Vicini: lungo  la strada prima dell’ingresso nel borgo \nCome arrivare: Come arrivare:  \n A) Provenendo da Nord (in auto)\nSiamo a circa 120 km da Milano.\nMilano-Bologna. Prendere l’uscita Fiorenzuola. Passare Fiorenzuola in direzione Parma e al primo incrocio dopo Alseno svoltare a destra verso Vernasca proseguire in direzione di Salsomaggiore.\nProseguendo in direzione di Salsomaggiore\, dopo Scipione Ponte voltare a sinistra per Scipione Castello. \nB) Provenendo da sud (in auto)\nBologna-Milano. Prendere l’uscita Fidenza.\nProseguire in direzione di Salsomaggiore.\nPassare Salsomaggiore verso Piacenza e girare a destra in località Scipione Castello \n  \nFonte testo e immagine: http://www.castellidelducato.it \n 
URL:https://tabianoterme.it/event/halloween-nel-castello-millenario-a-lume-di-candela-nella-notte-magica/
LOCATION:Castello di Scipione\, Via Scipione Castello\, 61\, Salsomaggiore Terme\, Parma\, 43039\, Italia
CATEGORIES:Intrattenimento,Mostra,Storia
ATTACH;FMTTYPE=image/jpeg:https://tabianoterme.it/wp-content/uploads/2021/09/unnamed-e1631870751538.jpg
ORGANIZER;CN="Castello di Scipione":MAILTO:info@castellodiscipione.it
END:VEVENT
BEGIN:VEVENT
DTSTART;TZID=Europe/Rome:20211006T203000
DTEND;TZID=Europe/Rome:20211006T230000
DTSTAMP:20260422T093233
CREATED:20210909T105632Z
LAST-MODIFIED:20210909T105632Z
UID:9723-1633552200-1633561200@tabianoterme.it
SUMMARY:Castello di Scipione dei marchesi Pallavicino: I misteri del Castello millenario
DESCRIPTION:Sabato 2 ottobre vi aspettiamo a scoprire i luoghi segreti nel labirinto del Castello più antico del Parmense. Con l’apertura straordinaria delle prigioni quattrocentesche e dell’antica via di fuga del castello. \nIl millenario Castello di Scipione dei Marchesi Pallavicino\, il più antico del Parmense\, fondato prima dell’anno Mille dal mitico Adalberto Pallavicino\, tra i più grandi condottieri del suo tempo\, aprirà le sue porte per una speciale visita notturna alla scoperta dei suoi luoghi segreti. \nNella penombra della sera verranno raccontati intrighi e misteri che avvolgono il Castello e le leggende dei fantasmi che lo animano in alcune notti dell’anno… \nEccezionalmente verrà aperta la torre circolare quattrocentesca con le sue prigioni e verrà mostrata l’antica via di fuga che attraversa il Castello. \nPer l’occasione\, verranno inoltre aperti l’intero loggiato Seicentesco da dove sarà possibile ammirare il paesaggio collinare avvolto dalla luce della sera\, la Quattrocentesca “scalinata dei cavalli” con il suo giardino segreto e il grande giardino ai piedi della torre\, illuminato per la serata. \nSarà anche possibile cenare con menu fisso presso gli agriturismi intorno al Castello o degustare una raffinata cena a base dei prodotti del territorio nelle trattorie vicine. Per chi desiderasse dormire nel Castello\, due esclusive suites nella torre a pianta quadrata e nell’ala Est sono a disposizione degli ospiti per un minimo di due notti e con prima colazione offerta nella suite. \nREGOLE SICUREZZA CORONAVIRUS ADOTTATE PER EVENTO – MANIFESTAZIONE: \nLa speciale visita è su prenotazione e a numero chiuso\, nel rispetto del DPCM.  E’ obbligatorio l’uso della mascherina e il distanziamento interpersonale. \nLa manifestazione si svolge anche in caso di mal tempo: Si \nCosto della manifestazione: \nAdulti: 10 euro \nBambini da 6 anni a 16 anni: 8 euro \nGratuito: fino a 5 anni inclusi \nNumeri telefonici\, mail e sito internet per informazioni: Tel: 0524 572381 – info@castellodiscipione.it; www.castellodiscipione.it \nParcheggi Vicini: \npossibilità di parcheggiare di fronte al Castello e prima dell’ingresso nel borgo
URL:https://tabianoterme.it/event/castello-di-scipione-dei-marchesi-pallavicino-i-misteri-del-castello-millenario-2/
LOCATION:Castello di Scipione\, Via Scipione Castello\, 61\, Salsomaggiore Terme\, Parma\, 43039\, Italia
CATEGORIES:Outdoor,Storia,Visita guidata
ATTACH;FMTTYPE=image/jpeg:https://tabianoterme.it/wp-content/uploads/2021/09/ppr2020salsomaggiore_termecastello_di_scipione_dei_marchesi_pallavicinoc35056foto_bocelli_cas_altri-1.jpg
ORGANIZER;CN="Castelli del Ducato":MAILTO:info@castellidelducato.it
END:VEVENT
BEGIN:VEVENT
DTSTART;TZID=Europe/Rome:20210926T084500
DTEND;TZID=Europe/Rome:20210926T113000
DTSTAMP:20260422T093233
CREATED:20210920T135632Z
LAST-MODIFIED:20210920T135632Z
UID:9818-1632645900-1632655800@tabianoterme.it
SUMMARY:Fidenza Slow Trek: passeggiando sui resti del mare antico
DESCRIPTION:10 milioni di anni fa qui c’era il mare e il MuMAB ne custodisce la storia.\nDomenica 26 settembre vi invitiamo all’evento Trekking nel Parco dello Stirone e del Piacenziano.\nPartendo dal museo\, si attraversa il podere\, in cui si potranno osservare gli interventi di miglioramento ambientale fatti dal Parco per la tutela della biodiversità (Giardino degli insetti impollinatori\, frutti antichi…) e ci si dirige verso la località “Le Cascatelle”\, punto di arrivo dell’escursione. Durante il percorso\, si osserveranno gli affioramenti fossiliferi che raccontano la storia dell’Antico Mare Padano.\nLa visita in museo\, in cui sono visibili i resti fossili delle Balenottere\, completa l’esperienza.\n\nRitrovo 8.45 presso il MuMAB\, con inizio attività alle 9.00\n\nCosti: 8€ servizio guida + Biglietto MuMAB; 6€ adulti; 5€ over 65 e ragazzi dai 13 ai 18 anni; 4€ bambini dai 5 ai 12 anni; gratis sotto i 5 anni.\n\nInfo e contatti: tel. 392/9160719 oppure info@verdeacque.it www.verdeacque.it
URL:https://tabianoterme.it/event/fidenza-slow-trek-passeggiando-sui-resti-del-mare-antico/
LOCATION:MuMAB- Museo Mare Antico e Biodiversità\, Podere Millepioppi\, Salsomaggiore Terme\, PR\, 43039\, Italia
CATEGORIES:Bambini e famiglie,Mostra,Storia,Visita guidata
ATTACH;FMTTYPE=image/jpeg:https://tabianoterme.it/wp-content/uploads/2021/09/IMG_20210828_105959.jpg
ORGANIZER;CN="Comune di Fidenza":MAILTO:iat.fidenza@terrediverdi.it
END:VEVENT
BEGIN:VEVENT
DTSTART;TZID=Europe/Rome:20210925T150000
DTEND;TZID=Europe/Rome:20210925T160000
DTSTAMP:20260422T093233
CREATED:20210920T131444Z
LAST-MODIFIED:20210920T131444Z
UID:9807-1632582000-1632585600@tabianoterme.it
SUMMARY:25/09 Percorsi archeologici guidati a Fidenza
DESCRIPTION:Il 25 e il 26 settembre 2021 si tengono le Giornate Europee del Patrimonio. \nSabato 25 settembre 2021\, alle ore 15:00 e alle ore 16:00\, sono in programma i percorsi guidati gratuiti narrati dal ponte romano di Fidentia alla Cattedrale della città cristiana di Borgo San Donnino. Sono a cura di Roberta Conversi\, funzionario archeologo della Soprintendenza Archeologia Belle Arti e Paesaggio per le province di Parma e Piacenza. \nLa prenotazione è obbligatoria e da effettuarsi entro il giorno precedente l’evento presso l’ufficio IAT Casa Cremonini\, tel. 0524/83377\, iat.fidenza@terrediverdi.it \nSarà obbligatorio indossare la mascherina\, in modo particolare quando gli spazi non permetteranno di mantenere la distanza di sicurezza. \nNumero massimo di persone a turno: 20 \nRitrovo di fronte allo IAT in Piazza Duomo. \nFonte testo: www.comune.fidenza.pr.it\nFonte foto: www.castellidelducato.it
URL:https://tabianoterme.it/event/25-09-percorsi-archeologici-guidati-a-fidenza/
LOCATION:Piazza Duomo\, Piazza Duomo\, 16\, Fidenza\, Parma\, 43036\, Italia
CATEGORIES:Arte e Cultura,Storia,Visita guidata
ATTACH;FMTTYPE=image/jpeg:https://tabianoterme.it/wp-content/uploads/2021/09/torre-medievale-fidenza-1536x1152-1.jpg
END:VEVENT
BEGIN:VEVENT
DTSTART;TZID=Europe/Rome:20210918T100000
DTEND;TZID=Europe/Rome:20210919T235900
DTSTAMP:20260422T093233
CREATED:20210913T144204Z
LAST-MODIFIED:20210913T144204Z
UID:9747-1631959200-1632095940@tabianoterme.it
SUMMARY:Palio delle Contrade di San Secondo Parmense
DESCRIPTION:Giostra della quintana\, corteo storico\, musici e sbandieratori\, banchetti e cene propiziatorie. \nLe tre giornate del Palio ripropongono i festeggiamenti avvenuti nel 1523\, in occasione del matrimonio tra il Marchese Pier Maria Rossi e Camilla\, figlia del signore di Vescovado Giovanni Gonzaga. Gli eventi principali hanno luogo la domenica: dopo i riti religiosi del mattino\, nel pomeriggio il grandioso Corteo Storico – la Corte dei Rossi\, gli ospiti e le sei contrade Buregh di Minén\, Castell’Aicardi\, Dragonda\, Grillo\, Prevostura e Trinità – precede la tenzone del Palio nell’Arena dello Stadio. Alla sera ultimi banchetti e libagioni con fragrante Spalla di San Secondo e Soave Fornarina. \nPer maggiori informazioni: 0521377311 oppure info@paliodellecontrade.com \nFoto: Associazione Palio delle Contrade di San Secondo Parmense
URL:https://tabianoterme.it/event/palio-delle-contrade-di-san-secondo-parmense/
LOCATION:San Secondo Parmense\, Piazza Giuseppe Mazzini\, 10\, San Secondo Parmense\, PR\, 43017\, Italia
CATEGORIES:Spettacolo,Storia
ATTACH;FMTTYPE=image/jpeg:https://tabianoterme.it/wp-content/uploads/2021/09/palio-san-secondo.jpg
ORGANIZER;CN="Palio delle contrade":MAILTO:paliocontradessecondo@gmail.com
END:VEVENT
END:VCALENDAR