BEGIN:VCALENDAR
VERSION:2.0
PRODID:-//Tabiano terme - ECPv6.15.11//NONSGML v1.0//EN
CALSCALE:GREGORIAN
METHOD:PUBLISH
X-WR-CALNAME:Tabiano terme
X-ORIGINAL-URL:https://tabianoterme.it
X-WR-CALDESC:Eventi per Tabiano terme
REFRESH-INTERVAL;VALUE=DURATION:PT1H
X-Robots-Tag:noindex
X-PUBLISHED-TTL:PT1H
BEGIN:VTIMEZONE
TZID:Europe/Rome
BEGIN:DAYLIGHT
TZOFFSETFROM:+0100
TZOFFSETTO:+0200
TZNAME:CEST
DTSTART:20240331T010000
END:DAYLIGHT
BEGIN:STANDARD
TZOFFSETFROM:+0200
TZOFFSETTO:+0100
TZNAME:CET
DTSTART:20241027T010000
END:STANDARD
BEGIN:DAYLIGHT
TZOFFSETFROM:+0100
TZOFFSETTO:+0200
TZNAME:CEST
DTSTART:20250330T010000
END:DAYLIGHT
BEGIN:STANDARD
TZOFFSETFROM:+0200
TZOFFSETTO:+0100
TZNAME:CET
DTSTART:20251026T010000
END:STANDARD
BEGIN:DAYLIGHT
TZOFFSETFROM:+0100
TZOFFSETTO:+0200
TZNAME:CEST
DTSTART:20260329T010000
END:DAYLIGHT
BEGIN:STANDARD
TZOFFSETFROM:+0200
TZOFFSETTO:+0100
TZNAME:CET
DTSTART:20261025T010000
END:STANDARD
END:VTIMEZONE
BEGIN:VEVENT
DTSTART;TZID=Europe/Rome:20250419T080000
DTEND;TZID=Europe/Rome:20251031T123000
DTSTAMP:20260424T164257
CREATED:20250415T142638Z
LAST-MODIFIED:20250415T142638Z
UID:12941-1745049600-1761913800@tabianoterme.it
SUMMARY:Servizio Trasporto Urbano - Linea 2226 Tabiano
DESCRIPTION:Tabiano Bagni: servizio urbano attivo \n\nDal 19 aprile al 4 maggio e dal 31 maggio al 31 ottobre 2025\, dal lunedì alla domenica. \nPrima corsa ore 8.
URL:https://tabianoterme.it/event/servizio-trasporto-urbano-linea-2226-tabiano/
CATEGORIES:Bambini e famiglie,Outdoor
ATTACH;FMTTYPE=image/jpeg:https://tabianoterme.it/wp-content/uploads/2025/04/2226-Servizio-Urbano-di-Tabiano-2-768x593-1.jpg
END:VEVENT
BEGIN:VEVENT
DTSTART;TZID=Europe/Rome:20251018T100000
DTEND;TZID=Europe/Rome:20251019T190000
DTSTAMP:20260424T164257
CREATED:20250908T084735Z
LAST-MODIFIED:20250908T084735Z
UID:13672-1760781600-1760900400@tabianoterme.it
SUMMARY:Mercanti in Cascina: tra frutti\, mestieri e storie di gusto
DESCRIPTION:Sabato 18 ottobre e domenica 19 ottobre\, la suggestiva Cascina Pizzavacca di Soarza di Villanova d’Arda si trasformerà in un vivace mercato rurale\, animato da colori\, profumi e tradizioni da riscoprire.\nMercanti in Cascina è l’appuntamento dedicato a chi ama l’artigianato\, i prodotti tipici e le atmosfere genuine di un tempo.\n\nNel grande cortile della cascina prenderà vita un percorso tra bancarelle ed espositori provenienti da tutta la regione: artigiani\, piccoli produttori\, artisti e creativi offriranno al pubblico un viaggio affascinante tra antichi mestieri\, creazioni fatte a mano e prelibatezze gastronomiche.\nOrganizzato da Ortocolto APS in collaborazione con l’Azienda Agricola Pisaroni\, l’evento rappresenta un’occasione unica per vivere l’autenticità della tradizione contadina in un contesto suggestivo e accogliente.\n\nIngresso a offerta libera\nGli amici a quattro zampe sono i benvenuti
URL:https://tabianoterme.it/event/mercanti-in-cascina-tra-frutti-mestieri-e-storie-di-gusto/
LOCATION:Cascina Pizzavacca\, Viao Po 1\, Soarza di Villanova d'Arda\, Italia\, 29010\, Italy
CATEGORIES:artigianato,Bambini e famiglie,Camminata,Festa,Fiera,Mercatino,Outdoor
ATTACH;FMTTYPE=image/jpeg:https://tabianoterme.it/wp-content/uploads/2025/09/94bb2ea5-caf7-4134-92e1-330f3d02e228.jpg
END:VEVENT
BEGIN:VEVENT
DTSTART;TZID=Europe/Rome:20251019T073000
DTEND;TZID=Europe/Rome:20251019T123000
DTSTAMP:20260424T164257
CREATED:20251003T100217Z
LAST-MODIFIED:20251003T100217Z
UID:13725-1760859000-1760877000@tabianoterme.it
SUMMARY:Per boschi e crinali. Escursione dal Borgo di Tabiano Castello a San Vittore
DESCRIPTION:Percorso ad anello che seguendo crinali panoramici ci porta da Tabiano a San Vittore. Sono sentieri che venivano utilizzati anche per motivi devozionali in quanto collegavano i 3 Santuari di Montemanulo \, Mariano e Careno. Ne percorreremo una parte nella suggestiva luce del mattino per poi rientrare attraverso aree boscate a recuperare le auto. \nRitrovo alle ore 7:30 al Cimitero di Tabiano Castello\nDurata: 5H ca\nLunghezza: 13 km; 400 mt dislivello\nDifficoltà: media\nCosto: € 12\,00 a persona\, gratuito under 10\nEtà minima: 6 anni \nSi consiglia di portar con sé uno spuntino al sacco\, che verrà consumato lungo il percorso\, almeno 1lt d’acqua a testa e abbigliamento adatto alla stagione. \nIl gruppo è accompagnato da una guida ambientale escursionistica. \nPrenotazione obbligatoria entro le ore 12:00 di sabato 18 ottobre\, tramite la compilazione del modulo presente al link: https://forms.gle/y5JzxM4Pj1swuKnR9 o telefonando allo 052483377 \nSi raccomanda di portare con sé un paio di scarpe di ricambio da indossare alla fine del percorso e di provvedere alla disinfezione delle calzature utilizzate durante l’escursione. \n 
URL:https://tabianoterme.it/event/per-boschi-e-crinali-escursione-dal-borgo-di-tabiano-castello-a-san-vittore/
LOCATION:Castello di Tabiano\, Via Castello\, Salsomaggiore Terme\, 43039
CATEGORIES:Bambini e famiglie,Camminata,Outdoor,Visita guidata
ATTACH;FMTTYPE=image/webp:https://tabianoterme.it/wp-content/uploads/2025/10/EccoFidenza-da-Tabiano-a-San-Vittore.webp
END:VEVENT
END:VCALENDAR