BEGIN:VCALENDAR
VERSION:2.0
PRODID:-//Tabiano terme - ECPv6.15.11//NONSGML v1.0//EN
CALSCALE:GREGORIAN
METHOD:PUBLISH
X-WR-CALNAME:Tabiano terme
X-ORIGINAL-URL:https://tabianoterme.it
X-WR-CALDESC:Eventi per Tabiano terme
REFRESH-INTERVAL;VALUE=DURATION:PT1H
X-Robots-Tag:noindex
X-PUBLISHED-TTL:PT1H
BEGIN:VTIMEZONE
TZID:Europe/Rome
BEGIN:DAYLIGHT
TZOFFSETFROM:+0100
TZOFFSETTO:+0200
TZNAME:CEST
DTSTART:20250330T010000
END:DAYLIGHT
BEGIN:STANDARD
TZOFFSETFROM:+0200
TZOFFSETTO:+0100
TZNAME:CET
DTSTART:20251026T010000
END:STANDARD
BEGIN:DAYLIGHT
TZOFFSETFROM:+0100
TZOFFSETTO:+0200
TZNAME:CEST
DTSTART:20260329T010000
END:DAYLIGHT
BEGIN:STANDARD
TZOFFSETFROM:+0200
TZOFFSETTO:+0100
TZNAME:CET
DTSTART:20261025T010000
END:STANDARD
BEGIN:DAYLIGHT
TZOFFSETFROM:+0100
TZOFFSETTO:+0200
TZNAME:CEST
DTSTART:20270328T010000
END:DAYLIGHT
BEGIN:STANDARD
TZOFFSETFROM:+0200
TZOFFSETTO:+0100
TZNAME:CET
DTSTART:20271031T010000
END:STANDARD
END:VTIMEZONE
BEGIN:VEVENT
DTSTART;TZID=Europe/Rome:20260502T170000
DTEND;TZID=Europe/Rome:20260502T183000
DTSTAMP:20260421T151539
CREATED:20260413T074612Z
LAST-MODIFIED:20260413T074612Z
UID:14658-1777741200-1777746600@tabianoterme.it
SUMMARY:Banda di Fidenza in Piazza Verdi
DESCRIPTION:Il 2 maggio il pomeriggio si accende di musica. Alle 17:15 in Piazza Verdi\, il Complesso Bandistico Fidentino\, diretto da Luigi Rizzi\, ci accompagnerà in un viaggio tra i generi: dai grandi classici alle colonne sonore cinematografiche\, passando per il jazz e la lirica. \nUn appuntamento pensato per tutti\, grandi e bambini\, per godersi insieme la bellezza di un concerto all’aperto nel cuore di Tabiano.
URL:https://tabianoterme.it/event/banda-di-fidenza-in-piazza-verdi/
LOCATION:Piazza Verdi\, Piazza Verdi\, Tabiano Terme\, 43039
CATEGORIES:Bambini e famiglie,Concerto,Intrattenimento,Musica
ATTACH;FMTTYPE=image/jpeg:https://tabianoterme.it/wp-content/uploads/2026/04/Banda-salsomaggiore.jpg
ORGANIZER;CN="Consorzio Abitabiano":MAILTO:info@tabianoterme.it
END:VEVENT
END:VCALENDAR