BEGIN:VCALENDAR
VERSION:2.0
PRODID:-//Tabiano terme - ECPv6.15.11//NONSGML v1.0//EN
CALSCALE:GREGORIAN
METHOD:PUBLISH
X-ORIGINAL-URL:https://tabianoterme.it
X-WR-CALDESC:Eventi per Tabiano terme
REFRESH-INTERVAL;VALUE=DURATION:PT1H
X-Robots-Tag:noindex
X-PUBLISHED-TTL:PT1H
BEGIN:VTIMEZONE
TZID:Europe/Rome
BEGIN:DAYLIGHT
TZOFFSETFROM:+0100
TZOFFSETTO:+0200
TZNAME:CEST
DTSTART:20240331T010000
END:DAYLIGHT
BEGIN:STANDARD
TZOFFSETFROM:+0200
TZOFFSETTO:+0100
TZNAME:CET
DTSTART:20241027T010000
END:STANDARD
BEGIN:DAYLIGHT
TZOFFSETFROM:+0100
TZOFFSETTO:+0200
TZNAME:CEST
DTSTART:20250330T010000
END:DAYLIGHT
BEGIN:STANDARD
TZOFFSETFROM:+0200
TZOFFSETTO:+0100
TZNAME:CET
DTSTART:20251026T010000
END:STANDARD
BEGIN:DAYLIGHT
TZOFFSETFROM:+0100
TZOFFSETTO:+0200
TZNAME:CEST
DTSTART:20260329T010000
END:DAYLIGHT
BEGIN:STANDARD
TZOFFSETFROM:+0200
TZOFFSETTO:+0100
TZNAME:CET
DTSTART:20261025T010000
END:STANDARD
END:VTIMEZONE
BEGIN:VEVENT
DTSTART;TZID=Europe/Rome:20251231T223000
DTEND;TZID=Europe/Rome:20251231T233000
DTSTAMP:20260421T232500
CREATED:20251215T113513Z
LAST-MODIFIED:20251215T113513Z
UID:14079-1767220200-1767223800@tabianoterme.it
SUMMARY:Capodanno 2026 a Parma con Alex Britti
DESCRIPTION:Parma saluterà il 2026 con il tradizionale e attesissimo concerto gratuito in Piazza Garibaldi: una grande festa nel cuore del centro storico che vedrà ospite e protagonista il grande chitarrista e cantautore italiano Alex Britti. . \nLa serata in Piazza Garibaldi si aprirà alle ore 22.30 con la musica disco anni ‘70 e ‘80 a cura di Jumbo story che farà ballare la piazza fino alla mezzanotte\, a seguire\, dopo il consueto countdown e i brindisi al nuovo anno\, sarà Alex Britti\, con il suo caratteristico mix di chitarra blues\, pop raffinato e sonorità dal gusto soul\, ad accompagnare la piazza in un viaggio musicale fatto di virtuosismi\, energia e grandi classici del suo repertorio oltre a nuove interpretazioni capaci di emozionare e sorprendere sia i fan più affezionati che il pubblico che per la prima volta si avvicinerà alla sua musica.
URL:https://tabianoterme.it/event/capodanno-2026-a-parma-con-alex-britti/
LOCATION:Parma\, Parma\, PR\, 43040\, Italia
CATEGORIES:Concerto,Festa,Musica
ATTACH;FMTTYPE=image/jpeg:https://tabianoterme.it/wp-content/uploads/2025/12/bgHome2024_4.jpg
ORGANIZER;CN="Comune di Parma":MAILTO:052140521@comune.parma.it
END:VEVENT
END:VCALENDAR