BEGIN:VCALENDAR
VERSION:2.0
PRODID:-//Tabiano terme - ECPv6.15.11//NONSGML v1.0//EN
CALSCALE:GREGORIAN
METHOD:PUBLISH
X-WR-CALNAME:Tabiano terme
X-ORIGINAL-URL:https://tabianoterme.it
X-WR-CALDESC:Eventi per Tabiano terme
REFRESH-INTERVAL;VALUE=DURATION:PT1H
X-Robots-Tag:noindex
X-PUBLISHED-TTL:PT1H
BEGIN:VTIMEZONE
TZID:Europe/Rome
BEGIN:DAYLIGHT
TZOFFSETFROM:+0100
TZOFFSETTO:+0200
TZNAME:CEST
DTSTART:20240331T010000
END:DAYLIGHT
BEGIN:STANDARD
TZOFFSETFROM:+0200
TZOFFSETTO:+0100
TZNAME:CET
DTSTART:20241027T010000
END:STANDARD
BEGIN:DAYLIGHT
TZOFFSETFROM:+0100
TZOFFSETTO:+0200
TZNAME:CEST
DTSTART:20250330T010000
END:DAYLIGHT
BEGIN:STANDARD
TZOFFSETFROM:+0200
TZOFFSETTO:+0100
TZNAME:CET
DTSTART:20251026T010000
END:STANDARD
BEGIN:DAYLIGHT
TZOFFSETFROM:+0100
TZOFFSETTO:+0200
TZNAME:CEST
DTSTART:20260329T010000
END:DAYLIGHT
BEGIN:STANDARD
TZOFFSETFROM:+0200
TZOFFSETTO:+0100
TZNAME:CET
DTSTART:20261025T010000
END:STANDARD
END:VTIMEZONE
BEGIN:VEVENT
DTSTART;TZID=Europe/Rome:20251223T210000
DTEND;TZID=Europe/Rome:20251223T233000
DTSTAMP:20260422T092135
CREATED:20251215T113039Z
LAST-MODIFIED:20251215T113039Z
UID:14074-1766523600-1766532600@tabianoterme.it
SUMMARY:Guè - Dj set
DESCRIPTION:Sul palco del Palazzetto dello Sport arriva la leggenda della scena italiana: Guè – Dj set \nGuè\, all’anagrafe Cosimo Fini\, nasce a Milano il 25 dicembre 1980. Negli anni ‘90 fonda Le Sacre Scuole con Dargen D’Amico\, dando il via a una carriera che lo renderà uno dei rapper più influenti in Italia. Successivamente\, forma i Club Dogo con Jake La Furia e il produttore Don Joe\, pubblicando sette album tra il 2003 e il 2014\, lasciando un segno indelebile nella scena hip hop italiana. \nAftershow: Dj Payano | Cibus | RZ on tour \nApertura cancelli ore 21:00
URL:https://tabianoterme.it/event/gue-dj-set/
LOCATION:Palazzetto dello Sport\, Via Ugo La Malfa\, salsomaggiore terme\, emilia romagna\, 43039\, Italy
CATEGORIES:Festa,Musica,Spettacolo
ATTACH;FMTTYPE=image/jpeg:https://tabianoterme.it/wp-content/uploads/2025/12/2730c3dd-b1ab-4583-8778-55d247b7d86d.jpg
END:VEVENT
END:VCALENDAR