BEGIN:VCALENDAR
VERSION:2.0
PRODID:-//Tabiano terme - ECPv6.15.11//NONSGML v1.0//EN
CALSCALE:GREGORIAN
METHOD:PUBLISH
X-WR-CALNAME:Tabiano terme
X-ORIGINAL-URL:https://tabianoterme.it
X-WR-CALDESC:Eventi per Tabiano terme
REFRESH-INTERVAL;VALUE=DURATION:PT1H
X-Robots-Tag:noindex
X-PUBLISHED-TTL:PT1H
BEGIN:VTIMEZONE
TZID:Europe/Rome
BEGIN:DAYLIGHT
TZOFFSETFROM:+0100
TZOFFSETTO:+0200
TZNAME:CEST
DTSTART:20240331T010000
END:DAYLIGHT
BEGIN:STANDARD
TZOFFSETFROM:+0200
TZOFFSETTO:+0100
TZNAME:CET
DTSTART:20241027T010000
END:STANDARD
BEGIN:DAYLIGHT
TZOFFSETFROM:+0100
TZOFFSETTO:+0200
TZNAME:CEST
DTSTART:20250330T010000
END:DAYLIGHT
BEGIN:STANDARD
TZOFFSETFROM:+0200
TZOFFSETTO:+0100
TZNAME:CET
DTSTART:20251026T010000
END:STANDARD
BEGIN:DAYLIGHT
TZOFFSETFROM:+0100
TZOFFSETTO:+0200
TZNAME:CEST
DTSTART:20260329T010000
END:DAYLIGHT
BEGIN:STANDARD
TZOFFSETFROM:+0200
TZOFFSETTO:+0100
TZNAME:CET
DTSTART:20261025T010000
END:STANDARD
END:VTIMEZONE
BEGIN:VEVENT
DTSTART;TZID=Europe/Rome:20251221T163000
DTEND;TZID=Europe/Rome:20251221T173000
DTSTAMP:20260422T092200
CREATED:20251215T111835Z
LAST-MODIFIED:20251215T111835Z
UID:14072-1766334600-1766338200@tabianoterme.it
SUMMARY:Concerto Incanto di Natale
DESCRIPTION:Alle ore 16.30 la Chiesa del Sacro Cuore di Tabiano Terme ospita il concerto “INCANTO DI NATALE” \ncon la presenza della cantante lirica Martina Venise accompagnata dal sassofonista Ercole Le Rose per vivere insieme la magia dei giorni che precedono il NATALE. \n 
URL:https://tabianoterme.it/event/concerto-incanto-di-natale/
LOCATION:Tabiano Terme
CATEGORIES:Concerto,Musica
ATTACH;FMTTYPE=image/jpeg:https://tabianoterme.it/wp-content/uploads/2025/12/Immagine-WhatsApp-2025-12-15-ore-11.36.16_f032a940.jpg
END:VEVENT
END:VCALENDAR