BEGIN:VCALENDAR
VERSION:2.0
PRODID:-//Tabiano terme - ECPv6.15.11//NONSGML v1.0//EN
CALSCALE:GREGORIAN
METHOD:PUBLISH
X-WR-CALNAME:Tabiano terme
X-ORIGINAL-URL:https://tabianoterme.it
X-WR-CALDESC:Eventi per Tabiano terme
REFRESH-INTERVAL;VALUE=DURATION:PT1H
X-Robots-Tag:noindex
X-PUBLISHED-TTL:PT1H
BEGIN:VTIMEZONE
TZID:Europe/Rome
BEGIN:DAYLIGHT
TZOFFSETFROM:+0100
TZOFFSETTO:+0200
TZNAME:CEST
DTSTART:20240331T010000
END:DAYLIGHT
BEGIN:STANDARD
TZOFFSETFROM:+0200
TZOFFSETTO:+0100
TZNAME:CET
DTSTART:20241027T010000
END:STANDARD
BEGIN:DAYLIGHT
TZOFFSETFROM:+0100
TZOFFSETTO:+0200
TZNAME:CEST
DTSTART:20250330T010000
END:DAYLIGHT
BEGIN:STANDARD
TZOFFSETFROM:+0200
TZOFFSETTO:+0100
TZNAME:CET
DTSTART:20251026T010000
END:STANDARD
BEGIN:DAYLIGHT
TZOFFSETFROM:+0100
TZOFFSETTO:+0200
TZNAME:CEST
DTSTART:20260329T010000
END:DAYLIGHT
BEGIN:STANDARD
TZOFFSETFROM:+0200
TZOFFSETTO:+0100
TZNAME:CET
DTSTART:20261025T010000
END:STANDARD
END:VTIMEZONE
BEGIN:VEVENT
DTSTART;TZID=Europe/Rome:20251210T210000
DTEND;TZID=Europe/Rome:20251210T230000
DTSTAMP:20260422T092142
CREATED:20251104T144715Z
LAST-MODIFIED:20251104T144715Z
UID:13855-1765400400-1765407600@tabianoterme.it
SUMMARY:RKOMI - Mirko nei Teatri
DESCRIPTION:Mirko nei Teatri” è il nuovo tour teatrale di Rkomi in Italia nel 2025. Il tour\, che prende il nome da uno degli album più personali dell’artista\, si svolgerà tra ottobre e dicembre in diverse città italiane. Si tratta di un’esperienza intima e coinvolgente\, pensata per spazi più raccolti\, dove Rkomi porterà la musica del suo ultimo lavoro “decrescendo.”
URL:https://tabianoterme.it/event/rkomi-mirko-nei-teatri/
LOCATION:Teatro Regio di Parma\, Strada Garibaldi\, 16/a\, Parma\, Italia\, 43121\, Italia
CATEGORIES:Concerto,Musica,Teatro
ATTACH;FMTTYPE=image/jpeg:https://tabianoterme.it/wp-content/uploads/2025/11/rkomi-teatri-biglietti-1.jpg
END:VEVENT
END:VCALENDAR