BEGIN:VCALENDAR
VERSION:2.0
PRODID:-//Tabiano terme - ECPv6.15.11//NONSGML v1.0//EN
CALSCALE:GREGORIAN
METHOD:PUBLISH
X-ORIGINAL-URL:https://tabianoterme.it
X-WR-CALDESC:Eventi per Tabiano terme
REFRESH-INTERVAL;VALUE=DURATION:PT1H
X-Robots-Tag:noindex
X-PUBLISHED-TTL:PT1H
BEGIN:VTIMEZONE
TZID:Europe/Rome
BEGIN:DAYLIGHT
TZOFFSETFROM:+0100
TZOFFSETTO:+0200
TZNAME:CEST
DTSTART:20240331T010000
END:DAYLIGHT
BEGIN:STANDARD
TZOFFSETFROM:+0200
TZOFFSETTO:+0100
TZNAME:CET
DTSTART:20241027T010000
END:STANDARD
BEGIN:DAYLIGHT
TZOFFSETFROM:+0100
TZOFFSETTO:+0200
TZNAME:CEST
DTSTART:20250330T010000
END:DAYLIGHT
BEGIN:STANDARD
TZOFFSETFROM:+0200
TZOFFSETTO:+0100
TZNAME:CET
DTSTART:20251026T010000
END:STANDARD
BEGIN:DAYLIGHT
TZOFFSETFROM:+0100
TZOFFSETTO:+0200
TZNAME:CEST
DTSTART:20260329T010000
END:DAYLIGHT
BEGIN:STANDARD
TZOFFSETFROM:+0200
TZOFFSETTO:+0100
TZNAME:CET
DTSTART:20261025T010000
END:STANDARD
END:VTIMEZONE
BEGIN:VEVENT
DTSTART;TZID=Europe/Rome:20250308T170000
DTEND;TZID=Europe/Rome:20250308T170000
DTSTAMP:20260424T155912
CREATED:20250109T135131Z
LAST-MODIFIED:20250109T135131Z
UID:12535-1741453200-1741453200@tabianoterme.it
SUMMARY:Un Viaggio nella Musica del Teatro di Fidenza – 8 marzo 2025
DESCRIPTION:In occasione della Giornata Internazionale della Donna\, il Teatro Magnani di Fidenza ospita un evento musicale straordinario: “Viaggio nella Musica del Teatro”\, un percorso che abbraccia quattro secoli di musica. \nI Protagonisti: \nMassimo Ferraguti al clarinetto\nAlessandro Nidi al pianoforte \n🎶 Programma:\nDa Claudio Monteverdi ai Beatles\, il duo accompagnerà il pubblico in un viaggio affascinante attraverso le epoche\, toccando capolavori che hanno segnato la storia della musica. \nL’evento si colloca nell’ambito dei Pomeriggi Musicali 2024-2025\, un’iniziativa che arricchisce la stagione lirico-concertistica del Teatro Magnani con esibizioni di altissimo livello. Un’occasione imperdibile per gli amanti della musica e per chi desidera trascorrere un pomeriggio speciale all’insegna dell’arte e della cultura! \nDove: Teatro Girolamo Magnani\, Fidenza (PR)\nQuando: Sabato 8 marzo 2025\, ore 17:00 \nInformazioni e prenotazioni:\nEmail: culturanews@comune.fidenza.pr.it
URL:https://tabianoterme.it/event/un-viaggio-nella-musica-del-teatro-di-fidenza-8-marzo-2025/
LOCATION:Teatro Girolamo Magnani\, Piazza Giuseppe Verdi\, Fidenza\, 43039\, Italia
CATEGORIES:Concerto,Musica,Teatro
ATTACH;FMTTYPE=image/jpeg:https://tabianoterme.it/wp-content/uploads/2025/01/BLOG-4-2.jpg
ORGANIZER;CN="Gruppo Promozione Musicale 'Tullio Marchetti'":MAILTO:ulliomarchetti@virgilio.it
END:VEVENT
END:VCALENDAR