BEGIN:VCALENDAR
VERSION:2.0
PRODID:-//Tabiano terme - ECPv6.15.11//NONSGML v1.0//EN
CALSCALE:GREGORIAN
METHOD:PUBLISH
X-ORIGINAL-URL:https://tabianoterme.it
X-WR-CALDESC:Eventi per Tabiano terme
REFRESH-INTERVAL;VALUE=DURATION:PT1H
X-Robots-Tag:noindex
X-PUBLISHED-TTL:PT1H
BEGIN:VTIMEZONE
TZID:Europe/Rome
BEGIN:DAYLIGHT
TZOFFSETFROM:+0100
TZOFFSETTO:+0200
TZNAME:CEST
DTSTART:20240331T010000
END:DAYLIGHT
BEGIN:STANDARD
TZOFFSETFROM:+0200
TZOFFSETTO:+0100
TZNAME:CET
DTSTART:20241027T010000
END:STANDARD
BEGIN:DAYLIGHT
TZOFFSETFROM:+0100
TZOFFSETTO:+0200
TZNAME:CEST
DTSTART:20250330T010000
END:DAYLIGHT
BEGIN:STANDARD
TZOFFSETFROM:+0200
TZOFFSETTO:+0100
TZNAME:CET
DTSTART:20251026T010000
END:STANDARD
BEGIN:DAYLIGHT
TZOFFSETFROM:+0100
TZOFFSETTO:+0200
TZNAME:CEST
DTSTART:20260329T010000
END:DAYLIGHT
BEGIN:STANDARD
TZOFFSETFROM:+0200
TZOFFSETTO:+0100
TZNAME:CET
DTSTART:20261025T010000
END:STANDARD
END:VTIMEZONE
BEGIN:VEVENT
DTSTART;TZID=Europe/Rome:20250905T160000
DTEND;TZID=Europe/Rome:20250907T233000
DTSTAMP:20260422T213715
CREATED:20250829T092231Z
LAST-MODIFIED:20250829T092231Z
UID:13603-1757088000-1757287800@tabianoterme.it
SUMMARY:Salsomaggiore Street Food Festival 2025
DESCRIPTION:Torna il weekend più gustoso dell’estate!Confesercenti Parma\, in collaborazione con il Comune di Salsomaggiore Terme e con il supporto degli imprenditori locali\, presenta una nuova edizione del Salsomaggiore Street Food Festival: tre giorni dedicati alle eccellenze del cibo di strada\, alla musica e al divertimento per tutta la famiglia. \nDal 5 al 7 settembre 2025\, Viale Romagnosi si trasformerà in un palcoscenico a cielo aperto con food truck provenienti da tutta Italia e dall’estero\, pronti a proporre specialità della tradizione parmigiana e piatti gourmet internazionali. \nOltre alle delizie gastronomiche\, il festival offrirà un ricco programma di eventi: concerti\, dj set\, spettacoli\, artisti di strada\, attività per bambini e giochi. \nVenerdì 5 settembre\n\n\nOre 16:00 – Apertura cucine e stand \n\n\nAperitivi in musica \n\n\nOre 21:30 – Dj set Over & New Era Staff\, per ballare fino a tarda notte \n\n\nSabato 6 settembre\n\n\nOre 11:30 – Apertura cucine (pranzo e cena) \n\n\nPomeriggio e sera – Scacchiera Gigante per grandi e piccoli \n\n\nSpettacoli e giochi per bambini a cura di Sigioca \n\n\nAperitivi musicali \n\n\nSera – Taro Taro Story\, festa anni ’80 e ’90 \n\n\nDomenica 7 settembre\n\n\nOre 11:30 – Apertura cucine \n\n\nAnimazione e giochi per bambini a cura de L’Ufficioincredibile \n\n\nPomeriggio – Musica con Salso Live \n\n\nSerata – Dj set conclusivo \n\n\n  \nArea bimbi\nPer tutte e tre le giornate\, dalle 16:30 alle 23:00\, sarà attiva un’area giochi dedicata ai più piccoli\, con attrazioni come il bungee jumping e tante altre sorprese. \nSpettacoli | Concerti | Merende | Mercati | Giochi \nVieni a vivere un weekend di gusto\, musica e divertimento nel cuore di Salsomaggiore Terme!
URL:https://tabianoterme.it/event/salsomaggiore-street-food-festival-2025/
LOCATION:Viale Romagnosi\, Salsomaggiore Terme\, Viale Romagnosi\, Salsomaggiore Terme\, Italia\, 43039\, Italia
CATEGORIES:Bambini e famiglie,Festa,Festival,Food,Intrattenimento,Musica
ATTACH;FMTTYPE=image/jpeg:https://tabianoterme.it/wp-content/uploads/2025/08/STREET-FOOD-2025.jpg
END:VEVENT
BEGIN:VEVENT
DTSTART;TZID=Europe/Rome:20250905T180000
DTEND;TZID=Europe/Rome:20250905T190000
DTSTAMP:20260422T213715
CREATED:20250627T095936Z
LAST-MODIFIED:20250627T095936Z
UID:13289-1757095200-1757098800@tabianoterme.it
SUMMARY:Salsomaggiore e l’Art Déco – Lo stile 1925 nella città termale
DESCRIPTION:Nel 2025 Salsomaggiore Terme celebra il centenario dell’Art Déco con un ciclo di eventi che intrecciano arte\,\nmusica\, teatro e testimonianze storiche\, in un’atmosfera di eleganza e memoria condivisa. La rassegna è curata scientificamente da Maurizia Bonatti Bacchini. \nVenerdì 27 giugno – Ore 18 – Corte Civica Tommasini“Galileo Chini. Armonia tra Medioevo\, Oriente e Déco”Relatrice: Silvia Ciappi \nVenerdì 5 settembre – Ore 18 – Corte Civica Tommasini“1922–1925: I Monumenti ai Caduti di Alberto Bazzoni”Con: Maurizia Bonatti Bacchini e Claudia Massi \nVenerdì 19 settembre – Ore 18 – Corte Civica Tommasini“Déco sontuoso e classicismo: D’Annunzio e Renato Brozzi”Relatrice: Anna Mavilla \nVenerdì 3 ottobre – Ore 18 – Corte Civica Tommasini“Gli esordi di Mario Bacciocchi tra Déco e Novecento”Relatore: Ezio Godoli \nVenerdì 17 ottobre – Ore 20 – Palazzo dei Congressi\, Salone MorescoConvivio a tema: “Gli anni Venti” \nEventi realizzati con il sostegno di Terme di Salsomaggiore e Tabiano; Lions Club & Coro dell’Opera di Parma
URL:https://tabianoterme.it/event/salsomaggiore-e-lart-deco-lo-stile-1925-nella-citta-termale-2/2025-09-05/
LOCATION:Corte Civica Tommasini\, Viale Filippo Corridoni 1\, Salsomaggiore Terme\, Italia\, 43039\, Italia
CATEGORIES:Arte e Cultura,Cultura,Musica,Rassegna,Storia
ATTACH;FMTTYPE=image/jpeg:https://tabianoterme.it/wp-content/uploads/2025/06/Salsomaggiore-e-lArt-Deco.jpg
END:VEVENT
BEGIN:VEVENT
DTSTART;TZID=Europe/Rome:20250907T210000
DTEND;TZID=Europe/Rome:20250907T223000
DTSTAMP:20260422T213715
CREATED:20250902T092529Z
LAST-MODIFIED:20250902T092529Z
UID:13652-1757278800-1757284200@tabianoterme.it
SUMMARY:Concerto del Banda di Salsomaggiore a Tabiano
DESCRIPTION:Le più belle canzoni del repertorio italiano ed internazionale eseguite dagli straordinari musici del Complesso Bandistico Città di Salsomaggiore Terme APS. \nUn viaggio in musica fra le hits Hit\, Pop e Rock più celebri. \nA partire dalle ore 21 in Piazza Verdi a Tabiano Terme. \n 
URL:https://tabianoterme.it/event/concerto-del-banda-di-salsomaggiore-a-tabiano/
LOCATION:Piazza Verdi\, Piazza Verdi\, Tabiano Terme\, 43039
CATEGORIES:Musica,Spettacolo
ATTACH;FMTTYPE=image/jpeg:https://tabianoterme.it/wp-content/uploads/2025/09/d3673a1a-ebd1-4e8b-aa18-ce7dad0553d3.jpeg
END:VEVENT
BEGIN:VEVENT
DTSTART;TZID=Europe/Rome:20250910T170000
DTEND;TZID=Europe/Rome:20250910T183000
DTSTAMP:20260422T213715
CREATED:20250908T094739Z
LAST-MODIFIED:20250908T094739Z
UID:13684-1757523600-1757529000@tabianoterme.it
SUMMARY:Tebaldi Callas -  la presentazione del libro di Giancarlo Landini
DESCRIPTION:Partendo esclusivamente dai personaggi portati sul palcoscenico\, dalle interpretazioni teatrali\, dalle registrazioni live e in studio\, Giancarlo Landini e Giovanni Vitali analizzano i motivi per i quali i due più grandi soprani del Novecento furono – e restano – “La Tebaldi” e “La Callas”. \nPer una scelta precisa degli autori sono pochissimi i riferimenti alle loro tormentate vite private; nessuno spazio è concesso al divismo\, alla presunta rivalità\, al gossip: su questi argomenti la letteratura è già molto vasta e appare oggi inesorabilmente datata. Le riflessioni prendono invece spunto dalle partiture\, da quelle pagine musicali che sono lo specchio indiscutibile della volontà degli autori e che fanno emergere quanto le due straordinarie primedonne furono scrupolosamente attente alle indicazioni dinamiche\, agogiche ed espressive dei compositori\, dando vita l’una\, la Tebaldi\, ad una sublime\, rinnovata stilizzazione del canto classico di tradizione ottocentesca e inventando l’altra\, la Callas\, quell’originale\, moderno “teatro della voce” che trova nella drammatica inquietudine del ventesimo secolo la sua ragion d’essere\, come dimostrano anche le suggestioni esercitate dal suo particolarissimo strumento sul cinema. \nDopo gli anni dei rispettivi centenari della nascita\, una raccolta di saggi non su la Tebaldi o la Callas\, ma su la Tebaldi e la Callas\, entrambe artiste uniche\, imprescindibili nella storia della vocalità\, al di sopra dei gusti soggettivi\, delle tifoserie e dei fanatismi\, proprio come le divinità dell’Olimpo alle quali ambedue di diritto appartengono. \nL’autore dialogherà con lo storico della musica Giuseppe Martini.
URL:https://tabianoterme.it/event/tebaldi-callas-la-presentazione-del-libro-di-giancarlo-landini/
LOCATION:Auditorium Casa della Musica\, Piazzale S. Francesco 1\, Parma\, 43121
CATEGORIES:Incontro,Musica,Spettacolo,Storia
ATTACH;FMTTYPE=image/png:https://tabianoterme.it/wp-content/uploads/2025/09/Immagine-2025-09-08-114437.png
ORGANIZER;CN="Casa della Musica":MAILTO:infopoint@lacasadellamusica.it
END:VEVENT
BEGIN:VEVENT
DTSTART;TZID=Europe/Rome:20250919T180000
DTEND;TZID=Europe/Rome:20250919T190000
DTSTAMP:20260422T213715
CREATED:20250627T095936Z
LAST-MODIFIED:20250627T095936Z
UID:13290-1758304800-1758308400@tabianoterme.it
SUMMARY:Salsomaggiore e l’Art Déco – Lo stile 1925 nella città termale
DESCRIPTION:Nel 2025 Salsomaggiore Terme celebra il centenario dell’Art Déco con un ciclo di eventi che intrecciano arte\,\nmusica\, teatro e testimonianze storiche\, in un’atmosfera di eleganza e memoria condivisa. La rassegna è curata scientificamente da Maurizia Bonatti Bacchini. \nVenerdì 27 giugno – Ore 18 – Corte Civica Tommasini“Galileo Chini. Armonia tra Medioevo\, Oriente e Déco”Relatrice: Silvia Ciappi \nVenerdì 5 settembre – Ore 18 – Corte Civica Tommasini“1922–1925: I Monumenti ai Caduti di Alberto Bazzoni”Con: Maurizia Bonatti Bacchini e Claudia Massi \nVenerdì 19 settembre – Ore 18 – Corte Civica Tommasini“Déco sontuoso e classicismo: D’Annunzio e Renato Brozzi”Relatrice: Anna Mavilla \nVenerdì 3 ottobre – Ore 18 – Corte Civica Tommasini“Gli esordi di Mario Bacciocchi tra Déco e Novecento”Relatore: Ezio Godoli \nVenerdì 17 ottobre – Ore 20 – Palazzo dei Congressi\, Salone MorescoConvivio a tema: “Gli anni Venti” \nEventi realizzati con il sostegno di Terme di Salsomaggiore e Tabiano; Lions Club & Coro dell’Opera di Parma
URL:https://tabianoterme.it/event/salsomaggiore-e-lart-deco-lo-stile-1925-nella-citta-termale-2/2025-09-19/
LOCATION:Corte Civica Tommasini\, Viale Filippo Corridoni 1\, Salsomaggiore Terme\, Italia\, 43039\, Italia
CATEGORIES:Arte e Cultura,Cultura,Musica,Rassegna,Storia
ATTACH;FMTTYPE=image/jpeg:https://tabianoterme.it/wp-content/uploads/2025/06/Salsomaggiore-e-lArt-Deco.jpg
END:VEVENT
END:VCALENDAR