BEGIN:VCALENDAR
VERSION:2.0
PRODID:-//Tabiano terme - ECPv6.15.11//NONSGML v1.0//EN
CALSCALE:GREGORIAN
METHOD:PUBLISH
X-WR-CALNAME:Tabiano terme
X-ORIGINAL-URL:https://tabianoterme.it
X-WR-CALDESC:Eventi per Tabiano terme
REFRESH-INTERVAL;VALUE=DURATION:PT1H
X-Robots-Tag:noindex
X-PUBLISHED-TTL:PT1H
BEGIN:VTIMEZONE
TZID:Europe/Rome
BEGIN:DAYLIGHT
TZOFFSETFROM:+0100
TZOFFSETTO:+0200
TZNAME:CEST
DTSTART:20240331T010000
END:DAYLIGHT
BEGIN:STANDARD
TZOFFSETFROM:+0200
TZOFFSETTO:+0100
TZNAME:CET
DTSTART:20241027T010000
END:STANDARD
BEGIN:DAYLIGHT
TZOFFSETFROM:+0100
TZOFFSETTO:+0200
TZNAME:CEST
DTSTART:20250330T010000
END:DAYLIGHT
BEGIN:STANDARD
TZOFFSETFROM:+0200
TZOFFSETTO:+0100
TZNAME:CET
DTSTART:20251026T010000
END:STANDARD
BEGIN:DAYLIGHT
TZOFFSETFROM:+0100
TZOFFSETTO:+0200
TZNAME:CEST
DTSTART:20260329T010000
END:DAYLIGHT
BEGIN:STANDARD
TZOFFSETFROM:+0200
TZOFFSETTO:+0100
TZNAME:CET
DTSTART:20261025T010000
END:STANDARD
END:VTIMEZONE
BEGIN:VEVENT
DTSTART;TZID=Europe/Rome:20250705T210000
DTEND;TZID=Europe/Rome:20250705T230000
DTSTAMP:20260423T063114
CREATED:20250626T152736Z
LAST-MODIFIED:20250626T152736Z
UID:13232-1751749200-1751756400@tabianoterme.it
SUMMARY:Major Seven in concerto
DESCRIPTION:I ‘Major Seven’ sono una giovanissima band parmense che porta sul palco l’energia irresistibile di cover soul\, funk e R&B.  \nRitmi coinvolgenti e groove autentico per farvi ballare e emozionare! \nAll’interno della eccezionale rassegna Ritmo d’Estate\, dal palco di Piazza Verdi\, si esibiscono per un sabato sera elettrizzante. \n 
URL:https://tabianoterme.it/event/major-seven-in-concerto/
LOCATION:Piazza Verdi\, Piazza Verdi\, Tabiano Terme\, 43039
CATEGORIES:Musica,Spettacolo
ATTACH;FMTTYPE=image/png:https://tabianoterme.it/wp-content/uploads/2025/06/Gayle-and-More.png
ORGANIZER;CN="Consorzio Abitabiano":MAILTO:info@tabianoterme.it
END:VEVENT
BEGIN:VEVENT
DTSTART;TZID=Europe/Rome:20250719T213000
DTEND;TZID=Europe/Rome:20250719T230000
DTSTAMP:20260423T063114
CREATED:20250704T083607Z
LAST-MODIFIED:20250704T083607Z
UID:13371-1752960600-1752966000@tabianoterme.it
SUMMARY:“Summer reggia opera festival” a Colorno
DESCRIPTION:Sabato 19 luglio 2025 \nNello splendore della Reggia di Colorno – tra i luoghi del parmense più suggestivi e architettonicamente prestigiosi e divenuta RESIDENZA REALE EUROPEA – si terrà la Dodicesima edizione del “Summer Reggia Opera Festival”. \nIl festival lirico si svolge ogni anno nella stagione estiva grazie alla collaborazione\, e partnership\, con Antea Progetti – Progetti e Servizi per la Cultura ed il Turismo scrl\, la Provincia di Parma e il Comune di Colorno\, e grazie al sostegno di Regione Emilia Romagna\, Comune di Colorno e sponsor privati. \nProgramma:\n19 luglio ore 21:30. \nConcerto dedicato a W. A. Mozart e F. J. Haydn\nper pianoforte solista e Ensemble Cameristico d’ archi “Antonio Vivaldi”\nVikram Sedona\, violino\nGiorgio Fiori\, violoncello\nMaestro concertatore e direttore M° Roberto Barrali. \nIl programma prevede due partiture di Mozart recentemente scoperte: \n– “Una Breve Serenata Notturna” per Violini e Basso Continuo\n– Un Allegro per Solo Pianoforte \nIngresso libero e gratuito fino ad esaurimento dei posti.  \nInformazioni: Reggia di Colorno\nTel. +39 0521312545 – reggiadicolorno@provincia.parma.it \n  \nFonte testo: https://reggiadicolorno.it\nFonte foto: https://www.castellidelducato.it
URL:https://tabianoterme.it/event/summer-reggia-opera-festival-a-colorno/
LOCATION:Reggia di Colorno\, Piazza Giuseppe Garibaldi 26\, Colorno\, 43052\, Italia
CATEGORIES:Arte e Cultura,Cultura,Musica
ATTACH;FMTTYPE=image/webp:https://tabianoterme.it/wp-content/uploads/2025/07/colorno-luglio-2025-summer-reggia-opera-festival-1.webp
END:VEVENT
BEGIN:VEVENT
DTSTART;TZID=Europe/Rome:20250730T180000
DTEND;TZID=Europe/Rome:20250730T233000
DTSTAMP:20260423T063114
CREATED:20250723T093547Z
LAST-MODIFIED:20250820T125944Z
UID:13413-1753898400-1753918200@tabianoterme.it
SUMMARY:ORTOCOLTO - Artigiani sotto la luna
DESCRIPTION:🌙✨ ARTIGIANI SOTTO LA LUNA – Le serate d’estate firmate Ortocolto ✨🌙📍 Piazza Verdi\, Tabiano Terme📅 Mercoledì 30 luglio\, 6 – 13 – 20 agosto 2025🕓 Dalle ore 18:00 alle 23:00 | Ingresso libero \nAnche quest’estate Tabiano Terme si accende di creatività e magia con Artigiani sotto la Luna\, l’appuntamento settimanale che trasforma Piazza Verdi in un salotto all’aperto\, tra mercatini artigianali\, gusto e spettacoli per tutta la famiglia 🌿🎭🍻 \n🎨 A partire dal tardo pomeriggio troverete:– Creazioni artigianali e prodotti locali da scoprire passeggiando tra le bancarelle– La piccola ristorazione casalinga del food truck La Bisia\, con piatti genuini e gustosi 🍔– Le ottime birre artigianali del Birrificio Farnese 🍺– Un’atmosfera rilassata e conviviale\, ideale per grandi e piccini \n🎪 E alle ore 21:00\, ogni mercoledì\, uno spettacolo gratuito a cura di Ottotipi Aps\, con posti a sedere e performance per tutta la famiglia: \n🔹 30 luglio – EL BECHINClown itinerante dalle storie macabre e irresistibili. Uno show sorprendente che mescola comicità e brivido. \n🔹 6 agosto – MAGO ABACUCUn giullare medievale alle prese con antichi giochi di prestigio e atmosfere d’altri tempi. \n🔹 13 agosto – MR LUCKYUn ciarlatano acrobata che tra rulli di equilibrio e pozioni magiche strappa applausi e risate. \n🔹 27 agosto – OTTOPANZER – DR STOK Clown esuberante e maestro dell’improvvisazione\, nei panni di un improbabile direttore di circo e un Astruso scienziato e “Spigolo”\, l’alchemico trabiccolo capace di trasformazioni incredibili\, realizzeranno il loro grande esperimento! \n🧺 Una festa sotto le stelle per vivere Tabiano in modo autentico\, tra gusto\, arte e spettacolo. \n📞 Per informazioni– Espositori: 347 0732 754 | 📧 espositori@ortocolto.it– Visitatori: 347 1510 556 | 📧 info@ortocolto.it
URL:https://tabianoterme.it/event/ortocolto-artigiani-sotto-la-luna/2025-07-30/
LOCATION:Piazza Verdi\, Piazza Verdi\, Tabiano Terme\, 43039
CATEGORIES:Arte e Cultura,artigianato,Bambini e famiglie,Cultura,Festa,Food,Musica
ATTACH;FMTTYPE=image/jpeg:https://tabianoterme.it/wp-content/uploads/2025/07/WhatsApp-Image-2025-07-23-at-11.35.12.jpeg
END:VEVENT
END:VCALENDAR