BEGIN:VCALENDAR
VERSION:2.0
PRODID:-//Tabiano terme - ECPv6.15.11//NONSGML v1.0//EN
CALSCALE:GREGORIAN
METHOD:PUBLISH
X-ORIGINAL-URL:https://tabianoterme.it
X-WR-CALDESC:Eventi per Tabiano terme
REFRESH-INTERVAL;VALUE=DURATION:PT1H
X-Robots-Tag:noindex
X-PUBLISHED-TTL:PT1H
BEGIN:VTIMEZONE
TZID:Europe/Rome
BEGIN:DAYLIGHT
TZOFFSETFROM:+0100
TZOFFSETTO:+0200
TZNAME:CEST
DTSTART:20240331T010000
END:DAYLIGHT
BEGIN:STANDARD
TZOFFSETFROM:+0200
TZOFFSETTO:+0100
TZNAME:CET
DTSTART:20241027T010000
END:STANDARD
BEGIN:DAYLIGHT
TZOFFSETFROM:+0100
TZOFFSETTO:+0200
TZNAME:CEST
DTSTART:20250330T010000
END:DAYLIGHT
BEGIN:STANDARD
TZOFFSETFROM:+0200
TZOFFSETTO:+0100
TZNAME:CET
DTSTART:20251026T010000
END:STANDARD
BEGIN:DAYLIGHT
TZOFFSETFROM:+0100
TZOFFSETTO:+0200
TZNAME:CEST
DTSTART:20260329T010000
END:DAYLIGHT
BEGIN:STANDARD
TZOFFSETFROM:+0200
TZOFFSETTO:+0100
TZNAME:CET
DTSTART:20261025T010000
END:STANDARD
END:VTIMEZONE
BEGIN:VEVENT
DTSTART;TZID=Europe/Rome:20250101T110000
DTEND;TZID=Europe/Rome:20250101T133000
DTSTAMP:20260425T043526
CREATED:20241231T090855Z
LAST-MODIFIED:20241231T090855Z
UID:12456-1735729200-1735738200@tabianoterme.it
SUMMARY:Concerto di Capodanno a Salsomaggiore Terme
DESCRIPTION:Il 2025 di Salsomaggiore si apre sulle note della musica classica. \nCome da tradizione “I Musici di Parma” terranno al Palazzo dei Congressi\, in Sala Cariatidi\, il Concerto di Capodanno. \nPROGRAMMA \nW.A.Mozart: Nozze di Figaro Sinfonia \nG.Verdi: Luisa Miller “Quando le sere al placido” \nG.Verdi: Attila Preludio \nG.Bizet: L’arlesienne Farandole \nG.Donizetti: L’Elisir “Una furtiva lagrima” \nJ.Strauss: Banditen Galopp \nStrauss: Pizzicato Polka \nJ.Strauss: Wiener Blut \nG.Puccini: Tosca “Lucevan le stelle” \nMascagni: Cavalleria – Intermezzo \nJ.Strauss: Trisch trasch polka \nG.Puccini: Turandot “Nessun dorma” \nTenore: Pietro Brunetto \nOrchestra: I Musici di Parma
URL:https://tabianoterme.it/event/concerto-di-capodanno-a-salsomaggiore-terme/
LOCATION:Palazzo dei Congressi\, Viale Giandomenico Romagnosi\, 7\, Salsomaggiore Terme\, Parma\, 43039\, Italia
CATEGORIES:Concerto,Musica
ATTACH;FMTTYPE=image/png:https://tabianoterme.it/wp-content/uploads/2024/12/salso-summer-class-festival-musici-di-parma-2022.png
END:VEVENT
BEGIN:VEVENT
DTSTART;TZID=Europe/Rome:20250112T160000
DTEND;TZID=Europe/Rome:20250112T160000
DTSTAMP:20260425T043526
CREATED:20250109T140022Z
LAST-MODIFIED:20250109T140022Z
UID:12540-1736697600-1736697600@tabianoterme.it
SUMMARY:"LA VEDOVA ALLEGRA" in scena a Fidenza
DESCRIPTION:Il Teatro Magnani di Fidenza propone una delle operette più amate di sempre: “La Vedova Allegra” di Franz Lehár. Questo evento\, parte della prestigiosa Stagione Lirico-Concertistica 2024-2025\, trasporterà gli spettatori nell’eleganza e nella brillantezza della Vienna di inizio Novecento. \nCon le sue melodie indimenticabili e una trama vivace e coinvolgente\, “La Vedova Allegra” rappresenta un’esperienza imperdibile per gli appassionati di musica e teatro. \nLa rappresentazione sarà eseguita in un’atmosfera raffinata e coinvolgente\, con scenografie che valorizzano la magia senza tempo dell’operetta. Una proposta ideale per una giornata all’insegna della cultura e delle emozioni\, a pochi passi da Tabiano Terme. \nQuando: Domenica 12 gennaio 2025\, ore 16:00\nDove: Teatro Girolamo Magnani\, Fidenza (PR) \nInfo e Prenotazioni:\nEmail: culturanews@comune.fidenza.pr.it
URL:https://tabianoterme.it/event/la-vedova-allegra-in-scena-a-fidenza/
LOCATION:Teatro Magnani di Fidenza\, Piazza Verdi 1\, Fidenza
CATEGORIES:Cultura,Musica,Teatro
ATTACH;FMTTYPE=image/jpeg:https://tabianoterme.it/wp-content/uploads/2025/01/la-vedova-allegra-920x600-1.jpg
ORGANIZER;CN="Gruppo Promozione Musicale 'Tullio Marchetti'":MAILTO:ulliomarchetti@virgilio.it
END:VEVENT
BEGIN:VEVENT
DTSTART;VALUE=DATE:20250114
DTEND;VALUE=DATE:20250115
DTSTAMP:20260425T043526
CREATED:20250109T145008Z
LAST-MODIFIED:20250109T150636Z
UID:12572-1736812800-1736899199@tabianoterme.it
SUMMARY:Stagione di Prosa al Teatro Verdi di Busseto
DESCRIPTION:La Stagione di Prosa 2025 al Teatro Verdi di Busseto si presenta con un programma ricco di emozioni e cultura. Un’occasione unica per assistere a quattro spettacoli di grande qualità\, ideati per soddisfare un pubblico variegato. Il Teatro Verdi è pronto a offrire un’esperienza indimenticabile\, dove l’arte e la cultura si incontrano in un ambiente accogliente e familiare. \nDate degli spettacoli: \n14 gennaio 2025: Toccando il vuoto\n7 marzo 2025: Rumba – l’asino e il bue del presepe di San Francesco nel parcheggio del supermercato\n22 marzo 2025: Le serve\n3 aprile 2025: Spettacolo finale \nNon perdere l’occasione di vivere un’esperienza teatrale unica in un luogo ricco di storia e cultura. Prenota il tuo biglietto o abbonamento oggi stesso! \nLuogo: Teatro Giuseppe Verdi di Busseto\, Busseto (PR)\nPer informazioni:\nTelefono: 0524/92487\nEmail: info@bussetolive.com\nSito web: www.bussetolive.com
URL:https://tabianoterme.it/event/stagione-di-prosa-al-teatro-verdi-di-busseto/2025-01-14/
LOCATION:Teatro Giuseppe Verdi di Busseto\, Piazza Verdi 1\, Busseto
CATEGORIES:Arte e Cultura,Musica,Spettacolo
ATTACH;FMTTYPE=image/jpeg:https://tabianoterme.it/wp-content/uploads/2025/01/BLOG-4-5.jpg
ORGANIZER;CN="Castelli del Ducato":MAILTO:info@castellidelducato.it
END:VEVENT
END:VCALENDAR