BEGIN:VCALENDAR
VERSION:2.0
PRODID:-//Tabiano terme - ECPv6.15.11//NONSGML v1.0//EN
CALSCALE:GREGORIAN
METHOD:PUBLISH
X-WR-CALNAME:Tabiano terme
X-ORIGINAL-URL:https://tabianoterme.it
X-WR-CALDESC:Eventi per Tabiano terme
REFRESH-INTERVAL;VALUE=DURATION:PT1H
X-Robots-Tag:noindex
X-PUBLISHED-TTL:PT1H
BEGIN:VTIMEZONE
TZID:Europe/Rome
BEGIN:DAYLIGHT
TZOFFSETFROM:+0100
TZOFFSETTO:+0200
TZNAME:CEST
DTSTART:20230326T010000
END:DAYLIGHT
BEGIN:STANDARD
TZOFFSETFROM:+0200
TZOFFSETTO:+0100
TZNAME:CET
DTSTART:20231029T010000
END:STANDARD
BEGIN:DAYLIGHT
TZOFFSETFROM:+0100
TZOFFSETTO:+0200
TZNAME:CEST
DTSTART:20240331T010000
END:DAYLIGHT
BEGIN:STANDARD
TZOFFSETFROM:+0200
TZOFFSETTO:+0100
TZNAME:CET
DTSTART:20241027T010000
END:STANDARD
BEGIN:DAYLIGHT
TZOFFSETFROM:+0100
TZOFFSETTO:+0200
TZNAME:CEST
DTSTART:20250330T010000
END:DAYLIGHT
BEGIN:STANDARD
TZOFFSETFROM:+0200
TZOFFSETTO:+0100
TZNAME:CET
DTSTART:20251026T010000
END:STANDARD
END:VTIMEZONE
BEGIN:VEVENT
DTSTART;TZID=Europe/Rome:20240803T210000
DTEND;TZID=Europe/Rome:20240803T223000
DTSTAMP:20260425T172618
CREATED:20240731T081737Z
LAST-MODIFIED:20240731T081737Z
UID:12193-1722718800-1722724200@tabianoterme.it
SUMMARY:Robbie Williams Tribute Show
DESCRIPTION:Un nuovo imperdibile sabato sera di questa straordinaria Estate a Tabiano Terme… IN MUSICA! \nJack allieterà il pubblico con un memorabile show tributo a Robbie Williams\, una delle pop star più famose al mondo! \nIl Palco di Piazza Verdi vi aspetta dalle ore 21 con una serata musicale ancora una volta completamente gratuita. \n  \n 
URL:https://tabianoterme.it/event/robbie-williams-tribute-show/
LOCATION:Piazza Verdi\, Piazza Verdi\, Tabiano Terme\, 43039
CATEGORIES:Concerto,Musica
ATTACH;FMTTYPE=image/png:https://tabianoterme.it/wp-content/uploads/2024/07/rw-308.png
ORGANIZER;CN="Consorzio Abitabiano":MAILTO:info@tabianoterme.it
END:VEVENT
BEGIN:VEVENT
DTSTART;TZID=Europe/Rome:20240810T170000
DTEND;TZID=Europe/Rome:20240811T230000
DTSTAMP:20260425T172618
CREATED:20240723T084807Z
LAST-MODIFIED:20240723T084938Z
UID:12166-1723309200-1723417200@tabianoterme.it
SUMMARY:Festa del vino sotto le stelle a Tabiano Terme
DESCRIPTION:Arriva a Tabiano Terme la prima edizione della Festa del Vino sotto le Stelle!\nUn evento che si terrà nella splendida cornice di Piazza Verdi. \nQueste le date e gli orari: \n\nSabato\, 10 agosto: dalle 17:00 alle 24:00\nDomenica\, 11 agosto: dalle 17:00 alle 23:00\n\nE questi gli appuntamenti imperdibili: \n\nMusica dal Vivo: Lasciatevi coinvolgere dalle note di talentuosi musicisti.\nDegustazioni: Assaporate una selezione dei migliori vini locali.\nStand con Prodotti Tipici: Esplorate e scoprite le eccellenze gastronomiche del territorio.\nMercatino: Passeggiate tra le bancarelle alla ricerca di artigianato e specialità.\nStreet Food: Deliziatevi con una varietà di cibi da strada per tutti i gusti.\n\nUnitevi a noi per due serate all’insegna del buon vino\, della buona musica e del divertimento. \nNon mancate!
URL:https://tabianoterme.it/event/festa-del-vino-sotto-le-stelle-a-tabiano-terme/
LOCATION:Piazza Verdi\, Piazza Verdi\, Tabiano Terme\, 43039
CATEGORIES:artigianato,Bambini e famiglie,Enogastronomia,Festa,Food,Intrattenimento,Mercatino,Musica,Outdoor
ATTACH;FMTTYPE=image/jpeg:https://tabianoterme.it/wp-content/uploads/2024/07/449693069_1077426610455939_1292968587968134068_n.jpg
ORGANIZER;CN="Consorzio Abitabiano":MAILTO:info@tabianoterme.it
END:VEVENT
BEGIN:VEVENT
DTSTART;TZID=Europe/Rome:20240818T213000
DTEND;TZID=Europe/Rome:20240818T233000
DTSTAMP:20260425T172618
CREATED:20240812T085528Z
LAST-MODIFIED:20240812T085528Z
UID:12258-1724016600-1724023800@tabianoterme.it
SUMMARY:Luca Barbarossa in concerto a San Secondo Parmense
DESCRIPTION:Tra parole e note \nUna serata di parole e musica per conoscere da vicino Luca Barbarossa\, cantautore e voce di Radio 2 Social Club\, nonché vincitore del Festival di Sanremo 1992 e autore del libro “Non perderti niente”. \nIn caso di maltempo: Rocca dei Rossi\, Sala delle Gesta. \nTutti gli eventi della rassegna Musica in Castello 2024 sono a ingresso libero senza prenotazione/senza l’acquisto di biglietti.\nSi consiglia di presentarsi con anticipo rispetto all’inizio degli eventi.
URL:https://tabianoterme.it/event/luca-barbarossa-in-concerto-a-san-secondo-parmense/
LOCATION:San Secondo Parmense\, Piazza Giuseppe Mazzini\, 10\, San Secondo Parmense\, PR\, 43017\, Italia
CATEGORIES:Concerto,Musica,Rassegna
ATTACH;FMTTYPE=image/webp:https://tabianoterme.it/wp-content/uploads/2024/08/5c98b9_33acb357f7ea4b65a71870b1d3ea2d46_mv2.webp
ORGANIZER;CN="musica in castello":MAILTO:info@piccolaorchestraitaliana.it
END:VEVENT
BEGIN:VEVENT
DTSTART;TZID=Europe/Rome:20240830T210000
DTEND;TZID=Europe/Rome:20240830T223000
DTSTAMP:20260425T172618
CREATED:20240828T101146Z
LAST-MODIFIED:20240828T101146Z
UID:12280-1725051600-1725057000@tabianoterme.it
SUMMARY:Schiavo canta De André
DESCRIPTION:Direttamente dal palco dei Teatri\, sotto l’organizzazione del Consorzio AbiTabiano\,\n“Schiavo canta De André” propone in versione Trio un viaggio costellato di immagini\,\nparole e suoni che tracciano un’emozione\, una comprensione\, una slavina di evocazioni\ndi tutto quella che è stata la produzione di Faber. \nEnrico Fava – pianoforte e tastiere\nGiorgio Airaldi Schiavo – voce\, chitarre e bouzouki\nM°Vanessa Paolini – fiati e cori \nIngresso libero\, senza prenotazione fino ad esaurimento posti.
URL:https://tabianoterme.it/event/schiavo-canta-de-andre/
LOCATION:Piazza Verdi\, Piazza Verdi\, Tabiano Terme\, 43039
CATEGORIES:Musica,Spettacolo
ATTACH;FMTTYPE=image/jpeg:https://tabianoterme.it/wp-content/uploads/2024/08/456124148_1039431204850458_4009259101858183906_n.jpg
ORGANIZER;CN="Consorzio Abitabiano":MAILTO:info@tabianoterme.it
END:VEVENT
END:VCALENDAR