BEGIN:VCALENDAR
VERSION:2.0
PRODID:-//Tabiano terme - ECPv6.15.11//NONSGML v1.0//EN
CALSCALE:GREGORIAN
METHOD:PUBLISH
X-ORIGINAL-URL:https://tabianoterme.it
X-WR-CALDESC:Eventi per Tabiano terme
REFRESH-INTERVAL;VALUE=DURATION:PT1H
X-Robots-Tag:noindex
X-PUBLISHED-TTL:PT1H
BEGIN:VTIMEZONE
TZID:Europe/Rome
BEGIN:DAYLIGHT
TZOFFSETFROM:+0100
TZOFFSETTO:+0200
TZNAME:CEST
DTSTART:20230326T010000
END:DAYLIGHT
BEGIN:STANDARD
TZOFFSETFROM:+0200
TZOFFSETTO:+0100
TZNAME:CET
DTSTART:20231029T010000
END:STANDARD
BEGIN:DAYLIGHT
TZOFFSETFROM:+0100
TZOFFSETTO:+0200
TZNAME:CEST
DTSTART:20240331T010000
END:DAYLIGHT
BEGIN:STANDARD
TZOFFSETFROM:+0200
TZOFFSETTO:+0100
TZNAME:CET
DTSTART:20241027T010000
END:STANDARD
BEGIN:DAYLIGHT
TZOFFSETFROM:+0100
TZOFFSETTO:+0200
TZNAME:CEST
DTSTART:20250330T010000
END:DAYLIGHT
BEGIN:STANDARD
TZOFFSETFROM:+0200
TZOFFSETTO:+0100
TZNAME:CET
DTSTART:20251026T010000
END:STANDARD
END:VTIMEZONE
BEGIN:VEVENT
DTSTART;TZID=Europe/Rome:20240705T210000
DTEND;TZID=Europe/Rome:20240705T223000
DTSTAMP:20260426T040624
CREATED:20240701T101447Z
LAST-MODIFIED:20240701T101447Z
UID:12005-1720213200-1720218600@tabianoterme.it
SUMMARY:Fruta Boa – Musica e Parole dal Brasile
DESCRIPTION:Claudio\, Gabry\, Mirco e Randy da 20 anni uniti dal comune amore per le melodie \, le armonie ed i ritmi di quel caleidoscopio di suoni e colori che è la Musica Popular Brasileira con i suoi illustri autori . \nNon solo bossa nova e samba\, quindi\, ma anche ritmi nordestini come afoxe\, frevo\, bajao\, e brani appartenenti alla vecchia tradizione carioca del choro . \nClaudio Tuma alla Chitarra; Gabry Beccari\, vocalist;  Mirco Teggiani al Basso; Randy Abbaticola alla Batteria. \n  \nIl concerto si terrà presso la Sala Cariatidi del Palazzo dei Congressi in caso di maltempo.
URL:https://tabianoterme.it/event/fruta-boa-musica-e-parole-dal-brasile/
LOCATION:Piazza Libertà\, Salsomaggiore Terme\, Piazza Libertà\, Salsomaggiore Terme\, Italia\, 43039\, Italia
CATEGORIES:Concerto,Musica
ATTACH;FMTTYPE=image/jpeg:https://tabianoterme.it/wp-content/uploads/2024/07/images.jpg
END:VEVENT
BEGIN:VEVENT
DTSTART;TZID=Europe/Rome:20240706T210000
DTEND;TZID=Europe/Rome:20240706T223000
DTSTAMP:20260426T040624
CREATED:20240701T102113Z
LAST-MODIFIED:20240701T102113Z
UID:12009-1720299600-1720305000@tabianoterme.it
SUMMARY:S & B Acoustic Duo
DESCRIPTION:Beatrice Berta vocalist del Duo e Simone Rota alla chitarra. \nSi esibiscono insieme da oltre 13 anni interpretando grandi classici internazionali \ndel pop\, soul\, funk\, Blues e Disco Music in una modalità acustica elegante e raffinata.\nIn concerto\, completamente gratuito\, in Piazza Verdi dalle ore 21.
URL:https://tabianoterme.it/event/s-b-acoustic-duo/
LOCATION:Piazza Verdi\, Piazza Verdi\, Tabiano Terme\, 43039
CATEGORIES:Concerto,Musica
ATTACH;FMTTYPE=image/jpeg:https://tabianoterme.it/wp-content/uploads/2024/07/images-1.jpg
ORGANIZER;CN="Consorzio Abitabiano":MAILTO:info@tabianoterme.it
END:VEVENT
BEGIN:VEVENT
DTSTART;TZID=Europe/Rome:20240713T210000
DTEND;TZID=Europe/Rome:20240713T223000
DTSTAMP:20260426T040624
CREATED:20240711T073350Z
LAST-MODIFIED:20240711T073350Z
UID:12040-1720904400-1720909800@tabianoterme.it
SUMMARY:Estate a Tabiano... IN MUSICA
DESCRIPTION:Tutti i Sabati di Luglio\, il Palco di Piazza Verdi di Tabiano Terme\, a partire dalle ore 21\, ospita straordinari appuntamenti musicali! \nSabato 13 sarà la volta dei musicisti di Vocinarte in “AEMILIA. Appunti di Viaggio”\, uno show che coniuga musica\, letture e poesia. \n“Un emozionante viaggio musicale sulla Via Emilia\, accompagnati dalla colonna sonora degli artisti che dell’Emilia hanno raccontato nelle loro canzoni”. \nTutti i concerti di Estate a Tabiano… IN MUSICA sono gratuiti. \n 
URL:https://tabianoterme.it/event/estate-a-tabiano-in-musica/
LOCATION:Piazza Verdi\, Piazza Verdi\, Tabiano Terme\, 43039
CATEGORIES:Musica
ATTACH;FMTTYPE=image/jpeg:https://tabianoterme.it/wp-content/uploads/2024/07/449519816_854783546514553_8224763150450600778_n.jpg
ORGANIZER;CN="Consorzio Abitabiano":MAILTO:info@tabianoterme.it
END:VEVENT
BEGIN:VEVENT
DTSTART;TZID=Europe/Rome:20240713T213000
DTEND;TZID=Europe/Rome:20240713T230000
DTSTAMP:20260426T040624
CREATED:20240701T085147Z
LAST-MODIFIED:20240701T085147Z
UID:11995-1720906200-1720911600@tabianoterme.it
SUMMARY:FILARMONICA ARTURO TOSCANINI al Labirinto della Masone
DESCRIPTION:FILARMONICA ARTURO TOSCANINI al Labirinto della Masone \nLa Filarmonica Arturo Toscanini nasce a Parma nel 2002 come prosecuzione della storica Orchestra dell’Emilia-Romagna Arturo Toscanini. Oggi è considerata tra le più importanti orchestre sinfoniche italiane.\nIspirata ai valori di Arturo Toscanini – rigore\, talento\, estro e impegno – l’attività dell’orchestra si caratterizza per una continua ricerca di qualità\, dal repertorio classico al contemporaneo\, dagli ensemble cameristici al grande sinfonismo. \nNote d’Opera – Musiche di W. A. Mozart\, G. Verdi\, G. Rossini\, G. Puccini – T. Ussardi\, direttore \nIn caso di maltempo: Palazzetto dello Sport Olimpia – In collaborazione con Avis Fontanellato
URL:https://tabianoterme.it/event/filarmonica-arturo-toscanini-al-labirinto-della-masone/
LOCATION:Labirinto della Masone\, Strada Masone\, 121\, Fontanellato\, 43012
CATEGORIES:Concerto,Musica
ATTACH;FMTTYPE=image/webp:https://tabianoterme.it/wp-content/uploads/2024/07/5c98b9_51ea93cacad049f782a9340535321b93_mv2.webp
ORGANIZER;CN="musica in castello":MAILTO:info@piccolaorchestraitaliana.it
END:VEVENT
BEGIN:VEVENT
DTSTART;TZID=Europe/Rome:20240718T213000
DTEND;TZID=Europe/Rome:20240718T230000
DTSTAMP:20260426T040624
CREATED:20240710T071950Z
LAST-MODIFIED:20240710T071950Z
UID:12035-1721338200-1721343600@tabianoterme.it
SUMMARY:Malika Ayane in concerto per Musica in Castello
DESCRIPTION:A Fontanellato arriva Malika Ayane per Musica in Castello con lo spettacolo Musica e parole.\nIn caso di maltempo: Palazzetto dello Sport Olimpia – In collaborazione con Avis Fontanellato \nINFORMAZIONI \nEvento a ingresso libero senza prenotazione/senza l’acquisto di biglietti.\nSi consiglia di presentarsi con anticipo rispetto all’inizio del concerto.\nPer info: e-mail organizzazione@piccolaorchestraitaliana.it\, tel. 350/5363590
URL:https://tabianoterme.it/event/malika-ayane-in-concerto-per-musica-in-castello/
LOCATION:Fontanellato\, Fontanellato\, 43012
CATEGORIES:Concerto,Musica
ATTACH;FMTTYPE=image/jpeg:https://tabianoterme.it/wp-content/uploads/2024/07/musica-in-castello-fontanellato-malika-ayane-luglio-2024.jpg
ORGANIZER;CN="Piccola Orchestra Italiana APS":MAILTO:info@piccolaorchestraitaliana.it
END:VEVENT
BEGIN:VEVENT
DTSTART;TZID=Europe/Rome:20240720T210000
DTEND;TZID=Europe/Rome:20240720T223000
DTSTAMP:20260426T040624
CREATED:20240711T075223Z
LAST-MODIFIED:20240711T075223Z
UID:12045-1721509200-1721514600@tabianoterme.it
SUMMARY:Estate a Tabiano… IN MUSICA
DESCRIPTION:Tutti i Sabati di Luglio\, il Palco di Piazza Verdi di Tabiano Terme\, a partire dalle ore 21\, ospita straordinari appuntamenti musicali! \nSabato 20 sarà la volta dei musicisti di Pensieri e Parole\, Progetto Acustico\, Omaggio a LUCIO BATTISTI. \nUn emozionante omaggio alle canzoni di Lucio Battisti\, rivisitate in chiave acustica\, canzoni suonate in modo semplice e diretto\, come si faceva qualche anno fa\, in riva al mare intorno ad un falò\, in compagnia delle stelle e animati dalla voglia di stare insieme. Un gruppo di amici\, musicisti di solida esperienza live\, accompagnano il pubblico in un viaggio nella musica d’autore italiana scaturita dal felice sodalizio tra Battisti e Mogol\, un tracciato di storia musicale che ripercorre i loro maggiori successi\, affacciandosi talvolta su brani forse meno conosciuti ma non di minore impatto emozionale\, con l’obiettivo di soddisfare quella voglia di nostalgia\, in grado di sollevarci dalla frenesia di tutti i giorni \nTutti i concerti di Estate a Tabiano… IN MUSICA sono gratuiti.
URL:https://tabianoterme.it/event/estate-a-tabiano-in-musica-2/
LOCATION:Piazza Verdi\, Piazza Verdi\, Tabiano Terme\, 43039
CATEGORIES:Musica
ATTACH;FMTTYPE=image/jpeg:https://tabianoterme.it/wp-content/uploads/2024/07/images-2.jpg
ORGANIZER;CN="Consorzio Abitabiano":MAILTO:info@tabianoterme.it
END:VEVENT
BEGIN:VEVENT
DTSTART;TZID=Europe/Rome:20240727T210000
DTEND;TZID=Europe/Rome:20240727T223000
DTSTAMP:20260426T040624
CREATED:20240711T081307Z
LAST-MODIFIED:20240711T081307Z
UID:12051-1722114000-1722119400@tabianoterme.it
SUMMARY:Estate a Tabiano... IN MUSICA
DESCRIPTION:Tutti i Sabati di Luglio\, il Palco di Piazza Verdi di Tabiano Terme\, a partire dalle ore 21\, ospita straordinari appuntamenti musicali! \nSabato 27 sarà la volta dei BAGGIO\, l’esilarante trio composto da Ale Masa\, Francesco Nigri\, Niccolò Rebecchi che ci accompagnerà attraverso un viaggio fra i cantautori italiani\, dagli inizi della carriera di Roberto Baggio fino al suo tramonto… \nTutti i concerti di Estate a Tabiano… IN MUSICA sono gratuiti.
URL:https://tabianoterme.it/event/estate-a-tabiano-in-musica-3/
LOCATION:Piazza Verdi\, Piazza Verdi\, Tabiano Terme\, 43039
CATEGORIES:Concerto,Musica
ATTACH;FMTTYPE=image/png:https://tabianoterme.it/wp-content/uploads/2024/07/399637540_644441251184188_4125413536304621662_n.png
ORGANIZER;CN="Consorzio Abitabiano":MAILTO:info@tabianoterme.it
END:VEVENT
END:VCALENDAR