BEGIN:VCALENDAR
VERSION:2.0
PRODID:-//Tabiano terme - ECPv6.15.11//NONSGML v1.0//EN
CALSCALE:GREGORIAN
METHOD:PUBLISH
X-WR-CALNAME:Tabiano terme
X-ORIGINAL-URL:https://tabianoterme.it
X-WR-CALDESC:Eventi per Tabiano terme
REFRESH-INTERVAL;VALUE=DURATION:PT1H
X-Robots-Tag:noindex
X-PUBLISHED-TTL:PT1H
BEGIN:VTIMEZONE
TZID:Europe/Rome
BEGIN:DAYLIGHT
TZOFFSETFROM:+0100
TZOFFSETTO:+0200
TZNAME:CEST
DTSTART:20220327T010000
END:DAYLIGHT
BEGIN:STANDARD
TZOFFSETFROM:+0200
TZOFFSETTO:+0100
TZNAME:CET
DTSTART:20221030T010000
END:STANDARD
BEGIN:DAYLIGHT
TZOFFSETFROM:+0100
TZOFFSETTO:+0200
TZNAME:CEST
DTSTART:20230326T010000
END:DAYLIGHT
BEGIN:STANDARD
TZOFFSETFROM:+0200
TZOFFSETTO:+0100
TZNAME:CET
DTSTART:20231029T010000
END:STANDARD
BEGIN:DAYLIGHT
TZOFFSETFROM:+0100
TZOFFSETTO:+0200
TZNAME:CEST
DTSTART:20240331T010000
END:DAYLIGHT
BEGIN:STANDARD
TZOFFSETFROM:+0200
TZOFFSETTO:+0100
TZNAME:CET
DTSTART:20241027T010000
END:STANDARD
END:VTIMEZONE
BEGIN:VEVENT
DTSTART;TZID=Europe/Rome:20230712T210000
DTEND;TZID=Europe/Rome:20230712T230000
DTSTAMP:20260422T071618
CREATED:20230709T141935Z
LAST-MODIFIED:20230709T144659Z
UID:11130-1689195600-1689202800@tabianoterme.it
SUMMARY:Accidenti! Che collezione pazzesca
DESCRIPTION:Terza data della rassegna estiva es-SERE al MuMAB\, gli appuntamenti serali del MuMAB – Museo Mare Antico e Biodiversità! \nQuanti denti sono custoditi al MuMAB?\nScopriamolo con un’indagine notturna alla luce delle torce nei corridoi del museo! \nE se uno squalo avesse perso un dente proprio qui? Ma quanti altri denti possiamo trovare? \n10 milioni di anni fa i denti erano uguali a quelli di oggi? Molte domande a cui daremo risposta accompagnati da un’esperta che ci accompagnerà nel buio tra le sale del museo. \nPer famiglie con bambini dai 4 anni \nCOSA PORTARE \n1. torcia frontale o a mano per la visita\n2. Una buona dose di coraggio
URL:https://tabianoterme.it/event/accidenti-che-collezione-pazzesca-2/
LOCATION:MuMAB- Museo Mare Antico e Biodiversità\, Podere Millepioppi\, Salsomaggiore Terme\, PR\, 43039\, Italia
CATEGORIES:Bambini e famiglie,Museo,Visita guidata
ATTACH;FMTTYPE=image/jpeg:https://tabianoterme.it/wp-content/uploads/2023/07/accidenti.jpg
ORGANIZER;CN="MuMAB - Museo Mare Antico e Biodiversit%C3%A0":MAILTO:mumab@millepioppi.it
END:VEVENT
END:VCALENDAR