BEGIN:VCALENDAR
VERSION:2.0
PRODID:-//Tabiano terme - ECPv6.15.11//NONSGML v1.0//EN
CALSCALE:GREGORIAN
METHOD:PUBLISH
X-WR-CALNAME:Tabiano terme
X-ORIGINAL-URL:https://tabianoterme.it
X-WR-CALDESC:Eventi per Tabiano terme
REFRESH-INTERVAL;VALUE=DURATION:PT1H
X-Robots-Tag:noindex
X-PUBLISHED-TTL:PT1H
BEGIN:VTIMEZONE
TZID:Europe/Rome
BEGIN:DAYLIGHT
TZOFFSETFROM:+0100
TZOFFSETTO:+0200
TZNAME:CEST
DTSTART:20240331T010000
END:DAYLIGHT
BEGIN:STANDARD
TZOFFSETFROM:+0200
TZOFFSETTO:+0100
TZNAME:CET
DTSTART:20241027T010000
END:STANDARD
BEGIN:DAYLIGHT
TZOFFSETFROM:+0100
TZOFFSETTO:+0200
TZNAME:CEST
DTSTART:20250330T010000
END:DAYLIGHT
BEGIN:STANDARD
TZOFFSETFROM:+0200
TZOFFSETTO:+0100
TZNAME:CET
DTSTART:20251026T010000
END:STANDARD
BEGIN:DAYLIGHT
TZOFFSETFROM:+0100
TZOFFSETTO:+0200
TZNAME:CEST
DTSTART:20260329T010000
END:DAYLIGHT
BEGIN:STANDARD
TZOFFSETFROM:+0200
TZOFFSETTO:+0100
TZNAME:CET
DTSTART:20261025T010000
END:STANDARD
END:VTIMEZONE
BEGIN:VEVENT
DTSTART;TZID=Europe/Rome:20250620T200000
DTEND;TZID=Europe/Rome:20250620T230000
DTSTAMP:20260424T052206
CREATED:20250530T075607Z
LAST-MODIFIED:20250530T075607Z
UID:13155-1750449600-1750460400@tabianoterme.it
SUMMARY:🎉 Festival TAbàr – Accendi la tua estate a Tabiano Terme! 🎶
DESCRIPTION:Live Music per iniziare col ritmo giusto \n\n\nKaraoke con Marco Riboni – sali sul palco e diventa protagonista! \n\n\nDJ Set by Corrado Damoni – chiudi la serata con i migliori beat \n\n\n🍔 Food truck e delizie per tutti i gusti ti aspettano nella cornice vibrante di Tabiano Terme.
URL:https://tabianoterme.it/event/%f0%9f%8e%89-festival-tabar-accendi-la-tua-estate-a-tabiano-terme-%f0%9f%8e%b6/
LOCATION:Piazza Verdi\, Piazza Verdi\, Tabiano Terme\, 43039
CATEGORIES:Bambini e famiglie,Festival,Intrattenimento,Musica,Rassegna,Spettacolo
ATTACH;FMTTYPE=image/jpeg:https://tabianoterme.it/wp-content/uploads/2025/05/Salsomaggiore-e-lArt-Deco-1.jpg
END:VEVENT
END:VCALENDAR