BEGIN:VCALENDAR
VERSION:2.0
PRODID:-//Tabiano terme - ECPv6.15.11//NONSGML v1.0//EN
CALSCALE:GREGORIAN
METHOD:PUBLISH
X-ORIGINAL-URL:https://tabianoterme.it
X-WR-CALDESC:Eventi per Tabiano terme
REFRESH-INTERVAL;VALUE=DURATION:PT1H
X-Robots-Tag:noindex
X-PUBLISHED-TTL:PT1H
BEGIN:VTIMEZONE
TZID:Europe/Rome
BEGIN:DAYLIGHT
TZOFFSETFROM:+0100
TZOFFSETTO:+0200
TZNAME:CEST
DTSTART:20240331T010000
END:DAYLIGHT
BEGIN:STANDARD
TZOFFSETFROM:+0200
TZOFFSETTO:+0100
TZNAME:CET
DTSTART:20241027T010000
END:STANDARD
BEGIN:DAYLIGHT
TZOFFSETFROM:+0100
TZOFFSETTO:+0200
TZNAME:CEST
DTSTART:20250330T010000
END:DAYLIGHT
BEGIN:STANDARD
TZOFFSETFROM:+0200
TZOFFSETTO:+0100
TZNAME:CET
DTSTART:20251026T010000
END:STANDARD
BEGIN:DAYLIGHT
TZOFFSETFROM:+0100
TZOFFSETTO:+0200
TZNAME:CEST
DTSTART:20260329T010000
END:DAYLIGHT
BEGIN:STANDARD
TZOFFSETFROM:+0200
TZOFFSETTO:+0100
TZNAME:CET
DTSTART:20261025T010000
END:STANDARD
END:VTIMEZONE
BEGIN:VEVENT
DTSTART;TZID=Europe/Rome:20250905T160000
DTEND;TZID=Europe/Rome:20250907T233000
DTSTAMP:20260423T013147
CREATED:20250829T092231Z
LAST-MODIFIED:20250829T092231Z
UID:13603-1757088000-1757287800@tabianoterme.it
SUMMARY:Salsomaggiore Street Food Festival 2025
DESCRIPTION:Torna il weekend più gustoso dell’estate!Confesercenti Parma\, in collaborazione con il Comune di Salsomaggiore Terme e con il supporto degli imprenditori locali\, presenta una nuova edizione del Salsomaggiore Street Food Festival: tre giorni dedicati alle eccellenze del cibo di strada\, alla musica e al divertimento per tutta la famiglia. \nDal 5 al 7 settembre 2025\, Viale Romagnosi si trasformerà in un palcoscenico a cielo aperto con food truck provenienti da tutta Italia e dall’estero\, pronti a proporre specialità della tradizione parmigiana e piatti gourmet internazionali. \nOltre alle delizie gastronomiche\, il festival offrirà un ricco programma di eventi: concerti\, dj set\, spettacoli\, artisti di strada\, attività per bambini e giochi. \nVenerdì 5 settembre\n\n\nOre 16:00 – Apertura cucine e stand \n\n\nAperitivi in musica \n\n\nOre 21:30 – Dj set Over & New Era Staff\, per ballare fino a tarda notte \n\n\nSabato 6 settembre\n\n\nOre 11:30 – Apertura cucine (pranzo e cena) \n\n\nPomeriggio e sera – Scacchiera Gigante per grandi e piccoli \n\n\nSpettacoli e giochi per bambini a cura di Sigioca \n\n\nAperitivi musicali \n\n\nSera – Taro Taro Story\, festa anni ’80 e ’90 \n\n\nDomenica 7 settembre\n\n\nOre 11:30 – Apertura cucine \n\n\nAnimazione e giochi per bambini a cura de L’Ufficioincredibile \n\n\nPomeriggio – Musica con Salso Live \n\n\nSerata – Dj set conclusivo \n\n\n  \nArea bimbi\nPer tutte e tre le giornate\, dalle 16:30 alle 23:00\, sarà attiva un’area giochi dedicata ai più piccoli\, con attrazioni come il bungee jumping e tante altre sorprese. \nSpettacoli | Concerti | Merende | Mercati | Giochi \nVieni a vivere un weekend di gusto\, musica e divertimento nel cuore di Salsomaggiore Terme!
URL:https://tabianoterme.it/event/salsomaggiore-street-food-festival-2025/
LOCATION:Viale Romagnosi\, Salsomaggiore Terme\, Viale Romagnosi\, Salsomaggiore Terme\, Italia\, 43039\, Italia
CATEGORIES:Bambini e famiglie,Festa,Festival,Food,Intrattenimento,Musica
ATTACH;FMTTYPE=image/jpeg:https://tabianoterme.it/wp-content/uploads/2025/08/STREET-FOOD-2025.jpg
END:VEVENT
BEGIN:VEVENT
DTSTART;TZID=Europe/Rome:20250905T180000
DTEND;TZID=Europe/Rome:20250908T233000
DTSTAMP:20260423T013147
CREATED:20250902T091241Z
LAST-MODIFIED:20250902T091241Z
UID:13647-1757095200-1757374200@tabianoterme.it
SUMMARY:67ª Festa della Coppa Piacentina D.O.P.
DESCRIPTION:Dal 5 all’8 settembre\, Carpaneto Piacentino si prepara ad accogliere la sua più attesa manifestazione annuale: la 67ª Festa della Coppa Piacentina D.O.P.. \nUn evento che celebra la tradizione\, il buon cibo e il buon vivere\, trasformando le vie e le piazze del centro storico in un vivace punto di incontro. Curata dalla Pro Loco di Carpaneto\, la festa offre un ricco programma di eventi\, intrattenimenti e degustazioni per tutta la famiglia. \nNon mancheranno i classici panini imbottiti e la “Ruota della Coppa”\, dove i più fortunati potranno provare a vincere l’ambito salume. Oltre ai numerosi stand gastronomici\, quest’anno si aggiunge un nuovo chiosco gestito direttamente dalla Pro Loco presso i Giardini di Viale Vittoria. \nIl pomeriggio di sabato sarà dedicato a una tavola rotonda sul valore culturale ed economico della Coppa Piacentina D.O.P.\, con la partecipazione di esperti e dello Chef Daniele Reponi\, che offrirà un aperitivo a tema. L’intrattenimento serale sarà ricco di musica e divertimento\, con DJ set\, serate di ballo liscio\, Quiz Show e il concerto di Rewind ’90 in Piazza Oliveti. \nIl programma include anche tante attività come la caccia alla coppa per i più piccoli\, mostre d’arte e fotografia\, una sfilata in costumi d’epoca e una novità: la gara di panini della domenica pomeriggio. La manifestazione si concluderà lunedì sera con la Grande Tombola e i tradizionali fuochi d’artificio\, offrendo a tutti un’occasione perfetta per scoprire le eccellenze del territorio e vivere un weekend all’insegna della tradizione e del divertimento. \n 
URL:https://tabianoterme.it/event/67a-festa-della-coppa-piacentina-d-o-p/
CATEGORIES:Bambini e famiglie,Festa,Fiera,Food,Intrattenimento
ATTACH;FMTTYPE=image/jpeg:https://tabianoterme.it/wp-content/uploads/2025/09/FDC-2025-Locandine-Istituzionali-A3-scaled.jpg
END:VEVENT
BEGIN:VEVENT
DTSTART;TZID=Europe/Rome:20250912T180000
DTEND;TZID=Europe/Rome:20250914T210000
DTSTAMP:20260423T013147
CREATED:20250902T090104Z
LAST-MODIFIED:20250902T090202Z
UID:13643-1757700000-1757883600@tabianoterme.it
SUMMARY:Sagra dell’Addolorata a Soragna
DESCRIPTION:Tre giorni di spettacoli\, musica\, divertimento e buon cibo per le vie del centro di Soragna. \nVENERDI (dalle 21:00) A TUTTA MUSICA\nApertura con Asteria Jazz Trio\nA tutta cover con BOOMBAND\nScateniamoci con DJ Satch \nSABATO (dalle 18:30) FESTIVAL INCREDIBILE\nSpettacolari esibizioni di circo contemporaneo e artisti di strada\, sotto la direzione artistica de l’ufficio Incredibile\nGran finale con il DJ Set di Mr Pine \nDOMENICA (dalle 16:30) REGNO DI NASONIA\nIncoronazione dei nuovi Re e Regina 2025\nCorteo con i costumi della storica Giostra dei Nasi\nRievocazione dei duelli di spada medievali\nParata di musici e sbandieratori\nMercatino dell’ingegno e creatività (sin dal mattino) \nPer tutti e tre i giorni:\nCucina tipica delle associazioni e commercianti del paese\nArea giochi con gonfiabili per i più piccoli \nMa il PROGRAMMA non finisce qui\, perchè ci saranno anche: la tradizionale biciclettata\, la caccia al tesoro\, l’estemporanea di pittura\, esibizioni di danza\, il raduno delle moto 2 tempi\, tornei di briscola e burraco e…tanto altro!
URL:https://tabianoterme.it/event/sagra-delladdolorata-a-soragna/
LOCATION:Soragna
CATEGORIES:Arte e Cultura,artigianato,Bambini e famiglie,Camminata,Concerto,Enogastronomia,Festa,Food,Intrattenimento,Outdoor,Rassegna,Spettacolo
ATTACH;FMTTYPE=image/jpeg:https://tabianoterme.it/wp-content/uploads/2025/09/517431361_122303079380003861_9145516947576467821_n.jpg
END:VEVENT
BEGIN:VEVENT
DTSTART;TZID=Europe/Rome:20250926T210000
DTEND;TZID=Europe/Rome:20250926T233000
DTSTAMP:20260423T013147
CREATED:20250923T063453Z
LAST-MODIFIED:20250923T063453Z
UID:13701-1758920400-1758929400@tabianoterme.it
SUMMARY:UNA BATTAGLIA DOPO L'ALTRA
DESCRIPTION:Al cinema Odeon di Salsomaggiore Terme ti aspettano con la programmazione del film: Una battaglia dopo l’altra. \nIl rivoluzionario in declino Bob vive in uno stato di paranoia confusa\, sopravvivendo ai margini della società insieme alla sua vivace e indipendente figlia Willa. Quando\, dopo sedici anni\, il suo acerrimo nemico riappare e Willa scompare\, l’ex militante radicale si lancia in una disperata ricerca. Padre e figlia dovranno affrontare insieme le conseguenze del suo passato. \n  \nVenerdì 26/09 ore 21.15\nSabato 27/09 ore 21.15\nDomenica 28/09 ore 16.30 – 21.15\nMartedì 30/09 ore 21.15
URL:https://tabianoterme.it/event/una-battaglia-dopo-laltra/2025-09-26/
LOCATION:cinema Odeon salsomaggiore\, Via Giovanni Valentini\, 11\, Salsomaggiore Terme\, PR\, 43039\, Italia
CATEGORIES:Cinema,Intrattenimento
ATTACH;FMTTYPE=image/jpeg:https://tabianoterme.it/wp-content/uploads/2025/09/1758468992412blob.jpg
END:VEVENT
BEGIN:VEVENT
DTSTART;TZID=Europe/Rome:20250927T210000
DTEND;TZID=Europe/Rome:20250927T233000
DTSTAMP:20260423T013147
CREATED:20250923T063453Z
LAST-MODIFIED:20250923T063453Z
UID:13704-1759006800-1759015800@tabianoterme.it
SUMMARY:UNA BATTAGLIA DOPO L'ALTRA
DESCRIPTION:Al cinema Odeon di Salsomaggiore Terme ti aspettano con la programmazione del film: Una battaglia dopo l’altra. \nIl rivoluzionario in declino Bob vive in uno stato di paranoia confusa\, sopravvivendo ai margini della società insieme alla sua vivace e indipendente figlia Willa. Quando\, dopo sedici anni\, il suo acerrimo nemico riappare e Willa scompare\, l’ex militante radicale si lancia in una disperata ricerca. Padre e figlia dovranno affrontare insieme le conseguenze del suo passato. \n  \nVenerdì 26/09 ore 21.15\nSabato 27/09 ore 21.15\nDomenica 28/09 ore 16.30 – 21.15\nMartedì 30/09 ore 21.15
URL:https://tabianoterme.it/event/una-battaglia-dopo-laltra/2025-09-27/
LOCATION:cinema Odeon salsomaggiore\, Via Giovanni Valentini\, 11\, Salsomaggiore Terme\, PR\, 43039\, Italia
CATEGORIES:Cinema,Intrattenimento
ATTACH;FMTTYPE=image/jpeg:https://tabianoterme.it/wp-content/uploads/2025/09/1758468992412blob.jpg
END:VEVENT
BEGIN:VEVENT
DTSTART;TZID=Europe/Rome:20250928T163000
DTEND;TZID=Europe/Rome:20250928T190000
DTSTAMP:20260423T013147
CREATED:20250923T063453Z
LAST-MODIFIED:20250923T063453Z
UID:13705-1759077000-1759086000@tabianoterme.it
SUMMARY:UNA BATTAGLIA DOPO L'ALTRA
DESCRIPTION:Al cinema Odeon di Salsomaggiore Terme ti aspettano con la programmazione del film: Una battaglia dopo l’altra. \nIl rivoluzionario in declino Bob vive in uno stato di paranoia confusa\, sopravvivendo ai margini della società insieme alla sua vivace e indipendente figlia Willa. Quando\, dopo sedici anni\, il suo acerrimo nemico riappare e Willa scompare\, l’ex militante radicale si lancia in una disperata ricerca. Padre e figlia dovranno affrontare insieme le conseguenze del suo passato. \n  \nVenerdì 26/09 ore 21.15\nSabato 27/09 ore 21.15\nDomenica 28/09 ore 16.30 – 21.15\nMartedì 30/09 ore 21.15
URL:https://tabianoterme.it/event/una-battaglia-dopo-laltra/2025-09-28/
LOCATION:cinema Odeon salsomaggiore\, Via Giovanni Valentini\, 11\, Salsomaggiore Terme\, PR\, 43039\, Italia
CATEGORIES:Cinema,Intrattenimento
ATTACH;FMTTYPE=image/jpeg:https://tabianoterme.it/wp-content/uploads/2025/09/1758468992412blob.jpg
END:VEVENT
BEGIN:VEVENT
DTSTART;TZID=Europe/Rome:20250928T210000
DTEND;TZID=Europe/Rome:20250928T233000
DTSTAMP:20260423T013147
CREATED:20250923T063453Z
LAST-MODIFIED:20250923T063453Z
UID:13706-1759093200-1759102200@tabianoterme.it
SUMMARY:UNA BATTAGLIA DOPO L'ALTRA
DESCRIPTION:Al cinema Odeon di Salsomaggiore Terme ti aspettano con la programmazione del film: Una battaglia dopo l’altra. \nIl rivoluzionario in declino Bob vive in uno stato di paranoia confusa\, sopravvivendo ai margini della società insieme alla sua vivace e indipendente figlia Willa. Quando\, dopo sedici anni\, il suo acerrimo nemico riappare e Willa scompare\, l’ex militante radicale si lancia in una disperata ricerca. Padre e figlia dovranno affrontare insieme le conseguenze del suo passato. \n  \nVenerdì 26/09 ore 21.15\nSabato 27/09 ore 21.15\nDomenica 28/09 ore 16.30 – 21.15\nMartedì 30/09 ore 21.15
URL:https://tabianoterme.it/event/una-battaglia-dopo-laltra/2025-09-28/2/
LOCATION:cinema Odeon salsomaggiore\, Via Giovanni Valentini\, 11\, Salsomaggiore Terme\, PR\, 43039\, Italia
CATEGORIES:Cinema,Intrattenimento
ATTACH;FMTTYPE=image/jpeg:https://tabianoterme.it/wp-content/uploads/2025/09/1758468992412blob.jpg
END:VEVENT
BEGIN:VEVENT
DTSTART;TZID=Europe/Rome:20250930T210000
DTEND;TZID=Europe/Rome:20250930T233000
DTSTAMP:20260423T013147
CREATED:20250923T063453Z
LAST-MODIFIED:20250923T063453Z
UID:13707-1759266000-1759275000@tabianoterme.it
SUMMARY:UNA BATTAGLIA DOPO L'ALTRA
DESCRIPTION:Al cinema Odeon di Salsomaggiore Terme ti aspettano con la programmazione del film: Una battaglia dopo l’altra. \nIl rivoluzionario in declino Bob vive in uno stato di paranoia confusa\, sopravvivendo ai margini della società insieme alla sua vivace e indipendente figlia Willa. Quando\, dopo sedici anni\, il suo acerrimo nemico riappare e Willa scompare\, l’ex militante radicale si lancia in una disperata ricerca. Padre e figlia dovranno affrontare insieme le conseguenze del suo passato. \n  \nVenerdì 26/09 ore 21.15\nSabato 27/09 ore 21.15\nDomenica 28/09 ore 16.30 – 21.15\nMartedì 30/09 ore 21.15
URL:https://tabianoterme.it/event/una-battaglia-dopo-laltra/2025-09-30/
LOCATION:cinema Odeon salsomaggiore\, Via Giovanni Valentini\, 11\, Salsomaggiore Terme\, PR\, 43039\, Italia
CATEGORIES:Cinema,Intrattenimento
ATTACH;FMTTYPE=image/jpeg:https://tabianoterme.it/wp-content/uploads/2025/09/1758468992412blob.jpg
END:VEVENT
END:VCALENDAR