BEGIN:VCALENDAR
VERSION:2.0
PRODID:-//Tabiano terme - ECPv6.15.11//NONSGML v1.0//EN
CALSCALE:GREGORIAN
METHOD:PUBLISH
X-WR-CALNAME:Tabiano terme
X-ORIGINAL-URL:https://tabianoterme.it
X-WR-CALDESC:Eventi per Tabiano terme
REFRESH-INTERVAL;VALUE=DURATION:PT1H
X-Robots-Tag:noindex
X-PUBLISHED-TTL:PT1H
BEGIN:VTIMEZONE
TZID:Europe/Rome
BEGIN:DAYLIGHT
TZOFFSETFROM:+0100
TZOFFSETTO:+0200
TZNAME:CEST
DTSTART:20240331T010000
END:DAYLIGHT
BEGIN:STANDARD
TZOFFSETFROM:+0200
TZOFFSETTO:+0100
TZNAME:CET
DTSTART:20241027T010000
END:STANDARD
BEGIN:DAYLIGHT
TZOFFSETFROM:+0100
TZOFFSETTO:+0200
TZNAME:CEST
DTSTART:20250330T010000
END:DAYLIGHT
BEGIN:STANDARD
TZOFFSETFROM:+0200
TZOFFSETTO:+0100
TZNAME:CET
DTSTART:20251026T010000
END:STANDARD
BEGIN:DAYLIGHT
TZOFFSETFROM:+0100
TZOFFSETTO:+0200
TZNAME:CEST
DTSTART:20260329T010000
END:DAYLIGHT
BEGIN:STANDARD
TZOFFSETFROM:+0200
TZOFFSETTO:+0100
TZNAME:CET
DTSTART:20261025T010000
END:STANDARD
END:VTIMEZONE
BEGIN:VEVENT
DTSTART;TZID=Europe/Rome:20250802T210000
DTEND;TZID=Europe/Rome:20250802T230000
DTSTAMP:20260423T011136
CREATED:20250724T101505Z
LAST-MODIFIED:20250724T101505Z
UID:13424-1754168400-1754175600@tabianoterme.it
SUMMARY:“Flauti all’opera” – Salso Summer Class & Festival
DESCRIPTION:All’Opera! \nA Salsomaggiore Terme prende il via la 16° edizione del Salso Summer Class & Festival\, festival a cura della Fondazione I Musici di Parma\, che anche quest’anno anima l’estate salsese e parmense con la più bella musica classica\, unendo grandi interpreti internazionali a giovani talenti. Firma la direzione artistica Carlo D’Alessandro Caprice.\nIl festival\, che si inserisce nel progetto Il Suono della Bellezza\, si svolge tra Salsomaggiore Terme e i suggestivi territori circostanti\, in location particolarmente ricche di fascino e arte\, come la Sala delle Cariatidi del Palazzo dei Congressi e\, per i concerti “fuori porta”\, la caratteristica Pieve Romanica di San Giovanni\, in località Contignaco. \n“Opera” è una parola che oggi usiamo spesso per indicare uno dei generi teatrali e musicali più rappresentati al mondo. Tuttavia\, il suo significato originario – dal latino opera – rimanda al lavoro consapevole\, alla fatica creativa\, al valore dell’impegno e della conoscenza. \nAll’Opera! è il titolo scelto per la programmazione 2025\, e rappresenta\, prima di tutto\, un invito a non dimenticare la dedizione instancabile con cui I Musici di Parma e la loro Accademia lavorano da anni sul territorio. Un impegno che ha dato vita a un polo culturale d’eccellenza\, favorendo la crescita di giovani talenti e stimolando un vivace scambio artistico tra musicisti italiani e internazionali\, molti dei quali oggi calcano i palcoscenici più prestigiosi d’Europa. \nIl cuore della stagione sarà la musica d’opera\, italiana e internazionale: arie\, sinfonie e trascrizioni strumentali renderanno omaggio a una delle forme artistiche più complete e affascinanti\, nella terra di Giuseppe Verdi\, tra le meraviglie naturali e architettoniche del nostro territorio. \nFlauti all’opera\nSabato 2 agosto 2025\, ore 21:15\nSalsomaggiore Terme (PR) | Nuova Corte Civica Tommasini\, Viale Filippo Corridoni\, 1\nI Musici di Parma\, orchestra\nCon gli allievi delle classi di flauto e ottavino\, solisti\nMusiche di W. A. Mozart\, F. Born\, F. Doppler\nIl fascino aereo del flauto nei teatri dell’opera e oltre: virtuosismo e incanto \nIngresso gratuito \n  \nFonte testo: https://visitsalsomaggiore.it\nFonte foto: https://imusicidiparma.it
URL:https://tabianoterme.it/event/flauti-allopera-salso-summer-class-festival/
LOCATION:Nuova corta civica Tommasini Salsomaggiore Terme\, Viale Filippo Corridoni\, 1\, Salsomaggiore Terme\, PR\, 43039\, Italia
CATEGORIES:Concerto,Intrattenimento,Musica
ATTACH;FMTTYPE=image/webp:https://tabianoterme.it/wp-content/uploads/2025/07/I-Musici-di-Parma-Salso-Summer-Class-e-Festival-2.webp
ORGANIZER;CN="I Musici di Parma":MAILTO:info@imusicidiparma.it
END:VEVENT
BEGIN:VEVENT
DTSTART;TZID=Europe/Rome:20250803T210000
DTEND;TZID=Europe/Rome:20250803T230000
DTSTAMP:20260423T011136
CREATED:20250724T101802Z
LAST-MODIFIED:20250724T102402Z
UID:13428-1754254800-1754262000@tabianoterme.it
SUMMARY:“Suoni d’Incanto” – Salso Summer Class & Festival
DESCRIPTION:All’Opera! \nA Salsomaggiore Terme prende il via la 16° edizione del Salso Summer Class & Festival\, festival a cura della Fondazione I Musici di Parma\, che anche quest’anno anima l’estate salsese e parmense con la più bella musica classica\, unendo grandi interpreti internazionali a giovani talenti. Firma la direzione artistica Carlo D’Alessandro Caprice.\nIl festival\, che si inserisce nel progetto Il Suono della Bellezza\, si svolge tra Salsomaggiore Terme e i suggestivi territori circostanti\, in location particolarmente ricche di fascino e arte\, come la Sala delle Cariatidi del Palazzo dei Congressi e\, per i concerti “fuori porta”\, la caratteristica Pieve Romanica di San Giovanni\, in località Contignaco. \n“Opera” è una parola che oggi usiamo spesso per indicare uno dei generi teatrali e musicali più rappresentati al mondo. Tuttavia\, il suo significato originario – dal latino opera – rimanda al lavoro consapevole\, alla fatica creativa\, al valore dell’impegno e della conoscenza. \nAll’Opera! è il titolo scelto per la programmazione 2025\, e rappresenta\, prima di tutto\, un invito a non dimenticare la dedizione instancabile con cui I Musici di Parma e la loro Accademia lavorano da anni sul territorio. Un impegno che ha dato vita a un polo culturale d’eccellenza\, favorendo la crescita di giovani talenti e stimolando un vivace scambio artistico tra musicisti italiani e internazionali\, molti dei quali oggi calcano i palcoscenici più prestigiosi d’Europa. \nIl cuore della stagione sarà la musica d’opera\, italiana e internazionale: arie\, sinfonie e trascrizioni strumentali renderanno omaggio a una delle forme artistiche più complete e affascinanti\, nella terra di Giuseppe Verdi\, tra le meraviglie naturali e architettoniche del nostro territorio. \nSuoni d’Incanto\nDomenica 3 agosto 2025\, ore 21:15\nNuova Corte Civica Tommasini\, Viale Filippo Corridoni\, 1 | Salsomaggiore Terme (PR)\nOrchestra I Musici di Parma\nCon gli allievi delle classi di viola\, Solisti\nMusiche di G. Ph. Telemann\, C. Stamitz\, A. Rolla\nLa viola in un viaggio sonoro tra virtuosismo e malinconia \n  \nFonte testo e foto: I Musici di Parma
URL:https://tabianoterme.it/event/suoni-dincanto-salso-summer-class-festival/
LOCATION:Nuova corta civica Tommasini Salsomaggiore Terme\, Viale Filippo Corridoni\, 1\, Salsomaggiore Terme\, PR\, 43039\, Italia
CATEGORIES:Concerto,Intrattenimento,Musica
ATTACH;FMTTYPE=image/webp:https://tabianoterme.it/wp-content/uploads/2025/07/I-Musici-di-Parma-Salso-Summer-Class-e-Festival.webp
ORGANIZER;CN="I Musici di Parma":MAILTO:info@imusicidiparma.it
END:VEVENT
BEGIN:VEVENT
DTSTART;TZID=Europe/Rome:20250808T210000
DTEND;TZID=Europe/Rome:20250808T230000
DTSTAMP:20260423T011136
CREATED:20250724T102732Z
LAST-MODIFIED:20250724T102732Z
UID:13439-1754686800-1754694000@tabianoterme.it
SUMMARY:“The Lark Ascending” – Salso Summer Class & Festival
DESCRIPTION:All’Opera! \nA Salsomaggiore Terme prende il via la 16° edizione del Salso Summer Class & Festival\, festival a cura della Fondazione I Musici di Parma\, che anche quest’anno anima l’estate salsese e parmense con la più bella musica classica\, unendo grandi interpreti internazionali a giovani talenti. Firma la direzione artistica Carlo D’Alessandro Caprice.\nIl festival\, che si inserisce nel progetto Il Suono della Bellezza\, si svolge tra Salsomaggiore Terme e i suggestivi territori circostanti\, in location particolarmente ricche di fascino e arte\, come la Sala delle Cariatidi del Palazzo dei Congressi e\, per i concerti “fuori porta”\, la caratteristica Pieve Romanica di San Giovanni\, in località Contignaco. \n“Opera” è una parola che oggi usiamo spesso per indicare uno dei generi teatrali e musicali più rappresentati al mondo. Tuttavia\, il suo significato originario – dal latino opera – rimanda al lavoro consapevole\, alla fatica creativa\, al valore dell’impegno e della conoscenza. \nAll’Opera! è il titolo scelto per la programmazione 2025\, e rappresenta\, prima di tutto\, un invito a non dimenticare la dedizione instancabile con cui I Musici di Parma e la loro Accademia lavorano da anni sul territorio. Un impegno che ha dato vita a un polo culturale d’eccellenza\, favorendo la crescita di giovani talenti e stimolando un vivace scambio artistico tra musicisti italiani e internazionali\, molti dei quali oggi calcano i palcoscenici più prestigiosi d’Europa. \nIl cuore della stagione sarà la musica d’opera\, italiana e internazionale: arie\, sinfonie e trascrizioni strumentali renderanno omaggio a una delle forme artistiche più complete e affascinanti\, nella terra di Giuseppe Verdi\, tra le meraviglie naturali e architettoniche del nostro territorio. \nThe Lark Ascending\nVenerdì 8 agosto 2025\, ore 21:15\nPalazzo dei Congressi\, Sala delle Cariatidi\, Viale G. Romagnosi\, 7 | Salsomaggiore Terme (PR)\nCecilia Ziano\, Violino\nOrchestra I Musici di Parma\nMusiche di V. Williams e P.I. Tchaikowsky\nLa melodia incantata di Vaughan Williams ci conduce verso le ultime emozioni del festival\, in un volo lirico e sospeso \n  \nFonte testo: I Musici di Parma
URL:https://tabianoterme.it/event/the-lark-ascending-salso-summer-class-festival/
LOCATION:Palazzo dei Congressi\, Viale Giandomenico Romagnosi\, 7\, Salsomaggiore Terme\, Parma\, 43039\, Italia
CATEGORIES:Concerto,Intrattenimento,Musica
ATTACH;FMTTYPE=image/webp:https://tabianoterme.it/wp-content/uploads/2025/07/salso-summer-class-festival-2025.webp
ORGANIZER;CN="I Musici di Parma":MAILTO:info@imusicidiparma.it
END:VEVENT
BEGIN:VEVENT
DTSTART;TZID=Europe/Rome:20250809T170000
DTEND;TZID=Europe/Rome:20250810T233000
DTSTAMP:20260423T011136
CREATED:20250806T125135Z
LAST-MODIFIED:20250806T125135Z
UID:13492-1754758800-1754868600@tabianoterme.it
SUMMARY:Festa del vino
DESCRIPTION:In Piazza Verdi a Tabiano Terme (PR) \nla FESTA DEL VINO SOTTO LE STELLE \nSabato 9 e Domenica 10 Agosto degustazioni e acquisti negli stand delle cantine in compagnia di specialità gastronomiche e street food di qualità \nI protagonisti di questa prima edizione – organizzata dal Consorzio Alberghiero AbiTabiano con la collaborazione di Maria Lombardi eventi – sono dieci produttori vinicoli provenienti da varie zone dello Stivale: dai pregiati vini veneti e piemontesi\, passando dalle colline toscane con gli immancabili Sangiovese e Chianti\, per arrivare ai vigneti del piacentino e ai soleggiati vigneti del Sud. Non mancherà l’offerta locale dei vini del territorio parmense. Più di settanta le etichette in degustazione per questa prima edizione che porta in scena\, a Tabiano Terme\,le espressioni vinicole rappresentative del territorio. \nSabato dalle 17 alle 24 e domenica dalle 17 alle 23 in Piazza Verdi a Tabiano Terme\, i Maestri del Vino italiano proporranno presso i loro stand degustazioni e acquisti. \nIn particolare\, il pubblico avrà la possibilità di comprare presso l’Infopoint della manifestazione un kit degustazione composto da calice di vetro accompagnato da una tracolla porta-bicchiere\, grazie al quale potrà godere di una serie di assaggi agli stand delle dieci cantine che parteciperanno all’evento. \nI produttori saranno a disposizione del pubblico per illustrare le caratteristiche di ogni singolo vino offrendo una valida guida all’acquisto e alla degustazione. \nCompletano l’offerta della manifestazione stand con diverse specialità: formaggi\, salumi\, aceto balsamico artigianato e cosmesi\, ma soprattutto le proposte dello street food da gustare passeggiando tra un banco e l’altro oppure comodamente seduti ai tavoli sorseggiando ottimabirra artigianale. Sabato e domenica sera l’intrattenimento musicale live animerà la piazza e coinvolgerà il pubblico con la sua allegria.
URL:https://tabianoterme.it/event/festa-del-vino/
LOCATION:Tabiano Terme
CATEGORIES:Enogastronomia,Fiera,Food,Intrattenimento
ATTACH;FMTTYPE=image/jpeg:https://tabianoterme.it/wp-content/uploads/2025/08/Tabiano-Terme-IG-Stories-2.jpg
ORGANIZER;CN="Consorzio Abitabiano":MAILTO:info@tabianoterme.it
END:VEVENT
BEGIN:VEVENT
DTSTART;TZID=Europe/Rome:20250810T210000
DTEND;TZID=Europe/Rome:20250810T230000
DTSTAMP:20260423T011136
CREATED:20250724T103825Z
LAST-MODIFIED:20250724T103825Z
UID:13447-1754859600-1754866800@tabianoterme.it
SUMMARY:“Dolci melodie” – Salso Summer Class & Festival
DESCRIPTION:All’Opera! \nA Salsomaggiore Terme prende il via la 16° edizione del Salso Summer Class & Festival\, festival a cura della Fondazione I Musici di Parma\, che anche quest’anno anima l’estate salsese e parmense con la più bella musica classica\, unendo grandi interpreti internazionali a giovani talenti. Firma la direzione artistica Carlo D’Alessandro Caprice.\nIl festival\, che si inserisce nel progetto Il Suono della Bellezza\, si svolge tra Salsomaggiore Terme e i suggestivi territori circostanti\, in location particolarmente ricche di fascino e arte\, come la Sala delle Cariatidi del Palazzo dei Congressi e\, per i concerti “fuori porta”\, la caratteristica Pieve Romanica di San Giovanni\, in località Contignaco. \n“Opera” è una parola che oggi usiamo spesso per indicare uno dei generi teatrali e musicali più rappresentati al mondo. Tuttavia\, il suo significato originario – dal latino opera – rimanda al lavoro consapevole\, alla fatica creativa\, al valore dell’impegno e della conoscenza. \nAll’Opera! è il titolo scelto per la programmazione 2025\, e rappresenta\, prima di tutto\, un invito a non dimenticare la dedizione instancabile con cui I Musici di Parma e la loro Accademia lavorano da anni sul territorio. Un impegno che ha dato vita a un polo culturale d’eccellenza\, favorendo la crescita di giovani talenti e stimolando un vivace scambio artistico tra musicisti italiani e internazionali\, molti dei quali oggi calcano i palcoscenici più prestigiosi d’Europa. \nIl cuore della stagione sarà la musica d’opera\, italiana e internazionale: arie\, sinfonie e trascrizioni strumentali renderanno omaggio a una delle forme artistiche più complete e affascinanti\, nella terra di Giuseppe Verdi\, tra le meraviglie naturali e architettoniche del nostro territorio. \nDolci melodie\nDomenica 10 agosto 2025\, ore 21:15\nPalazzo dei Congressi\, Sala delle Cariatidi\, Viale G. Romagnosi\, 7 | Salsomaggiore Terme (PR)\nOrchestra I Musici di Parma\nCon gli allievi delle classi di Viola e Sassofono\, Solisti\nMusiche di W. A. Mozart\, J. S. Bach\, A. Glazunov\nMozart\, Bach e Glazunov: un programma dove il canto degli strumenti racconta storie senza parole. \n  \nFonte testo: I Musici di Parma
URL:https://tabianoterme.it/event/dolci-melodie-salso-summer-class-festival/
LOCATION:Palazzo dei Congressi\, Viale Giandomenico Romagnosi\, 7\, Salsomaggiore Terme\, Parma\, 43039\, Italia
CATEGORIES:Concerto,Intrattenimento,Musica
ATTACH;FMTTYPE=image/webp:https://tabianoterme.it/wp-content/uploads/2025/07/I-Musici-di-Parma-Salso-Summer-Class-e-Festival-4.webp
ORGANIZER;CN="I Musici di Parma":MAILTO:info@imusicidiparma.it
END:VEVENT
BEGIN:VEVENT
DTSTART;TZID=Europe/Rome:20250815T100000
DTEND;TZID=Europe/Rome:20250815T170000
DTSTAMP:20260423T011136
CREATED:20250724T104339Z
LAST-MODIFIED:20250724T104339Z
UID:13451-1755252000-1755277200@tabianoterme.it
SUMMARY:Aquile e gufi in volo al Castello di Tabiano
DESCRIPTION:Venerdì 15 agosto 2025. \nAl Castello di Tabiano potrai ammirare da vicino aquile\, falchi\, gufi e barbagianni\, seguirne le prove di volo e\, con la guida di un esperto Maestro Falconiere\, conoscere i segreti di quest’arte antichissima e nobile\, praticata da Re e Imperatori. Prima degli spettacoli di falconeria è possibile partecipare alle visite guidate in Castello. \nOrari spettacoli falconeria: ore 11 e ore 17\nOrari di inizio visite guidate: ore 10\, ore 11 \, ore 16 e ore 17 \n“Abbiamo deciso di organizzare questo spettacolo per ripercorrere una tradizione di grande importanza del Castello -spiega Giacomo Corazza Martini\, proprietario del castello e autore di diversi volumi sulla storia di Tabiano -. Infatti\, la caccia con il falcone era l’attività preferita dell’Imperatore Federico II di Svevia\, alleato del Marchese Uberto Pallavicino il Grande\, signore di Tabiano nel XIII secolo. \nLe visite guidate inizieranno alle ore 10.00 – 11.00 – 16.00 e 17.00 per la durata di circa un’ora con un percorso che attraversa le sale decorate con affreschi\, specchi\, stemmi\, le ampie cantine a volta\, il parco di piante secolari\, le terrazze panoramiche\, lo scalone d’onore e l’antica biblioteca. \nLa manifestazione si svolge anche in caso di mal tempo. \nCosto della manifestazione:\nAdulti solo spettacolo: €14.00\nBambini da 5 a 12 anni solo spettacolo: €8.00\nAdulti visita guidata + falconeria: €18.00\nBambini da 5 a 12 anni visita guidata + falconeria: €10.00 \nNumeri telefonici\, mail e sito internet per informazioni: www.castelloditabiano.com – info@castelloditabiano.com – 3488955378 \n  \nFonte testo: https://www.castellidelducato.it
URL:https://tabianoterme.it/event/aquile-e-gufi-in-volo-al-castello-di-tabiano-3/
LOCATION:Castello di Tabiano\, Via Castello\, Salsomaggiore Terme\, 43039
CATEGORIES:Festa,Intrattenimento,Spettacolo
ATTACH;FMTTYPE=image/webp:https://tabianoterme.it/wp-content/uploads/2025/07/AQUILE-E-GUFI-IN-VOLO-AL-CASTELLO-DI-TABIANO-15-AGOSTO-2025-1-1.webp
END:VEVENT
BEGIN:VEVENT
DTSTART;TZID=Europe/Rome:20250818T210000
DTEND;TZID=Europe/Rome:20250818T233000
DTSTAMP:20260423T011136
CREATED:20250818T085430Z
LAST-MODIFIED:20250818T085430Z
UID:13503-1755550800-1755559800@tabianoterme.it
SUMMARY:Immagini sotto le stelle in tour
DESCRIPTION:Fotografia… emozioni… fantasia in musica \nIMMAGINI SOTTO LE STELLE – in Toura cura di Ivano Bolondi37ª edizione “straordinaria” \nUn evento che unisce immagini\, musica e racconti\, per vivere la magia della fotografia sotto il cielo stellato di Tabiano Terme. \nProtagonisti e opere in programma: \n\n\nLorenzo DavighiDentro il mio specchio – Strega – Ecco la luna \n\n\nPaolo MazzoniEgitto: La valle delle balene – Deserto bianco \n\n\nEnnio ParmigianiUn cielo di colori – Preludio – Malanconia \n\n\nGabriele PinardiUn cielo di colori – Preludio – Malanconia \n\n\nElisabetta Premoli \n\n\nRodolfo VillaggiFiori – Fatica – Lenticchie – Un altro giro d’acqua \n\n\nDate: \n\n\n18 agosto: Paolo Mazzoni\, Elisabetta Premoli\, Rodolfo Villaggi \n\n\n21 agosto: Lorenzo Davighi\, Ennio Parmigiani\, Gabriele Pinardi \n\n\nLuogo e orario:Pasticceria Tabiano – Via delle FontiInizio ore 21:15 \nUn’iniziativa del Dipartimento Audiovisivi FIAF e del Circolo Fotografico Zoom di Salsomaggiore Terme\, con il patrocinio del Comune di Salsomaggiore Terme.
URL:https://tabianoterme.it/event/immagini-sotto-le-stelle-in-tour/2025-08-18/
LOCATION:Viale alle fonti 7\, Pasticceria Tabiano\, Viale alle fonti 7\, Tabiano Terme\, PR\, 43039\, Italia
CATEGORIES:Arte e Cultura,Bambini e famiglie,Cultura,Intrattenimento,Museo,Rassegna,Storia
ATTACH;FMTTYPE=image/jpeg:https://tabianoterme.it/wp-content/uploads/2025/08/Progetto-senza-titolo-2025-08-08T151551.961.jpg
END:VEVENT
BEGIN:VEVENT
DTSTART;TZID=Europe/Rome:20250821T210000
DTEND;TZID=Europe/Rome:20250821T233000
DTSTAMP:20260423T011136
CREATED:20250818T085430Z
LAST-MODIFIED:20250818T085430Z
UID:13506-1755810000-1755819000@tabianoterme.it
SUMMARY:Immagini sotto le stelle in tour
DESCRIPTION:Fotografia… emozioni… fantasia in musica \nIMMAGINI SOTTO LE STELLE – in Toura cura di Ivano Bolondi37ª edizione “straordinaria” \nUn evento che unisce immagini\, musica e racconti\, per vivere la magia della fotografia sotto il cielo stellato di Tabiano Terme. \nProtagonisti e opere in programma: \n\n\nLorenzo DavighiDentro il mio specchio – Strega – Ecco la luna \n\n\nPaolo MazzoniEgitto: La valle delle balene – Deserto bianco \n\n\nEnnio ParmigianiUn cielo di colori – Preludio – Malanconia \n\n\nGabriele PinardiUn cielo di colori – Preludio – Malanconia \n\n\nElisabetta Premoli \n\n\nRodolfo VillaggiFiori – Fatica – Lenticchie – Un altro giro d’acqua \n\n\nDate: \n\n\n18 agosto: Paolo Mazzoni\, Elisabetta Premoli\, Rodolfo Villaggi \n\n\n21 agosto: Lorenzo Davighi\, Ennio Parmigiani\, Gabriele Pinardi \n\n\nLuogo e orario:Pasticceria Tabiano – Via delle FontiInizio ore 21:15 \nUn’iniziativa del Dipartimento Audiovisivi FIAF e del Circolo Fotografico Zoom di Salsomaggiore Terme\, con il patrocinio del Comune di Salsomaggiore Terme.
URL:https://tabianoterme.it/event/immagini-sotto-le-stelle-in-tour/2025-08-21/
LOCATION:Viale alle fonti 7\, Pasticceria Tabiano\, Viale alle fonti 7\, Tabiano Terme\, PR\, 43039\, Italia
CATEGORIES:Arte e Cultura,Bambini e famiglie,Cultura,Intrattenimento,Museo,Rassegna,Storia
ATTACH;FMTTYPE=image/jpeg:https://tabianoterme.it/wp-content/uploads/2025/08/Progetto-senza-titolo-2025-08-08T151551.961.jpg
END:VEVENT
BEGIN:VEVENT
DTSTART;TZID=Europe/Rome:20250823T210000
DTEND;TZID=Europe/Rome:20250823T230000
DTSTAMP:20260423T011136
CREATED:20250818T095612Z
LAST-MODIFIED:20250818T095612Z
UID:13511-1755982800-1755990000@tabianoterme.it
SUMMARY:Schiavo canta De André
DESCRIPTION:Sabato 23 agosto 2025\, alle ore 21:15\, Piazza Verdi a Tabiano Terme (Parma) si trasformerà in un palcoscenico di emozioni e poesia con lo spettacolo “Schiavo canta De André”. \nUn concerto acustico intenso e sincero\, che rende omaggio a Fabrizio De André attraverso le sue canzoni più amate. Tra i “figli della luna”\, amori impossibili\, indiani\, nani\, gendarmi e rapitori\, il pubblico sarà accompagnato in un viaggio musicale che racconta la vita\, le lotte e la poesia di uno dei più grandi autori italiani. \nUn appuntamento da non perdere per chi desidera rivivere l’incanto e l’attualità senza tempo delle parole di De André. \nDove: Piazza Verdi – Tabiano Terme (PR)Quando: Sabato 23 agosto 2025\, ore 21:15Info: 339 4987087 \nIngresso libero – Vi aspettiamo per una serata indimenticabile!
URL:https://tabianoterme.it/event/schiavo-canta-de-andre-3/
LOCATION:Tabiano Terme
CATEGORIES:Concerto,Festa,Intrattenimento,Musica
ATTACH;FMTTYPE=image/png:https://tabianoterme.it/wp-content/uploads/2025/08/schiavo-canta-de-andre-1.png
ORGANIZER;CN="Consorzio Abitabiano":MAILTO:info@tabianoterme.it
END:VEVENT
BEGIN:VEVENT
DTSTART;TZID=Europe/Rome:20250830T210000
DTEND;TZID=Europe/Rome:20250830T230000
DTSTAMP:20260423T011136
CREATED:20250818T104734Z
LAST-MODIFIED:20250818T105037Z
UID:13523-1756587600-1756594800@tabianoterme.it
SUMMARY:WORLD HUMOR AWARDS 2025
DESCRIPTION:WORLD HUMOR AWARDS – Dal Mondo Piccolo al Mondo Grande \nLa manifestazione consiste in un concorso a premi per disegnatori umoristi e nell’assegnazione di riconoscimenti ad opere letterarie\, pubblicitarie e dello spettacolo che abbiano valorizzato l’umorismo. \nLa partecipazione al concorso grafico è riservata a un numero selezionato di artisti professionisti italiani e stranieri. \nCerimonia di Premiazione Concorso di disegno umoristico presso l’Art Hotel Pandos \nSabato 30 agosto\, ore 21 \nIl tema della 10^edizione del concorso per la caricatura è “sei personaggi in cerca d’autore“ \n  \nGIURIA \nGuido De Maria\, Presidente\nVignettista e illustratore \nLucio Trojano\,\nVignettista e illustratore \nMarco De Angelis\nVignettista\, illustratore\, giornalista \nOlivier Raynaud\nVignettista\, illustratore\, consulente Corte d’Appello di Parigi \nMarzio Dall’Acqua\nGiornalista\, storico dell’arte \nRobin Schwartzman\nCaricaturista\, presidente ISCA \nRaffaella Spinazzi\nBlogger FANY-BLOG \nLaura Panini\nPresidente Panini Editore \nGianandrea Bianchi\nArt director\, vignettista\, graphic designer
URL:https://tabianoterme.it/event/world-humor-awards-2025/
LOCATION:Viale alle fonti 7\, Pasticceria Tabiano\, Viale alle fonti 7\, Tabiano Terme\, PR\, 43039\, Italia
CATEGORIES:Bambini e famiglie,Intrattenimento,Rassegna,Spettacolo
ATTACH;FMTTYPE=image/png:https://tabianoterme.it/wp-content/uploads/2025/08/Prendi-il-volo-1-1.png
END:VEVENT
END:VCALENDAR