BEGIN:VCALENDAR
VERSION:2.0
PRODID:-//Tabiano terme - ECPv6.15.11//NONSGML v1.0//EN
CALSCALE:GREGORIAN
METHOD:PUBLISH
X-ORIGINAL-URL:https://tabianoterme.it
X-WR-CALDESC:Eventi per Tabiano terme
REFRESH-INTERVAL;VALUE=DURATION:PT1H
X-Robots-Tag:noindex
X-PUBLISHED-TTL:PT1H
BEGIN:VTIMEZONE
TZID:Europe/Rome
BEGIN:DAYLIGHT
TZOFFSETFROM:+0100
TZOFFSETTO:+0200
TZNAME:CEST
DTSTART:20200329T010000
END:DAYLIGHT
BEGIN:STANDARD
TZOFFSETFROM:+0200
TZOFFSETTO:+0100
TZNAME:CET
DTSTART:20201025T010000
END:STANDARD
BEGIN:DAYLIGHT
TZOFFSETFROM:+0100
TZOFFSETTO:+0200
TZNAME:CEST
DTSTART:20210328T010000
END:DAYLIGHT
BEGIN:STANDARD
TZOFFSETFROM:+0200
TZOFFSETTO:+0100
TZNAME:CET
DTSTART:20211031T010000
END:STANDARD
BEGIN:DAYLIGHT
TZOFFSETFROM:+0100
TZOFFSETTO:+0200
TZNAME:CEST
DTSTART:20220327T010000
END:DAYLIGHT
BEGIN:STANDARD
TZOFFSETFROM:+0200
TZOFFSETTO:+0100
TZNAME:CET
DTSTART:20221030T010000
END:STANDARD
BEGIN:DAYLIGHT
TZOFFSETFROM:+0100
TZOFFSETTO:+0200
TZNAME:CEST
DTSTART:20230326T010000
END:DAYLIGHT
BEGIN:STANDARD
TZOFFSETFROM:+0200
TZOFFSETTO:+0100
TZNAME:CET
DTSTART:20231029T010000
END:STANDARD
END:VTIMEZONE
BEGIN:VEVENT
DTSTART;TZID=Europe/Rome:20220828T080000
DTEND;TZID=Europe/Rome:20220828T080000
DTSTAMP:20260423T232407
CREATED:20220628T093814Z
LAST-MODIFIED:20220630T091902Z
UID:10500-1661673600-1661673600@tabianoterme.it
SUMMARY:Forest Bathing nel parco dello Stirone e del Piacenziano
DESCRIPTION:Un’esperienza di connessione con la natura che\, secondo l’antica tradizione giapponese dello Shinrin Yoku\, ci permette di prendere il tempo per cogliere con i 5 sensi tutto quello che ci offre la natura. \nAlla Bocca\, faremo un’esperienza di profonda connessione con la natura in una passeggiata che segue i principi del Forest Bathing o Shin-rin Yoku come i Giapponesi chiamano queste immersioni nei boschi . Raggiungeremo a piedi con una facile camminata di circa 2 km un’area boscosa e ci prenderemo il tempo di cogliere con i 5 sensi\, tutto quello che ci offre la natura del luogo attraverso inviti suggeriti da guida certificata. Scopriremo i benefici di questa pratica nel silenzio delle prime ore del mattino. \nRitrovo ore 08:00 Scipione Ponte\, Trattoria Al Cavallo\nDurata: 2H30 circa\nCosto: € 15\,00 \nSi consiglia: pantaloni lunghi\, scarpe da ginnastica\, un telo o stuoia per sedersi\, repellente per insetti e acqua. \nEtà minima: 16 anni \nScarica la locandina Forest Bathing_280822 \nPrenotazione obbligatoria entro il giorno precedente la visita tramite la compilazione del modulo presente al link https://bit.ly/3syIOFR\nTel. 0524/83377\niat.fidenza@terrediverdi.it \nFonte testo: terrediverdi 
URL:https://tabianoterme.it/event/forest-bathing-nel-parco-dello-stirone-e-del-piacenziano/
LOCATION:Parco dello Stirone e del Piacenziano\, Località La Bocca\, Salsomaggiore Terme\, PR\, 43039\, Italia
CATEGORIES:Camminata,Incontro,Outdoor
ATTACH;FMTTYPE=image/jpeg:https://tabianoterme.it/wp-content/uploads/2022/06/1PYnCbSSilUUNWyy6k8xfk6SSHaVRwW4MidRz2es.jpeg
ORGANIZER;CN="IAT Casa Cremonini Fidenza":MAILTO:iat.fidenza@terrediverdi.it
END:VEVENT
BEGIN:VEVENT
DTSTART;TZID=Europe/Rome:20220724T170000
DTEND;TZID=Europe/Rome:20220724T170000
DTSTAMP:20260423T232407
CREATED:20220628T090851Z
LAST-MODIFIED:20220630T085404Z
UID:10487-1658682000-1658682000@tabianoterme.it
SUMMARY:Fidenza slow Trek: camminando sui piani di Fornio
DESCRIPTION:Prosegue il calendario di EccoFidenza2022. L’appuntamento con l’outdoor di domenica 24 luglio si svolge nella zona di Fornio. Nel corso della camminata è previsto una merenda di campagna presso I Boschi di Fornio. \nE’ ancora un territorio bello e incontaminato quello della frazione di Fornio sorta ai margini del Parco dello Stirone e del Piacenziano. Ha saputo mantenere una attività agricola rispettosa in sintonia con la natura. Scopriremo tutto questo affacciandoci sul greto del torrente prima di una cena al chiaro di luna. \nDi seguito i dettagli: \nPartenza: ore 17:00 Parcheggio di Fornio\nDurata: 3H ca\nLunghezza: 7 Km\nEtà minima: 6 anni\nDifficoltà: facile\nDislivello: +70/-70 \nCosto: € 10\,00 a persona + € 15\,00 per merenda di campagna a I Boschi di Fornio\nGratuito under 10 \nL’evento è confermato al raggiungimento di un numero minimo di partecipanti. \nSarà presente una guida ambientale escursionistica. \nScarica la locandina dell’evento: Fidenza Slow Trek-Camminando-sui-piani- di-Fornio_24072022 \nPer partecipare occorre la prenotazione entro il giorno prima presso lo IAT Casa Cremonini di Fidenza oppure compilando il modulo al link https://bit.ly/3syIOFR\nTel. 0524/83377\niat.fidenza@terrediverdi.it \nFonte testo: terrediverdi
URL:https://tabianoterme.it/event/fidenza-slow-trek-camminando-sui-piani-di-fornio/
LOCATION:Fidenza\, Piazza Duomo\, 16\, Fidenza\, 43036\, Italia
CATEGORIES:Camminata,Incontro,Outdoor
ATTACH;FMTTYPE=image/jpeg:https://tabianoterme.it/wp-content/uploads/2022/06/rit202200comune_di_fidenzax2908terre_di_verdi.jpg
ORGANIZER;CN="IAT Casa Cremonini Fidenza":MAILTO:iat.fidenza@terrediverdi.it
END:VEVENT
BEGIN:VEVENT
DTSTART;TZID=Europe/Rome:20220710T073000
DTEND;TZID=Europe/Rome:20220710T073000
DTSTAMP:20260423T232407
CREATED:20220628T085239Z
LAST-MODIFIED:20220630T084708Z
UID:10483-1657438200-1657438200@tabianoterme.it
SUMMARY:Fidenza slow Trek : Gisolo\, Montemanulo\, Pieve di Cusignano
DESCRIPTION:Domenica 10 luglio\, all’interno del calendario #EccoFidenza2022\, è in programma un’escursione sui sentieri che corrono lungo il panoramico filo di costa tra i solchi vallivi dei torrenti Gisolo e Parola; ci sarà anche una pausa rigenerante con degustazione alla Cantina Le Antighe. \nAffronteremo una panoramica camminata ad anello partendo dal complesso di Santa Maria del Gisolo\, posto storicamente in posizione strategica vi transita ancora la Via Francigena . Percorrendo lo spartiacque che divide i solchi vallivi dei rispettivi torrenti Parola e Gisolo\, attraversando boschi misti di acacie\, roverelle e castagni arriveremo a Monte Manulo\, dove visiteremo la cantina dell’Azienda vitivinicola le Antighe\, per poi tornare su diverso percorso a recuperare nuovamente le auto . \nDi seguito i dettagli: \nPartenza: ore 07:30 Santa Maria del Gisolo\nDurata: 4H più la visita della Cantina\nLunghezza: 11 Km\nEtà minima: 8 anni\nDifficoltà: media\nDislivello: +240/-240 \nCosto: € 10\,00 a persona + € 10\,00 per la visita e la degustazione alla Cantina (€ 8\,00 bambini)\nGratuito under 10 \nL’evento è confermato al raggiungimento di un numero minimo di partecipanti. \nSarà presente una guida ambientale escursionistica. \nScarica la locandina dell’evento Fidenza Slow Trek_da Santa Maria del Gisolo a Montemanulo_100722 \nPer partecipare occorre la prenotazione entro il giorno prima presso lo IAT Casa Cremonini di Fidenza oppure compilando il modulo al link https://bit.ly/3syIOFR\nTel. 0524/83377\niat.fidenza@terrediverdi.it \nFonte testo: terrediverdi
URL:https://tabianoterme.it/event/fidenza-slow-treck-gisolomontemanulopieve-di-cusignano/
LOCATION:Santa Maria del Gisolo\, Fidenza\, Parma\, 43036\, Italia
CATEGORIES:Camminata,Incontro,Outdoor,Sport
ATTACH;FMTTYPE=image/jpeg:https://tabianoterme.it/wp-content/uploads/2022/06/fidenza-slow-trek-siccomonte-1-agosto-2021.jpg
ORGANIZER;CN="IAT Casa Cremonini Fidenza":MAILTO:iat.fidenza@terrediverdi.it
END:VEVENT
BEGIN:VEVENT
DTSTART;TZID=Europe/Rome:20220709T173000
DTEND;TZID=Europe/Rome:20220709T173000
DTSTAMP:20260423T232407
CREATED:20220629T105955Z
LAST-MODIFIED:20220630T083825Z
UID:10569-1657387800-1657387800@tabianoterme.it
SUMMARY:Il Salotto Illuminato
DESCRIPTION:  \nCircolo di lettura e conversazione\nGli incontri del Salotto Illuminato sono confronti di letture e punti di vista che hanno l’obiettivo di far ritrovare alle persone l’amore per il proprio sé\, per un’esistenza più soddisfacente dal punto di vista intellettuale\, emotivo e spirituale. Gli incontri offrono l’opportunità di esperienze coinvolgenti per arricchire i percorsi di benessere di Salsomaggiore Terme. \nConfronti di letture e spunti di vita\nNoi amiamo leggere\, scorrere con gli occhi un testo scritto o stampato per intendere il significato delle parole.\nCi incontriamo per leggere i segnali percepiti dai nostri sensi\, per leggere ciò che vediamo\, ascoltiamo\, gustiamo\, tocchiamo e sentiamo\, interpretandolo secondo la nostra sensibilità e la nostra storia personale.\nNei nostri incontri e dal confronto dei diversi punti di vista nascono nuovi spunti di vita. \n\nSABATO 9 LUGLIO ore 17.30 presso\nSALA MAINARDI – PALAZZO DEI CONGRESSI Viale Romagnosi\, 7 \nPoesie in musica di Lorenza Giordana Tanzi accompagnata dal pianista Michel Garret – modera l’incontro il dott. Valerio Sardo \n  \nTutti gli incontri sono ad ingresso gratuito  \nFonte testo : visitsalsomaggiore 
URL:https://tabianoterme.it/event/il-salotto-illuminato-3/
LOCATION:Palazzo dei Congressi\, Viale Giandomenico Romagnosi\, 7\, Salsomaggiore Terme\, Parma\, 43039\, Italia
CATEGORIES:Cultura,Incontro
ATTACH;FMTTYPE=image/jpeg:https://tabianoterme.it/wp-content/uploads/2022/06/F55603_palazzo_restyling_cortile_3_thumb.jpg
END:VEVENT
BEGIN:VEVENT
DTSTART;TZID=Europe/Rome:20220702T173000
DTEND;TZID=Europe/Rome:20220702T173000
DTSTAMP:20260423T232407
CREATED:20220629T105403Z
LAST-MODIFIED:20220630T083459Z
UID:10567-1656783000-1656783000@tabianoterme.it
SUMMARY:Il Salotto Illuminato
DESCRIPTION:Circolo di lettura e conversazione\nGli incontri del Salotto Illuminato sono confronti di letture e punti di vista che hanno l’obiettivo di far ritrovare alle persone l’amore per il proprio sé\, per un’esistenza più soddisfacente dal punto di vista intellettuale\, emotivo e spirituale. Gli incontri offrono l’opportunità di esperienze coinvolgenti per arricchire i percorsi di benessere di Salsomaggiore Terme. \nConfronti di letture e spunti di vita\nNoi amiamo leggere\, scorrere con gli occhi un testo scritto o stampato per intendere il significato delle parole.\nCi incontriamo per leggere i segnali percepiti dai nostri sensi\, per leggere ciò che vediamo\, ascoltiamo\, gustiamo\, tocchiamo e sentiamo\, interpretandolo secondo la nostra sensibilità e la nostra storia personale.\nNei nostri incontri e dal confronto dei diversi punti di vista nascono nuovi spunti di vita. \n  \nINCONTRI DI LUGLIO 2022 \nSABATO 2 LUGLIO ore 17.30 presso\nSALA MAINARDI – PALAZZO DEI CONGRESSI Viale Romagnosi\, 7 \nCosa accade dentro di noi quando qualcuno che amiamo muore? Intorno a questa domanda si costruisce la storia raccontata da Christian Galli in “Menta”\, un meraviglioso Graphic Novel.\nL’autore dialogherà con il giornalista Roberto S. Tanzi. \n  \nTutti gli incontri sono ad ingresso gratuito  \nFonte testo: visitsalsomaggiore
URL:https://tabianoterme.it/event/il-salotto-illuminato-2/
LOCATION:Palazzo dei Congressi\, Viale Giandomenico Romagnosi\, 7\, Salsomaggiore Terme\, Parma\, 43039\, Italia
CATEGORIES:Cultura,Incontro
ATTACH;FMTTYPE=image/jpeg:https://tabianoterme.it/wp-content/uploads/2022/06/F55603_palazzo_restyling_cortile_3_thumb.jpg
END:VEVENT
BEGIN:VEVENT
DTSTART;TZID=Europe/Rome:20220629T080000
DTEND;TZID=Europe/Rome:20220629T170000
DTSTAMP:20260423T232407
CREATED:20220629T110236Z
LAST-MODIFIED:20220629T110236Z
UID:10571-1656489600-1656522000@tabianoterme.it
SUMMARY:Il Salotto Illuminato
DESCRIPTION:  \nCircolo di lettura e conversazione\nGli incontri del Salotto Illuminato sono confronti di letture e punti di vista che hanno l’obiettivo di far ritrovare alle persone l’amore per il proprio sé\, per un’esistenza più soddisfacente dal punto di vista intellettuale\, emotivo e spirituale. Gli incontri offrono l’opportunità di esperienze coinvolgenti per arricchire i percorsi di benessere di Salsomaggiore Terme. \nConfronti di letture e spunti di vita\nNoi amiamo leggere\, scorrere con gli occhi un testo scritto o stampato per intendere il significato delle parole.\nCi incontriamo per leggere i segnali percepiti dai nostri sensi\, per leggere ciò che vediamo\, ascoltiamo\, gustiamo\, tocchiamo e sentiamo\, interpretandolo secondo la nostra sensibilità e la nostra storia personale.\nNei nostri incontri e dal confronto dei diversi punti di vista nascono nuovi spunti di vita. \n  \nMERCOLEDÌ 13 LUGLIO ore 17.30 presso\nSALA MAINARDI – PALAZZO DEI CONGRESSI Viale Romagnosi\, 7 \nPresentazione del libro “La spirale delle vite perdute” di Margherita Gobbi \nTutti gli incontri sono ad ingresso gratuito  \nFonte testo : visitsalsomaggiore 
URL:https://tabianoterme.it/event/il-salotto-illuminato-4/
LOCATION:Palazzo dei Congressi\, Viale Giandomenico Romagnosi\, 7\, Salsomaggiore Terme\, Parma\, 43039\, Italia
CATEGORIES:Cultura,Incontro
ATTACH;FMTTYPE=image/jpeg:https://tabianoterme.it/wp-content/uploads/2022/06/38782724_2172015239733037_6689560835108372480_n-1.jpg
END:VEVENT
BEGIN:VEVENT
DTSTART;VALUE=DATE:20220629
DTEND;VALUE=DATE:20220630
DTSTAMP:20260423T232407
CREATED:20220627T150340Z
LAST-MODIFIED:20220629T110345Z
UID:10453-1656460800-1656547199@tabianoterme.it
SUMMARY:Il salotto illuminato
DESCRIPTION:Circolo di lettura e conversazione\nGli incontri del Salotto Illuminato sono confronti di letture e punti di vista che hanno l’obiettivo di far ritrovare alle persone l’amore per il proprio sé\, per un’esistenza più soddisfacente dal punto di vista intellettuale\, emotivo e spirituale. Gli incontri offrono l’opportunità di esperienze coinvolgenti per arricchire i percorsi di benessere di Salsomaggiore Terme. \nConfronti di letture e spunti di vita\nNoi amiamo leggere\, scorrere con gli occhi un testo scritto o stampato per intendere il significato delle parole.\nCi incontriamo per leggere i segnali percepiti dai nostri sensi\, per leggere ciò che vediamo\, ascoltiamo\, gustiamo\, tocchiamo e sentiamo\, interpretandolo secondo la nostra sensibilità e la nostra storia personale.\nNei nostri incontri e dal confronto dei diversi punti di vista nascono nuovi spunti di vita. \nIncontri di Giugno 2022: \nMERCOLEDÌ 29 GIUGNO ore 17.30 presso\nSALA MAINARDI – PALAZZO DEI CONGRESSI Viale Romagnosi\, 7 \ndove metti l’attenzione? \nRelatrice: dott.ssa ADLA MARIA GOMES FERREIRA – Mental Coach \n  \nTutti gli incontri sono ad ingresso gratuito  \nFonte testo : visitsalsomaggiore  \n 
URL:https://tabianoterme.it/event/il-salotto-illuminato/
LOCATION:Palazzo dei Congressi\, Viale Giandomenico Romagnosi\, 7\, Salsomaggiore Terme\, Parma\, 43039\, Italia
CATEGORIES:Cultura,Incontro
ATTACH;FMTTYPE=image/jpeg:https://tabianoterme.it/wp-content/uploads/2022/06/38782724_2172015239733037_6689560835108372480_n.jpg
END:VEVENT
BEGIN:VEVENT
DTSTART;TZID=Europe/Rome:20220526T190000
DTEND;TZID=Europe/Rome:20220526T190000
DTSTAMP:20260423T232407
CREATED:20220516T151953Z
LAST-MODIFIED:20220516T151953Z
UID:10312-1653591600-1653591600@tabianoterme.it
SUMMARY:Festival “Testo…Pretesto 2022” – Dopo Festival con Daria Bignardi
DESCRIPTION:Dopo Festival…Aspettando LSD Festival \nGiovedì 26 maggio 2022\, ore 19.00 al Teatro G. Magnani\nDialogo fra chi ama scrivere – “Dopo e Prima” con Daria Bignardi\n“Libri che mi hanno rovinato la vita” di Daria Bignardi\nDaria Bignardi dialoga con Silvia Righini e Stefano Sgambati \nL’evento è gratuito \nINFORMAZIONI e PRENOTAZIONI\nIAT Casa Cremonini: Tel. 0524 833 77 / E-mail iat.fidenza@terrediverdi.it
URL:https://tabianoterme.it/event/festival-testopretesto-2022-dopo-festival-con-daria-bignardi/
LOCATION:Teatro Girolamo Magnani\, Piazza Giuseppe Verdi\, Fidenza\, 43039\, Italia
CATEGORIES:Cultura,Festival,Incontro
ATTACH;FMTTYPE=image/png:https://tabianoterme.it/wp-content/uploads/2022/05/testo-pretesto.png
ORGANIZER;CN="Comune di Fidenza":MAILTO:iat.fidenza@terrediverdi.it
END:VEVENT
BEGIN:VEVENT
DTSTART;TZID=Europe/Rome:20220520T170000
DTEND;TZID=Europe/Rome:20220520T183000
DTSTAMP:20260423T232407
CREATED:20220511T132901Z
LAST-MODIFIED:20220511T132901Z
UID:10303-1653066000-1653071400@tabianoterme.it
SUMMARY:Ezio Mauro a Fidenza per il Festival “Testo…Pretesto 2022”
DESCRIPTION:“La Russia e la paura della parola” – Conferenza con Ezio Mauro\nVenerdì 20 maggio 2022\, ore 17.00 Teatro Magnani \nEzio Mauro entra nel mondo della carta stampata nel 1972 collaborando con la “Gazzetta del Popolo” di Torino\, occupandosi soprattutto del terrorismo nero degli anni di piombo. Nel 1981 passa a “La Stampa”\, dal 1988 lavora per “la Repubblica”. Nel 1990 torna a “La Stampa” assumendo l’incarico prima di condirettore\, poi di direttore. Nel 1996 diventa direttore de “la Repubblica”\, svolgendo questo ruolo fino al 2016. Ha collaborato con Zygmunt Bauman nella scrittura di La felicità della democrazia. Un dialogo (Laterza 2011) e Babel (Laterza 2015). È autore\, tra gli altri\, anche di L’anno del ferro e del fuoco. Cronache di una rivoluzione (Feltrinelli 2017)\, L’uomo bianco (Feltrinelli 2018)\, Anime prigioniere (Feltrinelli 2019)\, Liberi dal male (Feltrinelli 2020) e Lo scrittore senza nome (Feltrinelli 2021). \nLa manifestazione si svolge anche in caso di maltempo L’ evento è gratuito. \nPer informazioni e prenotazioni:\nCasa Cremonini Tel. 0524 83377 – iat.fidenza@terrediverdi.it
URL:https://tabianoterme.it/event/ezio-mauro-a-fidenza-per-il-festival-testopretesto-2022/
LOCATION:Teatro Girolamo Magnani\, Piazza Giuseppe Verdi\, Fidenza\, 43039\, Italia
CATEGORIES:Cultura,Incontro
ATTACH;FMTTYPE=image/png:https://tabianoterme.it/wp-content/uploads/2022/05/testo-pretesto.png
ORGANIZER;CN="Comune di Fidenza":MAILTO:iat.fidenza@terrediverdi.it
END:VEVENT
BEGIN:VEVENT
DTSTART;VALUE=DATE:20210903
DTEND;VALUE=DATE:20210904
DTSTAMP:20260423T232407
CREATED:20210827T123852Z
LAST-MODIFIED:20210827T123852Z
UID:9599-1630627200-1630713599@tabianoterme.it
SUMMARY:Incontro a Tabiano "Le acque sulfuree: indicazioni e applicazioni"
DESCRIPTION:Venerdì 3 settembre 2021 si svolge a Tabiano\, presso la Pasticceria\, l’incontro “Le acque sulfuree: indicazioni e applicazioni”. Interviene il Dott. Piero Donati\, specialista in idrologia medica. \nL’evento è inserito all’interno del Festival @CQUECHEPASSIONE\, che sta animando Salsomaggiore Terme con incontri\, visite guidate\, conferenze\, spettacoli. \nGreen pass richiesto \nPer confermare la presenza è possibile chiamare il numero 0524 565742 o inviare una e-mail all’indirizzo info@tabianoterme.it \n 
URL:https://tabianoterme.it/event/le-acque-sulfuree-indicazioni-e-applicazioni-tabiano/
LOCATION:Viale alle fonti 7\, Pasticceria Tabiano\, Viale alle fonti 7\, Tabiano Terme\, PR\, 43039\, Italia
CATEGORIES:Incontro
ATTACH;FMTTYPE=image/jpeg:https://tabianoterme.it/wp-content/uploads/2021/08/acque-sulfuree-incontro-tabiano-3-settembre-2021.jpg
ORGANIZER;CN="Consorzio Abitabiano":MAILTO:info@tabianoterme.it
END:VEVENT
END:VCALENDAR