BEGIN:VCALENDAR
VERSION:2.0
PRODID:-//Tabiano terme - ECPv6.15.11//NONSGML v1.0//EN
CALSCALE:GREGORIAN
METHOD:PUBLISH
X-ORIGINAL-URL:https://tabianoterme.it
X-WR-CALDESC:Eventi per Tabiano terme
REFRESH-INTERVAL;VALUE=DURATION:PT1H
X-Robots-Tag:noindex
X-PUBLISHED-TTL:PT1H
BEGIN:VTIMEZONE
TZID:Europe/Rome
BEGIN:DAYLIGHT
TZOFFSETFROM:+0100
TZOFFSETTO:+0200
TZNAME:CEST
DTSTART:20240331T010000
END:DAYLIGHT
BEGIN:STANDARD
TZOFFSETFROM:+0200
TZOFFSETTO:+0100
TZNAME:CET
DTSTART:20241027T010000
END:STANDARD
BEGIN:DAYLIGHT
TZOFFSETFROM:+0100
TZOFFSETTO:+0200
TZNAME:CEST
DTSTART:20250330T010000
END:DAYLIGHT
BEGIN:STANDARD
TZOFFSETFROM:+0200
TZOFFSETTO:+0100
TZNAME:CET
DTSTART:20251026T010000
END:STANDARD
BEGIN:DAYLIGHT
TZOFFSETFROM:+0100
TZOFFSETTO:+0200
TZNAME:CEST
DTSTART:20260329T010000
END:DAYLIGHT
BEGIN:STANDARD
TZOFFSETFROM:+0200
TZOFFSETTO:+0100
TZNAME:CET
DTSTART:20261025T010000
END:STANDARD
END:VTIMEZONE
BEGIN:VEVENT
DTSTART;TZID=Europe/Rome:20251004T190000
DTEND;TZID=Europe/Rome:20251004T220000
DTSTAMP:20260425T011826
CREATED:20250929T104647Z
LAST-MODIFIED:20250929T104831Z
UID:13714-1759604400-1759615200@tabianoterme.it
SUMMARY:I misteri del Castello millenario di Scipione
DESCRIPTION:Nel labirinto del Castello più antico del Parmense visita notturna alla scoperta dei suoi luoghi segreti. Con l’apertura straordinaria delle prigioni quattrocentesche e dell’antica via di fuga del castello. \nIl millenario Castello di Scipione dei Marchesi Pallavicino\, il più antico della Provincia di Parma\, raccontato da Carlo Lucarelli nel suo podcast “Giallo in Castello”\, apre le sue porte per una visita notturna alla scoperta dei suoi luoghi segreti. \nIl Castello “labirinto”\, in posizione dominante sulle bellissime colline al confine tra Parma e Piacenza\, e fondato prima dell’anno Mille da Adalberto Pallavicino\, tra i più grandi condottieri del suo tempo\, potrà essere visitato nella penombra della sera; verranno raccontati gli intrighi e misteri che avvolgono il Castello e le leggende dei fantasmi che lo animano in alcune notti dell’anno… \nEccezionalmente verrà aperta la torre circolare quattrocentesca con le sue anguste prigioni rimaste intatte fino ad oggi\, e nel Salotto del Diavolo la porticina segreta si aprirà per mostrare l’antica via di fuga che attraversa il Castello. \nVerrà data voce alla struggente e straordinaria storia di Giacoma e Giangerolamo Pallavicino\, i cui passi\, in alcune notti dell’anno\, si fanno ancora sentire. \nPer l’occasione\, verranno inoltre aperti l’intero loggiato Seicentesco da dove sarà possibile ammirare il paesaggio collinare avvolto dalla luce della sera\, il quattrocentesco “scalone dei cavalli” con il suo giardino segreto e il grande giardino ai piedi della torre\, illuminato per la serata. \nPer chi desidera passare un fine settimana nel Castello incantato sulle colline\, è possibile soggiornare nel Castello stesso\, nelle meravigliose suites di charme\, nella torre a pianta quadrata e nell’ala Est\, con ampie finestre aperte sul paesaggio collinare e millenari soffitti a cassettoni. \nE’ inoltre possibile cenare negli agriturismi e trattorie nei dintorni del Castello. \nCosto della manifestazione:\nAdulti: 12 euro\nBambini da 6 anni a 16 anni: 9 euro\nGratuito: fino a 5 anni inclusi \nPer informazioni e prenotazioni: Tel: 0524 572381 – info@castellodiscipione.it; www.castellodiscipione.it
URL:https://tabianoterme.it/event/i-misteri-del-castello-millenario-di-scipione/
LOCATION:Castello di Scipione\, Via Scipione Castello\, 61\, Salsomaggiore Terme\, Parma\, 43039\, Italia
CATEGORIES:Arte e Cultura,Bambini e famiglie,Cultura,Incontro,Storia,Visita guidata
ATTACH;FMTTYPE=image/webp:https://tabianoterme.it/wp-content/uploads/2025/09/castello_scipione_misteri_2025.webp
ORGANIZER;CN="Castelli del Ducato":MAILTO:info@castellidelducato.it
END:VEVENT
END:VCALENDAR