BEGIN:VCALENDAR
VERSION:2.0
PRODID:-//Tabiano terme - ECPv6.15.11//NONSGML v1.0//EN
CALSCALE:GREGORIAN
METHOD:PUBLISH
X-ORIGINAL-URL:https://tabianoterme.it
X-WR-CALDESC:Eventi per Tabiano terme
REFRESH-INTERVAL;VALUE=DURATION:PT1H
X-Robots-Tag:noindex
X-PUBLISHED-TTL:PT1H
BEGIN:VTIMEZONE
TZID:Europe/Rome
BEGIN:DAYLIGHT
TZOFFSETFROM:+0100
TZOFFSETTO:+0200
TZNAME:CEST
DTSTART:20250330T010000
END:DAYLIGHT
BEGIN:STANDARD
TZOFFSETFROM:+0200
TZOFFSETTO:+0100
TZNAME:CET
DTSTART:20251026T010000
END:STANDARD
BEGIN:DAYLIGHT
TZOFFSETFROM:+0100
TZOFFSETTO:+0200
TZNAME:CEST
DTSTART:20260329T010000
END:DAYLIGHT
BEGIN:STANDARD
TZOFFSETFROM:+0200
TZOFFSETTO:+0100
TZNAME:CET
DTSTART:20261025T010000
END:STANDARD
BEGIN:DAYLIGHT
TZOFFSETFROM:+0100
TZOFFSETTO:+0200
TZNAME:CEST
DTSTART:20270328T010000
END:DAYLIGHT
BEGIN:STANDARD
TZOFFSETFROM:+0200
TZOFFSETTO:+0100
TZNAME:CET
DTSTART:20271031T010000
END:STANDARD
END:VTIMEZONE
BEGIN:VEVENT
DTSTART;TZID=Europe/Rome:20260301T150000
DTEND;TZID=Europe/Rome:20260301T170000
DTSTAMP:20260424T010125
CREATED:20260219T152813Z
LAST-MODIFIED:20260219T152813Z
UID:14328-1772377200-1772384400@tabianoterme.it
SUMMARY:“Il fuoco primitivo” al MuMAB
DESCRIPTION:Il fuoco come svolta evolutiva dell’ umanità \nQuesto incontro organizzato da Valerio\, guida del MuMAB ed esperto di sopravvivenza\, è un’esperienza immersiva dedicata alla scoperta del fuoco come svolta evolutiva\, culturale e simbolica dell’umanità.\nNon una semplice dimostrazione tecnica\, ma un viaggio nel tempo: un ritorno al crepuscolo del Paleolitico\, quando il fuoco era luce\, protezione\, cibo trasformato e racconto condiviso. \nL’incontro alternerà narrazione scientifica accessibile\, osservazione diretta di strumenti primitivi e una pratica esperienziale guidata\, con possibilità per i partecipanti di sperimentare in sicurezza l’accensione del fuoco con metodi antichi.
URL:https://tabianoterme.it/event/il-fuoco-primitivo-al-mumab/
LOCATION:MuMAB- Museo Mare Antico e Biodiversità\, Podere Millepioppi\, Salsomaggiore Terme\, PR\, 43039\, Italia
CATEGORIES:Bambini e famiglie,Camminata,Incontro,Museo,Outdoor,Visita guidata
ATTACH;FMTTYPE=image/webp:https://tabianoterme.it/wp-content/uploads/2026/02/mumab-fuoco-primitivo-salsomaggiore-marzo-2026.webp
ORGANIZER;CN="MuMAB - Museo Mare Antico e Biodiversit%C3%A0":MAILTO:mumab@millepioppi.it
END:VEVENT
BEGIN:VEVENT
DTSTART;TZID=Europe/Rome:20260306T180000
DTEND;TZID=Europe/Rome:20260306T200000
DTSTAMP:20260424T010125
CREATED:20260220T081443Z
LAST-MODIFIED:20260220T081443Z
UID:14349-1772820000-1772827200@tabianoterme.it
SUMMARY:“Ora d’arte” al Labirinto della Masone
DESCRIPTION:Gli anni ruggenti in quattro incontri al Labirinto della Masone\n\nOra d’Arte è la rassegna che\, per quattro venerdì\, trasforma il Museo del Labirinto della Masone in un elegante salotto contemporaneo: un luogo di incontro e conversazione\, dove il piacere della scoperta si accompagna a quello di un aperitivo condiviso. \nL’edizione 2026\, a cura di Elisa Rizzardi\, è dedicata al fascino irripetibile degli anni Venti e Trenta\, decenni vivaci e contraddittori in cui il dialogo tra le arti diede vita a linguaggi nuovi\, spregiudicati nella forma e nel pensiero. Studiosi\, curatori e musicologi evocheranno il clima creativo dell’epoca\, guidando il pubblico tra le luci\, i suoni e le visioni di un tempo che inventava la modernità. \nLa moda raccontata da Sofia Gnoli\, il teatro e la danza rivissuti da Luca Scarlini\, l’arte e la grafica di Erté introdotte da Valerio Terraroli\, la musica esplorata da Francesco Martinelli: quattro sguardi per comporre il ritratto vivo di una stagione di libertà e invenzione. \nVenerdì  6 marzo 2026\, ore 18.00 \n\n\nLife is a cabaret\nCon Luca Scarlini \nUn appuntamento dedicato al teatro e alla danza\, luoghi privilegiati in cui la fantasia prende forma sulla scena. Il racconto si muove tra le coreografie delle Folies\, le luci del Music hall e le sperimentazioni delle avanguardie europee\, intrecciandosi con la grande tradizione del teatro russo. Un mondo visionario che sarà evocato da Luca Scarlini in una serata che unisce racconto e performance. \n\n\nInformazioni e contatti:\nIl biglietto per il singolo appuntamento ha costo di € 12\,00.\nL’acquisto del biglietto per l’evento coincide con la prenotazione del proprio posto a sedere.\nLa partecipazione è altrimenti inclusa nel biglietto giornaliero del Labirinto per la giornata dell’incontro: i possessori del biglietto giornaliero che desiderano partecipare sono invitati a prenotare il proprio posto a sedere all’indirizzo prenotazioni@francomariaricci.com. \nIl biglietto include cibo e bevande serviti durante l’aperitivo a cura del Ristorante-Bistrò Il Labirinto by12 Monaci\, in collaborazione con Freccianera Fratelli Berlucchi. Durante ogni incontro sarà possibile iscriversi gratuitamente all’esclusivo Freccianera Club. \nÈ disponibile uno speciale carnet alla tariffa promozionale di € to40\,00 per tutti e 4 gli aperitivi. \nEvento in collaborazione con Freccianera Fratelli Berlucchi e Pedrali SPA
URL:https://tabianoterme.it/event/ora-darte-al-labirinto-della-masone-2/
LOCATION:Labirinto della Masone\, Strada Masone\, 121\, Fontanellato\, 43012
CATEGORIES:Arte e Cultura,Food,Incontro,Intrattenimento
ATTACH;FMTTYPE=image/webp:https://tabianoterme.it/wp-content/uploads/2026/02/Ora-darte_Labirinto_Luca-Scarlini.webp
ORGANIZER;CN="Labirinto della Masone":MAILTO:labirinto@francomariaricci.com
END:VEVENT
BEGIN:VEVENT
DTSTART;TZID=Europe/Rome:20260313T180000
DTEND;TZID=Europe/Rome:20260313T200000
DTSTAMP:20260424T010125
CREATED:20260220T082905Z
LAST-MODIFIED:20260220T082905Z
UID:14369-1773424800-1773432000@tabianoterme.it
SUMMARY:“Ora d’arte” al Labirinto della Masone
DESCRIPTION:Gli anni ruggenti in quattro incontri al Labirinto della Masone\n\nOra d’Arte è la rassegna che\, per quattro venerdì\, trasforma il Museo del Labirinto della Masone in un elegante salotto contemporaneo: un luogo di incontro e conversazione\, dove il piacere della scoperta si accompagna a quello di un aperitivo condiviso. \nL’edizione 2026\, a cura di Elisa Rizzardi\, è dedicata al fascino irripetibile degli anni Venti e Trenta\, decenni vivaci e contraddittori in cui il dialogo tra le arti diede vita a linguaggi nuovi\, spregiudicati nella forma e nel pensiero. Studiosi\, curatori e musicologi evocheranno il clima creativo dell’epoca\, guidando il pubblico tra le luci\, i suoni e le visioni di un tempo che inventava la modernità. \nLa moda raccontata da Sofia Gnoli\, il teatro e la danza rivissuti da Luca Scarlini\, l’arte e la grafica di Erté introdotte da Valerio Terraroli\, la musica esplorata da Francesco Martinelli: quattro sguardi per comporre il ritratto vivo di una stagione di libertà e invenzione. \nVenerdì  13 marzo 2026\, ore 18.00\n \n\n\n\n\n\n\n\n\n\n\n\nErté e l’invenzione dell’Art Déco\n\n\n\n\n\nCon Valerio Terraroli \nAvvicinandosi l’apertura della mostra Erté. Lo stile è tutto\, un incontro dedicato ad una delle personalità più emblematiche del gusto Art Déco. L’incontro sarà guidato da Valerio Terraroli\, curatore dell’esposizione\, che accompagnerà il pubblico alla scoperta di un autore poliedrico e inconfondibile\, che seppe unire creatività e industria culturale in un’unica visione moderna e raffinata. \n\n\n\n\n\n\n\n\n\n\nInformazioni e contatti:\nIl biglietto per il singolo appuntamento ha costo di € 12\,00.\nL’acquisto del biglietto per l’evento coincide con la prenotazione del proprio posto a sedere.\nLa partecipazione è altrimenti inclusa nel biglietto giornaliero del Labirinto per la giornata dell’incontro: i possessori del biglietto giornaliero che desiderano partecipare sono invitati a prenotare il proprio posto a sedere all’indirizzo prenotazioni@francomariaricci.com. \nIl biglietto include cibo e bevande serviti durante l’aperitivo a cura del Ristorante-Bistrò Il Labirinto by12 Monaci\, in collaborazione con Freccianera Fratelli Berlucchi. Durante ogni incontro sarà possibile iscriversi gratuitamente all’esclusivo Freccianera Club. \nÈ disponibile uno speciale carnet alla tariffa promozionale di € to40\,00 per tutti e 4 gli aperitivi. \nEvento in collaborazione con Freccianera Fratelli Berlucchi e Pedrali SPA
URL:https://tabianoterme.it/event/ora-darte-al-labirinto-della-masone-3/
LOCATION:Labirinto della Masone\, Strada Masone\, 121\, Fontanellato\, 43012
CATEGORIES:Arte e Cultura,Food,Incontro
ATTACH;FMTTYPE=image/webp:https://tabianoterme.it/wp-content/uploads/2026/02/Ora-darte_Labirinto_Valerio-Terraroli.webp
ORGANIZER;CN="Labirinto della Masone":MAILTO:labirinto@francomariaricci.com
END:VEVENT
BEGIN:VEVENT
DTSTART;TZID=Europe/Rome:20260320T180000
DTEND;TZID=Europe/Rome:20260320T200000
DTSTAMP:20260424T010125
CREATED:20260220T084043Z
LAST-MODIFIED:20260220T084043Z
UID:14382-1774029600-1774036800@tabianoterme.it
SUMMARY:“Ora d’arte” al Labirinto della Masone
DESCRIPTION:Gli anni ruggenti in quattro incontri al Labirinto della Masone\n\nOra d’Arte è la rassegna che\, per quattro venerdì\, trasforma il Museo del Labirinto della Masone in un elegante salotto contemporaneo: un luogo di incontro e conversazione\, dove il piacere della scoperta si accompagna a quello di un aperitivo condiviso. \nL’edizione 2026\, a cura di Elisa Rizzardi\, è dedicata al fascino irripetibile degli anni Venti e Trenta\, decenni vivaci e contraddittori in cui il dialogo tra le arti diede vita a linguaggi nuovi\, spregiudicati nella forma e nel pensiero. Studiosi\, curatori e musicologi evocheranno il clima creativo dell’epoca\, guidando il pubblico tra le luci\, i suoni e le visioni di un tempo che inventava la modernità. \nLa moda raccontata da Sofia Gnoli\, il teatro e la danza rivissuti da Luca Scarlini\, l’arte e la grafica di Erté introdotte da Valerio Terraroli\, la musica esplorata da Francesco Martinelli: quattro sguardi per comporre il ritratto vivo di una stagione di libertà e invenzione. \n\n\n\n\n\n\nVenerdì 20 marzo 2026\, ore 18.00 \nLa diffusione del jazz in Europa \nCon Francesco Martinelli \nDopo la Prima guerra mondiale\, il jazz attraversa l’Atlantico: dalla Francia degli Hot Club e di Django Reinhardt all’Italia delle avanguardie\, fino alla Germania della Repubblica di Weimar\, il suo ritmo accompagna una stagione di straordinaria vitalità. L’esperto musicologo Francesco Martinelli guiderà il pubblico in questo viaggio attraverso immagini\, filmati e ascolti di registrazioni d’epoca originali. \n\n\n\n\n\n\nInformazioni e contatti:\nIl biglietto per il singolo appuntamento ha costo di € 12\,00.\nL’acquisto del biglietto per l’evento coincide con la prenotazione del proprio posto a sedere.\nLa partecipazione è altrimenti inclusa nel biglietto giornaliero del Labirinto per la giornata dell’incontro: i possessori del biglietto giornaliero che desiderano partecipare sono invitati a prenotare il proprio posto a sedere all’indirizzo prenotazioni@francomariaricci.com. \nIl biglietto include cibo e bevande serviti durante l’aperitivo a cura del Ristorante-Bistrò Il Labirinto by12 Monaci\, in collaborazione con Freccianera Fratelli Berlucchi. Durante ogni incontro sarà possibile iscriversi gratuitamente all’esclusivo Freccianera Club. \nÈ disponibile uno speciale carnet alla tariffa promozionale di € to40\,00 per tutti e 4 gli aperitivi. \nEvento in collaborazione con Freccianera Fratelli Berlucchi e Pedrali SPA
URL:https://tabianoterme.it/event/ora-darte-al-labirinto-della-masone-4/
LOCATION:Labirinto della Masone\, Strada Masone\, 121\, Fontanellato\, 43012
CATEGORIES:Arte e Cultura,Food,Incontro,Intrattenimento
ATTACH;FMTTYPE=image/webp:https://tabianoterme.it/wp-content/uploads/2026/02/Ora-darte_Labirinto_Francesco-Martinelli.webp
ORGANIZER;CN="Labirinto della Masone":MAILTO:labirinto@francomariaricci.com
END:VEVENT
BEGIN:VEVENT
DTSTART;TZID=Europe/Rome:20260321T170000
DTEND;TZID=Europe/Rome:20260321T190000
DTSTAMP:20260424T010125
CREATED:20260220T084251Z
LAST-MODIFIED:20260220T084251Z
UID:14386-1774112400-1774119600@tabianoterme.it
SUMMARY:Il Salotto delle Tisane alla Rocca dei Terzi
DESCRIPTION:Sabato 21 marzo 2026\, ore 17:00 – Rocca dei Terzi di Sissa-Trecasali \nConferenza d’arte degustando the e tisane \nOgni sabato un ospite diverso intratterrà il pubblico con argomenti diversi\, raccontando l’arte e la nostra storia in un’atmosfera accogliente degustando tisane che verranno proposte ogni volta da ricette storiche locali. \nLa manifestazione si svolge anche in caso di maltempo \nCosto della manifestazione: € 12\,00 \nPer informazioni e prenotazioni: 347 4485947 – turismo@comune.sissatrecasali.pr.it \n  \nFonte testo: Castelli del Ducato
URL:https://tabianoterme.it/event/il-salotto-delle-tisane-alla-rocca-dei-terzi-3/
LOCATION:rocca dei terzi
CATEGORIES:Food,Incontro
ATTACH;FMTTYPE=image/webp:https://tabianoterme.it/wp-content/uploads/2026/02/The-e-tisane_Rocca-dei-Terzi_Sissa-Trecasali-1.webp
END:VEVENT
BEGIN:VEVENT
DTSTART;VALUE=DATE:20260417
DTEND;VALUE=DATE:20260504
DTSTAMP:20260424T010125
CREATED:20260407T102706Z
LAST-MODIFIED:20260407T102706Z
UID:14557-1776384000-1777852799@tabianoterme.it
SUMMARY:Salsomaggiore: Gran Fiera San Vitale 2026
DESCRIPTION:Gran Fiera di San Vitale\nDal 17 aprile al 3 maggio 2026 \nVENERDÌ 17 APRILE\nPresentazione Libro “La Società Longeva” di Stefania Bandini e Paolo Manfredi\nOre 18.00 – Sala lampadario \nSABATO 18 APRILE\nRassegna espositiva con creativi\, artigianato ed hobbisti \nDalle 09.00 alle18.00 – Viale Berenini e Viale Romagnosi\nA cura di ProLoco Salsomaggiore Terme \nIl cuore in piazza: esami ecg gratuiti per la cittadinanza\nDalle 09.00 alle 13.00 – Terme Zoja\nA cura di ProLoco Salsomaggiore Terme\, CRAL AUSL di parma\, TST Terme Salsomaggiore e Tabiano \n“La Rossa” – Rassegna “Trilogia delle radici”\nLettura teatrale con Paola Ferrari\, tratta dal libro “Il falò del patriarca” – Intervista con l’autore Giovanni Bergamini\nOre 16.30 – Corte Civica Tommasini\nA cura di 365 Volte Donna \nConcerto Musici di Parma: “Danze del Nord”\nPaesaggi sonori tra natura e tradizione\nOre 21.00 – Sala Cariatidi\nIn collaborazione con Orchestra Università di Parma \nDOMENICA 19 APRILE\nFesta di Primavera – mercatino del riuso\nDalle 9.00 alle 18.00 – Via Milano e piazza Brugnola\nA cura di ProLoco Salsomaggiore Terme \nTorneo di puzzle\nOre 15.30 – Piazza Brugnola\n(In caso di maltempo Sala Mainardi)\nA cura di ProLoco Salsomaggiore Terme \nSABATO 25 APRILE\nRassegna espositiva con creativi\, artigianato ed hobbisti \nDalle 09.00 alle18.00 – Viale Berenini e Viale Romagnosi\nA cura di ProLoco Salsomaggiore Terme \nManifestazione istituzionale del 25 aprile\nOre 09.30 – partenza corteo accompagnato dal Complesso bandistico Città di Salsomaggiore \n14° concorso del bargnolino artigianale Città di Salsomaggiore e concerto del coro Armonie\nDalle 16.00 – Piazza Brugnola\nA cura di Circolo ricreativo Salsoinsieme\, Coro Armonie aps\, Confederation europee de gourmet\, AIS\, Cantina “Il Poggio” \nDOMENICA 26 APRILE\nTutti insieme per San Vitale\nStand delle associazioni aderenti alla Consulta del Volontariato\, giochi ed attività per bambini e famiglie\, mostra d’arte e caccia al tesoro\nDalle 09.00 alle 19.00 – Viale Romagnosi\, Viale Berenini e Parco Corazza\nA cura delle associazioni della Consulta del Volontariato \nPasseggiata sulle colline di Tabiano\nDalle 09.00 alle 12.00\nInfo e prenotazioni ABI Tabiano \n3° Torneo provinciale di Burraco\nDalle 10.00 alle 19.00 – Corte Civica Tommasini\nA cura di Burraco ASD \nL’impegno di tanti per la tutela di tutti\nEsercitazioni e simulazioni\nDalle 09.30 alle 18.00 – Largo Roma\nA cura di Pubblica Assistenza\, Protezione Civile Favalesi e PROCIV ARCI \nSan Vitale in musica\nConcerto Armonie Ensemble\nOre 10.00 – Gazebo di Viale Romagnosi \nConcerto Complesso Bandistico città di Salsomaggiore\nOre 16.00 – Gazebo di Viale Romagnosi\nA cura del Complesso Bandistico Città di Salsomaggiore ed Armonie aps \nFiabe per bambini: lettura animata\nOre 15.00 – Piazza Libertà e Viale Romagnosi\nA cura di Ascom \nLady Oscar e la corte di Versailles\nTutto il giorno – vie del Centro Storico\nA cura di Ascom e Noblesse oblige \nEsibizione di Danza\nOre 16.00 – Palazzina Warowland\nA cura di Ascom \nLUNEDÌ 27 APRILE\nTributo ai Nomadi\nOre 21.00 – Cinema Odeon\nA cura di ProLoco Salsomaggiore Terme \nMARTEDÌ 28 APRILE\nRassegna espositiva con creativi\, artigianato ed hobbisti \nDalle 09.00 alle18.00 – Viale Berenini e Viale Romagnosi\nA cura di ProLoco Salsomaggiore Terme \nSan Vitale: una chiesa\, una storia\nMostra fotografica e documentale\nDalle ore 15.00 alle ore 18.00 – Palazzina Warowland\nA cura di 365 Volte Donna\, circolo Zoom e TST Terme Salsomaggiore e Tabiano \nLibri con le ruote \nLetture animate per bambini\nOre 16.00 – Parco Mazzini\nA cura di Coworking Salsomaggiore \nSanta messa solenne in celebrazione del Santo Patrono\nOre 18.00 – Chiesa di San Vitale\nPresieduta da S.E. il Vescovo di Fidenza Mons. Ovidio Vezzoli \nTutti in coro – Terza edizione\nOre 21.00 – Corte Civica Tommasini\nA cura di Armonie aps\, ProLoco Salsomaggiore\, Amici di Salsomaggiore \nSABATO 02 MAGGIO\nBici in comune – El Diablo on tour\nItinerario cicloturistico guidato con Claudio Chiappucci\nOre 08.30 – partenza da via Partigiani salsesi\nInfo e prenotazioni: info@emilialand.com \nRassegna espositiva con creativi\, artigianato ed hobbisti \nDalle 09.00 alle18.00 – Viale Berenini e Viale Romagnosi\nA cura di ProLoco Salsomaggiore Terme \n“Le muse di Leonardo”\nConferenza con lo storico d’arte Simone Fappanni – “Milano\, la corte sforzesca e l’enigma dei sorriso”\nOre 16.30 – Corte Civica Tommasini\nA cura di 365 Volte Donna \nConcerto Complesso Bandistico Città di Fidenza\nOre 17.00 – piazza Verdi\, Tabiano\nA cura di Abi Tabiano \nDOMENICA 03 MAGGIO\nSan Vitale tra sacro e profano\nConferenza con Roberto Mancuso\nOre 17.00 – Palazzina Warowland\nA cura di 365 Volte Donna\, Circolo Zoom e Amici di Salsomaggiore \nDAL 17 AL 19 APRILE\nCampionato nazionale preagonisti FESIK\nPalazzetto dello Sport \nDAL 24 AL 26 APRILE\nBridge – Campionato nazionale allievi coppie\nPalazzo dei Congressi \nDAL 27 APRILE AL 03 MAGGIO\n43° Torneo internazionale juniores di tennis Bayer Salsomaggiore Terme\nTennis Club Salsomaggiore \nDAL 29 APRILE AL 03 MAGGIO\nBridge – Coppa Italia mista finale nazionale\nPalazzo dei Congressi \nMUSEO MARE ANTICO E BIODIVERSITA’ (MUMAB)\nPer informazioni e prenotazioni: 0524 583595 / mumab@millepioppi.it \n”Questa primavera…che splendida cornice” – Lettura animata e laboratorio\n19 aprile – ore 16.00 – per famiglie con bambini dai 3 ai 6 anni \nMusteli…chi? – laboratorio\n26 aprile – ore 15.00 – per bambini dai 6 ai 12 anni \nStormi\, banchi e branchi: come stanno insieme gli animali – laboratorio\n3 maggio – ore 15.00 – per bambini dai 6 ai 12 anni \nLaboratorio microscopi\nMercoledì e venerdì – ore 17.30\nsabato e domenica – ore 18.00 \nVisite guidate\nMercoledì e venerdì – ore 15.00 e 16.30\nsabato e domenica – ore 10.00\, 11.30 e 17.00 \nEscursione\nSabato e domenica – ore 15.00 (esclusi 26 aprile e 03 maggio) \nCASTELLI DEL DUCATO\nCASTELLO DI CONTIGNACO\nPer informazioni e prenotazioni: 320 6126425 / 320 6066721 / 320 6126424 / 0524 573287 / info@castellodicontignaco.it / www.castellodicontignaco.it \nCaccia al tesoro in Castello\n18/19/24/25/26 aprile e 1/2/3 maggio – ore 10.45 e ore 15.00 \nCalici in castello: aperitivi e degustazioni\n18/19/24/25/26 aprile e 1/2/3 maggio – mezzodì\, pomeriggio e sera \nLa magia e gli enigmi della notte: visita guidata con escape castle\n18/19/24/25/26 aprile e 1/2/3 maggio – ore 11.15\, 15.30\, 17.30 e 21.00 \nCASTELLO DI SCIPIONE\nPer informazioni e prenotazioni: 0524 572381 / info@castellodiscipione.it /www.castelloditabiano.com www.castellodiscipione.it \nAlla scoperta dei profumi del giardino del Castello di Scipione Pallavicino\nSabato/ domenica e festivi – orari di apertura del Castello \nCASTELLO DI TABIANO\nPer informazioni e prenotazioni: www.castelloditabiano.com – info@castelloditabiano.com \nVisite guidate\nGiorni di apertura del castello – su prenotazione \n  \nFonte testo: https://visitsalsomaggiore.it
URL:https://tabianoterme.it/event/salsomaggiore-gran-fiera-san-vitale-2026/
LOCATION:Salsomaggiore Terme\, Parma\, 43039\, Italia
CATEGORIES:Arte e Cultura,Bambini e famiglie,Incontro,Intrattenimento
ATTACH;FMTTYPE=image/jpeg:https://tabianoterme.it/wp-content/uploads/2026/04/Terme-Berzieri.jpg
END:VEVENT
BEGIN:VEVENT
DTSTART;TZID=Europe/Rome:20260429T103000
DTEND;TZID=Europe/Rome:20260429T123000
DTSTAMP:20260424T010125
CREATED:20260407T104500Z
LAST-MODIFIED:20260407T104500Z
UID:14583-1777458600-1777465800@tabianoterme.it
SUMMARY:Giocare con le erbe del parco alla Rocca dei Rossi di San Secondo
DESCRIPTION:Attività ludico laboratoriali nel parco della Rocca dei Rossi per bambini dai 4 ai 10 anni \n29 aprile 2026 ore 10.30\n17 maggio 2026 ore 16.00\n26 settembre 2026 ore 16.00\n8 novembre 2026 ore 16.00 \n29.04: BENARRIVATA PRIMAVERA! Corso di acquerello dal vivo per scoprire i fiori del parco con brunch incluso. \n17.05: A CACCIA DI FOGLIE E FIORI Realizzazione di un erbario artistico \n26.09: MERENDA D’AUTUNNO Merenda autunnale con laboratorio di frottage. \n8.11: FOLIAGE NEL PARCO Ricerca di foglie secche per realizzazione di un collage artistico \n  \nINFORMAZIONI \nLa manifestazione si svolge anche in caso di mal tempo.\nCosto della manifestazione: € 15.00\nPer informazioni e prenotazioni:\n0521 873214 – 0521 871500 – 347 4485947\nturismosansecondoparmense@gmail.com \n  \nFonte testo e foto: www.castellidelducato.it
URL:https://tabianoterme.it/event/giocare-con-le-erbe-del-parco-alla-rocca-dei-rossi-di-san-secondo/
LOCATION:Rocca dei Rossi\, Piazza Giuseppe Mazzini\, 12\, San Secondo Parmense\, Parma\, 43017\, Italia
CATEGORIES:Bambini e famiglie,Incontro,Intrattenimento
ATTACH;FMTTYPE=image/jpeg:https://tabianoterme.it/wp-content/uploads/2026/04/ssecond14.jpg
END:VEVENT
BEGIN:VEVENT
DTSTART;VALUE=DATE:20260505
DTEND;VALUE=DATE:20260511
DTSTAMP:20260424T010125
CREATED:20260407T115758Z
LAST-MODIFIED:20260407T115758Z
UID:14606-1777939200-1778457599@tabianoterme.it
SUMMARY:Francigena Fidenza Festival 2026
DESCRIPTION:La sesta edizione del Francigena Fidenza Festival si terrà dal 5 al 10 maggio 2026!\nQuesto evento unico celebra il connubio tra cammini\, cultura e spiritualità\, offrendo un itinerario che unisce passato e futuro. \nAnche quest’anno il programma sarà ricco di eventi imperdibili: mostre\, camminate\, visite guidate\, mercati\, degustazioni\, talk\, progetti per le scuole\, spettacoli e concerti animeranno Borgo San Donnino. \nFrancigena Fidenza Festival 2026: Scopri il Cuore della Via Francigena\nGrazie alla sua posizione strategica lungo l’antico itinerario che collega Canterbury a Santa Maria di Leuca\, Fidenza è il luogo ideale per celebrare e valorizzare la Via Francigena. Con queste premesse\, nasce il Francigena Fidenza Festival\, che nel 2026 raggiunge la sua sesta edizione. \nDal 5 al 10 maggio\, Fidenza si trasformerà in un palcoscenico culturale dedicato alla Via Francigena e ai cammini d’Italia e d’Europa. Organizzato dal Comune di Fidenza in collaborazione con l’Associazione Europea Vie Francigene (AEVF)\, il festival offrirà un ricco programma di eventi\, preparatevi quindi a intraprendere un nuovo cammino di conoscenza e trasformazione\, esplorando le strade di un luogo incantato e riscoprendo voi stessi lungo un viaggio alla scoperta della Via Francigena\, che potrebbe cambiare il mondo e il vostro modo di viverlo. \nFrancigena Fidenza Festival 2026: ecco il programma\nIl programma completo dell’edizione 2026 è attualmente in via di definizione e verrà pubblicato non appena sarà concluso e validato. La macchina organizzativa è già al lavoro per costruire un calendario capace di rinnovare l’energia del Festival e\, al tempo stesso\, restare fedele alla sua identità: la Via Francigena come esperienza viva\, fatta di passi\, incontri\, cultura e comunità. \nAnche quest’anno ci si prepara a una proposta articolata\, con appuntamenti diffusi\, momenti di approfondimento\, iniziative dedicate al cammino e occasioni di condivisione pensate per un pubblico ampio: camminatori\, appassionati di storia e territorio\, famiglie\, curiosi e chi desidera scoprire la Francigena da prospettive nuove. L’obiettivo è offrire un’edizione in continuità con le precedenti\, ma con uno slancio ulteriore\, portando nel Festival novità\, ospiti\, contenuti e format capaci di sorprendere. \n  \nFonte testo: https://www.francigenafidenzafestival.it/
URL:https://tabianoterme.it/event/francigena-fidenza-festival-2026/
LOCATION:Fidenza\, Piazza Duomo\, 16\, Fidenza\, 43036\, Italia
CATEGORIES:Bambini e famiglie,Camminata,Incontro,Outdoor
ATTACH;FMTTYPE=image/webp:https://tabianoterme.it/wp-content/uploads/2026/04/francigena-fidenza-festival-2026-1.webp
END:VEVENT
BEGIN:VEVENT
DTSTART;TZID=Europe/Rome:20260509T210000
DTEND;TZID=Europe/Rome:20260509T230000
DTSTAMP:20260424T010125
CREATED:20260407T121355Z
LAST-MODIFIED:20260407T121355Z
UID:14630-1778360400-1778367600@tabianoterme.it
SUMMARY:Francigena Fidenza Festival 2026 – Vito Mancuso-Homo Viator
DESCRIPTION:Sabato 9 maggio 2026 ore 21:00\nFidenza\, Teatro G. Magnani \nHomo Viator\nLectio magistralis di Vito Mancuso sul senso del cammino e della condizione umana \nUna riflessione intensa e attuale sul significato dell’essere umano\, a partire da una delle domande più profonde: qual è la nostra vera natura? \n“Qual è l’essenza dell’essere umano? Il contrasto tra le varie risposte a questa domanda mostra il carattere itinerante della nostra specie\, da sempre alla ricerca di un punto fermo a cui appoggiarsi. Ma nessun punto fermo (nel senso di immobile) ci sarà mai dato: ognuno di noi è homo viator.” \nUn appuntamento di alto profilo culturale che intreccia filosofia\, spiritualità e pensiero contemporaneo\, in dialogo con i temi centrali del Francigena Fidenza Festival e della Via Francigena. \nVito Mancuso\nTeologo laico e filosofo\, Vito Mancuso ha conseguito i tre gradi della formazione teologica: baccellierato a Milano\, licenza a Napoli e dottorato a Roma con una tesi dedicata a Hegel. \nÈ stato docente di Teologia moderna e contemporanea presso l’Università Vita-Salute San Raffaele di Milano e di Storia delle dottrine teologiche presso l’Università degli Studi di Padova. Attualmente insegna nel Master in Meditazione e Neuroscienze dell’Università di Udine. \nHa fondato e dirige a Bologna il “Laboratorio di Etica”\, spazio di ricerca e confronto sui temi del pensiero etico e della contemporaneità. \nAutore di numerosi saggi di grande diffusione\, ha affrontato temi quali la natura di Dio\, l’anima\, la libertà\, il dolore\, l’amore\, il senso della vita\, la bellezza e le virtù. In un suo lavoro recente ha proposto una sintesi delle figure di Socrate\, Buddha\, Confucio e Gesù\, offrendo una visione comparata delle grandi tradizioni sapienziali. \nIl suo pensiero è spesso definito come una “filosofia della relazione”\, capace di mettere in dialogo dimensione spirituale e razionale. \nCollabora con importanti testate giornalistiche\, tra cui la Repubblica\, Corriere della Sera e Il Foglio\, ed è editorialista de La Stampa dal 2022. In ambito internazionale gli è stata dedicata una monografia dal titolo Essentials of Catholic Radicalism. An Introduction to the Lay Theology of Vito Mancuso (Francoforte\, 2011). \n  \nBiglietto acquistabile presso la biglietteria del Teatro Magnani o sul sito Vivaticket. \nAcquista Biglietti \nIl Francigena Fidenza Festival è organizzato dal Comune di Fidenza in collaborazione con l’Associazione Europea delle Vie Francigene (AEVF)\, con la cura organizzativa di LOC – Libera Officina Culturale ed Eventi22\, e con il sostegno dell’Università degli studi di Parma e della Diocesi di Fidenza \nInformazioni:\nFrancigena Fidenza Festival\nIAT-R Fidenza Casa Cremonini  iat.fidenza@terrediverdi.it\, 0524.83377 \nFonte testo: https://www.francigenafidenzafestival.it – Fonte foto: https://filarmonicifriulani.com
URL:https://tabianoterme.it/event/francigena-fidenza-festival-2026-vito-mancuso-homo-viator/
LOCATION:Teatro Magnani di Fidenza\, Piazza Verdi 1\, Fidenza
CATEGORIES:Incontro,Teatro
ATTACH;FMTTYPE=image/webp:https://tabianoterme.it/wp-content/uploads/2026/04/francigena-fidenza-festival-2026-vito-mancuso.webp
ORGANIZER;CN="Comune di Fidenza":MAILTO:iat.fidenza@terrediverdi.it
END:VEVENT
BEGIN:VEVENT
DTSTART;TZID=Europe/Rome:20260520T210000
DTEND;TZID=Europe/Rome:20260520T223000
DTSTAMP:20260424T010125
CREATED:20260413T081517Z
LAST-MODIFIED:20260413T081716Z
UID:14679-1779310800-1779316200@tabianoterme.it
SUMMARY:Corrado Augias
DESCRIPTION:Un viaggio personale e collettivo attraverso il secolo breve\, raccontato dalla voce autorevole e appassionata di Corrado Augias. Con la lucidità del giornalista\, la sensibilità dell’uomo di cultura e la profondità del testimone diretto\, Augias ripercorre i grandi eventi\, le tragedie\, le conquiste e le contraddizioni del Novecento\, intrecciando la Storia con la sua storia. Tra memoria e riflessione\, “Il mio Novecento” è uno spettacolo che unisce teatro\, narrazione e impegno civile\, offrendo al pubblico uno sguardo illuminato sul secolo che ha forgiato il mondo contemporaneo.
URL:https://tabianoterme.it/event/corrado-augias/
LOCATION:Teatro Regio di Parma\, Strada Garibaldi\, 16/a\, Parma\, Italia\, 43121\, Italia
CATEGORIES:Cultura,Incontro,Storia,Teatro
ATTACH;FMTTYPE=image/jpeg:https://tabianoterme.it/wp-content/uploads/2026/04/Corrado-Augias-Il-mio-novenceto-1200x1500-1.jpg
END:VEVENT
END:VCALENDAR