BEGIN:VCALENDAR
VERSION:2.0
PRODID:-//Tabiano terme - ECPv6.15.11//NONSGML v1.0//EN
CALSCALE:GREGORIAN
METHOD:PUBLISH
X-WR-CALNAME:Tabiano terme
X-ORIGINAL-URL:https://tabianoterme.it
X-WR-CALDESC:Eventi per Tabiano terme
REFRESH-INTERVAL;VALUE=DURATION:PT1H
X-Robots-Tag:noindex
X-PUBLISHED-TTL:PT1H
BEGIN:VTIMEZONE
TZID:Europe/Rome
BEGIN:DAYLIGHT
TZOFFSETFROM:+0100
TZOFFSETTO:+0200
TZNAME:CEST
DTSTART:20240331T010000
END:DAYLIGHT
BEGIN:STANDARD
TZOFFSETFROM:+0200
TZOFFSETTO:+0100
TZNAME:CET
DTSTART:20241027T010000
END:STANDARD
BEGIN:DAYLIGHT
TZOFFSETFROM:+0100
TZOFFSETTO:+0200
TZNAME:CEST
DTSTART:20250330T010000
END:DAYLIGHT
BEGIN:STANDARD
TZOFFSETFROM:+0200
TZOFFSETTO:+0100
TZNAME:CET
DTSTART:20251026T010000
END:STANDARD
BEGIN:DAYLIGHT
TZOFFSETFROM:+0100
TZOFFSETTO:+0200
TZNAME:CEST
DTSTART:20260329T010000
END:DAYLIGHT
BEGIN:STANDARD
TZOFFSETFROM:+0200
TZOFFSETTO:+0100
TZNAME:CET
DTSTART:20261025T010000
END:STANDARD
END:VTIMEZONE
BEGIN:VEVENT
DTSTART;TZID=Europe/Rome:20250905T153000
DTEND;TZID=Europe/Rome:20250905T190000
DTSTAMP:20260425T022155
CREATED:20250902T084352Z
LAST-MODIFIED:20250902T084934Z
UID:13633-1757086200-1757098800@tabianoterme.it
SUMMARY:Aspettando Spiegamelo! al MuMAB con @Tostoini
DESCRIPTION:Sta per tornare Spiegamelo! Festival che sarà a Salsomaggiore dal 25 al 28 settembre 2025 \nL’evento è anticipato da due appuntamenti. \nVenerdì 5 settembre – ore 15:30 e 17:30\nMuMAB – Museo Mare Antico e Biodiversità\nFossili Viventi\ncon Roberta Ragona aka Tostoini \nRoberta Ragona\, in arte Tostoini\, ci accompagna in un viaggio tra organismi antichi\, creature resilienti e storie che parlano di adattamento e cambiamento. Lo sai che alcuni animali sembrano usciti direttamente dalla preistoria? Non è fantascienza\, sono i “Fossili viventi”! Specie antichissime che girano ancora tra noi\, praticamente identiche a come erano milioni di anni fa. Se sei curioso di scoprire cosa sono\, qual è la loro storia e dove possiamo trovarli\, Tostoini ti aspetta al museo per un viaggio nel tempo senza macchina del tempo\, dove andremo “a caccia” di fossili viventi e alla fine testeremo le nostre conoscenze con dei quiz. \nLink per prenotazione: https://millepioppi.it/prodotto/fossili-viventi/ \nPer bambini da 8 anni in su \nTostoini – il nome con cui Roberta Ragona firma da sempre le sue illustrazioni – vive a Milano ma è nata a Cagliari. Ama i progetti in cui è possibile affrontare temi serissimi con leggerezza e cose molto leggere come se fossero le più serie del mondo. Le sue illustrazioni sono comparse nei libri di Albero delle Matite\, Effequ\, Quinto Quarto e in un sacco di posti che non sono libri: un allestimento museale a Erbil\, nel Kurdistan iracheno\, per il World Monuments Fund; guide digitali a beni Unesco e di facilitazione visuale in progetti per Unione Europea e UNDP\, e molto altro ancora. Ha una formazione da antropologa e dell’illustrazione ama tanto la parte del disegnare quanto quella del ragionarci su. Disegna spesso animali curiosi con una predilezione particolare per i lamentini e i lamantini (che potrebbero sembrare la stessa cosa\, ma non lo sono). \n 
URL:https://tabianoterme.it/event/aspettando-spiegamelo-al-mumab-con-tostoini/
LOCATION:MuMAB- Museo Mare Antico e Biodiversità\, Podere Millepioppi\, Salsomaggiore Terme\, PR\, 43039\, Italia
CATEGORIES:Bambini e famiglie,Festival,Incontro,Museo,Rassegna
ATTACH;FMTTYPE=image/jpeg:https://tabianoterme.it/wp-content/uploads/2025/09/504924092_1265783838883754_7825661725923818409_n.jpg
ORGANIZER;CN="Coworking Salsomaggiore Terme":MAILTO:info@salsocoworking.it
END:VEVENT
BEGIN:VEVENT
DTSTART;TZID=Europe/Rome:20250907T100000
DTEND;TZID=Europe/Rome:20250907T200000
DTSTAMP:20260425T022155
CREATED:20250829T092732Z
LAST-MODIFIED:20250829T092732Z
UID:13607-1757239200-1757275200@tabianoterme.it
SUMMARY:Lo Sbarazzo di Salsomaggiore – Mercatino del riuso
DESCRIPTION:Torna l’appuntamento con Lo Sbarazzo\, il tradizionale mercatino cittadino che anima Viale Matteotti per un’intera giornata.\nUna festa di quartiere dove più di 100 famiglie — grandi e piccini — si ritrovano per vendere\, scambiare e dare nuova vita a oggetti\, libri\, giocattoli e abbigliamento. \n\n\nUn’occasione per vivere la città in modo conviviale e all’aperto\, tra vetrine\, bancarelle e incontri tra vicini. \n\n\nRiduciamo gli sprechi: tanti oggetti trovano una seconda vita evitando discariche e spreco di risorse. \n\n\nMercatino all’aperto con atmosfera familiare\, bancarelle colorate e tante curiosità: ideale per chi cerca un affare\,\nper chi vuole svuotare cantine e soffitte o semplicemente per trascorrere una domenica diversa in città. \nL’incasso sarà devoluto al Complesso Bandistico “Città di Salsomaggiore Terme”.
URL:https://tabianoterme.it/event/lo-sbarazzo-di-salsomaggiore-mercatino-del-riuso/
LOCATION:Viale Romagnosi\, Salsomaggiore Terme\, Viale Romagnosi\, Salsomaggiore Terme\, Italia\, 43039\, Italia
CATEGORIES:Bambini e famiglie,Incontro,Mercatino
ATTACH;FMTTYPE=image/jpeg:https://tabianoterme.it/wp-content/uploads/2025/08/Lo-Sbarazzo-1.jpg
END:VEVENT
BEGIN:VEVENT
DTSTART;TZID=Europe/Rome:20250910T170000
DTEND;TZID=Europe/Rome:20250910T183000
DTSTAMP:20260425T022155
CREATED:20250908T094739Z
LAST-MODIFIED:20250908T094739Z
UID:13684-1757523600-1757529000@tabianoterme.it
SUMMARY:Tebaldi Callas -  la presentazione del libro di Giancarlo Landini
DESCRIPTION:Partendo esclusivamente dai personaggi portati sul palcoscenico\, dalle interpretazioni teatrali\, dalle registrazioni live e in studio\, Giancarlo Landini e Giovanni Vitali analizzano i motivi per i quali i due più grandi soprani del Novecento furono – e restano – “La Tebaldi” e “La Callas”. \nPer una scelta precisa degli autori sono pochissimi i riferimenti alle loro tormentate vite private; nessuno spazio è concesso al divismo\, alla presunta rivalità\, al gossip: su questi argomenti la letteratura è già molto vasta e appare oggi inesorabilmente datata. Le riflessioni prendono invece spunto dalle partiture\, da quelle pagine musicali che sono lo specchio indiscutibile della volontà degli autori e che fanno emergere quanto le due straordinarie primedonne furono scrupolosamente attente alle indicazioni dinamiche\, agogiche ed espressive dei compositori\, dando vita l’una\, la Tebaldi\, ad una sublime\, rinnovata stilizzazione del canto classico di tradizione ottocentesca e inventando l’altra\, la Callas\, quell’originale\, moderno “teatro della voce” che trova nella drammatica inquietudine del ventesimo secolo la sua ragion d’essere\, come dimostrano anche le suggestioni esercitate dal suo particolarissimo strumento sul cinema. \nDopo gli anni dei rispettivi centenari della nascita\, una raccolta di saggi non su la Tebaldi o la Callas\, ma su la Tebaldi e la Callas\, entrambe artiste uniche\, imprescindibili nella storia della vocalità\, al di sopra dei gusti soggettivi\, delle tifoserie e dei fanatismi\, proprio come le divinità dell’Olimpo alle quali ambedue di diritto appartengono. \nL’autore dialogherà con lo storico della musica Giuseppe Martini.
URL:https://tabianoterme.it/event/tebaldi-callas-la-presentazione-del-libro-di-giancarlo-landini/
LOCATION:Auditorium Casa della Musica\, Piazzale S. Francesco 1\, Parma\, 43121
CATEGORIES:Incontro,Musica,Spettacolo,Storia
ATTACH;FMTTYPE=image/png:https://tabianoterme.it/wp-content/uploads/2025/09/Immagine-2025-09-08-114437.png
ORGANIZER;CN="Casa della Musica":MAILTO:infopoint@lacasadellamusica.it
END:VEVENT
BEGIN:VEVENT
DTSTART;TZID=Europe/Rome:20250919T180000
DTEND;TZID=Europe/Rome:20250919T193000
DTSTAMP:20260425T022155
CREATED:20250908T082637Z
LAST-MODIFIED:20250908T082637Z
UID:13668-1758304800-1758310200@tabianoterme.it
SUMMARY:Fuga dalla meraviglia - Aspettando Spiegamelo!
DESCRIPTION:La geniale vita di Albert Einstein con Federico Taddia \nDa quando a cinque anni il suo papà gli regalò una bussola\, il piccolo Albert capì che la sua vita sarebbe stata dedicata alla scienza. Ma tra il fascino per le scienze e la vittoria del premio Nobel la strada è lunga e si snoda tra calzini mai indossati\, violini e melodie suonate in ripetizione ed esperimenti scientifici che hanno cambiato il mondo. Questo libro non è una classica biografia\, un libro di scienza o una noiosa raccolta di aneddoti. Questo libro è un ritratto molto scapigliato di un’esistenza vissuta all’insegna non solo dell’intelligenza\, ma anche dell’ironia\, dell’immaginazione sconfinata e dell’opposizione a qualsiasi ordine e pregiudizio. La storia di un uomo che ha custodito fino alla fine una grande capacità: quella di sapersi meravigliare. Perché la meraviglia non è altro che una domanda in attesa di risposta. \nPer adulti e bambini da 8 anni in su \nFederico Taddia – Scrittore\, conduttore e autore tv\, collabora con Topolino\, Rai\, Radio24 e “La Stampa”. Il suo pallino è raccontare ai più giovani le nuove scoperte scientifiche. Ha scritto Nata in via delle Cento Stelle. Gatti\, biciclette e parolacce: tutta la galassia di Margherita Hack. Con “Teste Toste” ha vinto il Premio Andersen per la miglior collana di divulgazione scientifica per ragazze e ragazzi. Con Elisa Palazzi ha scritto Bello mondo e Perché la terra ha la febbre? E tante altre domande sul clima. Clima\, attivismo e futuri possibili: un libro per capire quello che gli altri non vogliono capire.
URL:https://tabianoterme.it/event/fuga-dalla-meraviglia-aspettando-spiegamelo/
LOCATION:MuMAB- Museo Mare Antico e Biodiversità\, Podere Millepioppi\, Salsomaggiore Terme\, PR\, 43039\, Italia
CATEGORIES:Arte e Cultura,Bambini e famiglie,Cultura,Festival,Incontro,Rassegna
ATTACH;FMTTYPE=image/jpeg:https://tabianoterme.it/wp-content/uploads/2025/09/taddia-1-1024x577-1.jpg
ORGANIZER;CN="Coworking Salsomaggiore Terme":MAILTO:info@salsocoworking.it
END:VEVENT
BEGIN:VEVENT
DTSTART;TZID=Europe/Rome:20250925T100000
DTEND;TZID=Europe/Rome:20250928T190000
DTSTAMP:20260425T022155
CREATED:20250825T103237Z
LAST-MODIFIED:20250902T083922Z
UID:13592-1758794400-1759086000@tabianoterme.it
SUMMARY:Spiegamelo!2025
DESCRIPTION:Festival della divulgazione di Salsomaggiore Terme. Quattro giorni di idee e incontri gratuiti.\nTema: Felicità.\nSvolgimento: Spiegamelo!2025 dal 25 al 28 settembre.\n\n\nSpiegamelo! è un evento a entrata libera\, reso possibile dal sostegno di Fondazione Cariparma e Gruppo Theras. Lo affiancano L’Incontro – Ristorante Pizzeria\, Coop Alleanza 3.0\, Parchi del Ducato\, MUMAB – Museo Mare Antico e Biodiversità e Pubblica Assistenza Salsomaggiore Terme.\nLo patrocina il Comune di Salsomaggiore Terme.\n\n\nL’illustrazione di questa sesta edizione è stata realizzata da Philip Giordano.
URL:https://tabianoterme.it/event/spiegamelo2025/
LOCATION:Salsomaggiore Terme\, Parma\, 43039\, Italia
CATEGORIES:Arte e Cultura,Bambini e famiglie,Cultura,Incontro,Rassegna,Spettacolo,Sport,Workshop
ATTACH;FMTTYPE=image/jpeg:https://tabianoterme.it/wp-content/uploads/2025/08/manifesto-2025-spiegamelo-festival-philip-giordano-felicita-717x1024-1.jpeg
ORGANIZER;CN="Coworking Salsomaggiore Terme":MAILTO:info@salsocoworking.it
END:VEVENT
END:VCALENDAR